{"text_format":"1","workbook":"xlsx","n_sheets":15,"sheets":["Start","Facility Features","Hourly Factors","t=1","Output sheets (AP)","FlowChart","Facility Summary","Signal Timing","Admin","Unserved Vehicles","TTI","Speed","Delay","LOS Int.","LOS HCM Segment"],"not_rendered":{"charts":2,"images":13,"macros":1,"external_links":0,"defined_names":0,"comments":0,"pivot_tables":0},"unopened":[],"bounds":{"document_bytes":16777216,"sheet_cells":100000,"rows_first":2000,"rows_last":500,"rows_between":2000,"halvings":0,"cell_chars":16384,"cell_head_chars":4096},"cells_cut":0,"cells_raw":0,"read":"whole","date_system":"1900"}

{"sheet":"Start","index":0,"n_rows":303,"n_cols":17,"rows_kept":303,"cut":false,"hidden":false,"merged":[[2,1,2,11],[35,4,35,5],[27,4,27,5],[23,1,23,8]]}
[]
[null,"ARTVAL ARTerial eVALuation Version 1.0 (June 02, 2015)"]
[null,"ARTVAL is a model developed at the Institute for Transportation Research and Education (ITRE) at NC State University for the North Carolina Department of Transportation (NCDOT). It is a planning-level tool for analyzing operations on arterial streets, which can incorporate consideration of work zone activities on segments or intersections"]
[null,"Step 1 : Configure Global Input Data for the Arterial Street "]
[null,"Please enter the following data about the arterial street configuration.",null,null,null,null,null,2]
[]
[null,null,null,null,"Project Name:"]
[null,null,null,null,"Analyst Name:"]
[null,null,null,null,"No. of Features (combined #  Links and Intersections)*:",5,"* see note below"]
[null,null,null,null,"Analysis Start Time (Select from menu):","07:15:00",null,{"$f":"HOUR(F10)","v":7},{"$f":"MINUTE(F10)/15","v":1},{"$f":"4*H10+1*I10","v":29}]
[null,null,null,null,"Analysis End Time (Select from menu):","07:30:00",null,{"$f":"HOUR(F11)","v":7},{"$f":"MINUTE(F11)/15","v":2},{"$f":"4*H11+1*I11","v":30}]
[null,null,null,null,"Area Type (Select from Menu):","Urban",null,null,null,{"$f":"J11-J10","v":1}]
[null,null,null,null,"Facility Includes Curb? (Select from Menu):","Yes"]
[null,null,null,null,"Facility Includes Median? (Select from Menu):","Yes"]
[null,null,null,null,"Does this analysis include any work zone activity?","No"]
[null,null,null,null,"AM Peak Direction?","2NB","See Diagram Below for Assistance, and the Directions definition."]
[null,null,null,null,"Average Number of Driveways per Centerline mile:",18.7,{"$f":"IF(F12=\"Urban\",\"The default value is 18.7\",\"The default value is 9.0\")","v":"The default value is 18.7"}]
[null,null,null,null,"Percent Trucks on the Facility:",0.05]
[null,null,null,null,"User Delay Cost for Cars ($/Hr):",21.07,{"$f":"\"The default value is $\"&F19","v":"The default value is $21.07"}]
[null,null,null,null,"User Delay Cost for Trucks($/Hr):",26.08,{"$f":"\"The default value is $\"&F20","v":"The default value is $26.08"}]
[null,null,null,null,"Vehicle Operating Cost for Cars($/Hr):",22.85,"The default value is $22.85"]
[null,null,null,null,"Vehicle Operating Cost for Trucks($/Hr):",154.72999999999999,"The default value is $154.73"]
[null,null,null,null,null,null,null,{"$f":"(F22+F20)*F18+(F19+F21)*(1-F18)","v":50.764499999999998}]
[null,"Note : Below is a sample schematic of an Arterial Street System with three features (fea). The first and last feature are NOT included in the evaluation."]
[null,"All directions are labeled following NEMA naming conventions"]
[]
[]
[]
[]
[]
[]
[]
[]
[]
[]
[]
[]
[]
[]
[]
[]
[]
[]
[]
[]
[]
[]
[]
[]
[]
[]
[]
[]
[]
[]
[]
[]
[]
[]
[]
[]
[]
[]
[]
[]
[]
[]
[]
[]
[]
[]
[]
[]
[]
[]
[]
[]
[]
[]
[]
[]
[]
[]
[]
[null,null,null,null,null,null,null,null,null,null,null,null,null,null,null,null,"17:15:00"]
[null,null,null,null,null,null,null,null,null,null,null,null,null,null,null,null,"17:30:00"]
[null,null,null,null,null,null,null,null,null,null,null,null,null,null,null,null,"17:45:00"]
[null,null,null,null,null,null,null,null,null,null,null,null,null,null,null,null,"18:00:00"]
[null,null,null,null,null,null,null,null,null,null,null,null,null,null,null,null,"18:15:00"]
[null,null,null,null,null,null,null,null,null,null,null,null,null,null,null,null,"18:30:00"]
[null,null,null,null,null,null,null,null,null,null,null,null,null,null,null,null,"18:45:00"]
[null,null,null,null,null,null,null,null,null,null,null,null,null,null,null,null,"19:00:00"]
[null,null,null,null,null,null,null,null,null,null,null,null,null,null,null,null,"19:15:00"]
[null,null,null,null,null,null,null,null,null,null,null,null,null,null,null,null,"19:30:00"]
[null,null,null,null,null,null,null,null,null,null,null,null,null,null,null,null,"19:45:00"]
[null,null,null,null,null,null,null,null,null,null,null,null,null,null,null,null,"20:00:00"]
[null,null,null,null,null,null,null,null,null,null,null,null,null,null,null,null,"20:15:00"]
[null,null,null,null,null,null,null,null,null,null,null,null,null,null,null,null,"20:30:00"]
[null,null,null,null,null,null,null,null,null,null,null,null,null,null,null,null,"20:45:00"]
[null,null,null,null,null,null,null,null,null,null,null,null,null,null,null,null,"21:00:00"]
[null,null,null,null,null,null,null,null,null,null,null,null,null,null,null,null,"21:15:00"]
[null,null,null,null,null,null,null,null,null,null,null,null,null,null,null,null,"21:30:00"]
[null,null,null,null,null,null,null,null,null,null,null,null,null,null,null,null,"21:45:00"]
[null,null,null,null,null,null,null,null,null,null,null,null,null,null,null,null,"22:00:00"]
[null,null,null,null,null,null,null,null,null,null,null,null,null,null,null,null,"22:15:00"]
[null,null,null,null,null,null,null,null,null,null,null,null,null,null,null,null,"22:30:00"]
[null,null,null,null,null,null,null,null,null,null,null,null,null,null,null,null,"22:45:00"]
[null,null,null,null,null,null,null,null,null,null,null,null,null,null,null,null,"23:00:00"]
[null,null,null,null,null,null,null,null,null,null,null,null,null,null,null,null,"23:15:00"]
[null,null,null,null,null,null,null,null,null,null,null,null,null,null,null,null,"23:30:00"]
[null,null,null,null,null,null,null,null,null,null,null,null,null,null,null,null,"23:45:00"]
[null,null,null,null,null,null,null,null,null,null,null,null,null,null,null,null,1]
[null,null,null,null,null,null,null,null,null,null,null,null,null,null,null,null,1.0104166666666701]
[null,null,null,null,null,null,null,null,null,null,null,null,null,null,null,null,1.0208333333333299]
[null,null,null,null,null,null,null,null,null,null,null,null,null,null,null,null,1.03125]
[null,null,null,null,null,null,null,null,null,null,null,null,null,null,null,null,1.0416666666666701]
[null,null,null,null,null,null,null,null,null,null,null,null,null,null,null,null,1.0520833333333299]
[null,null,null,null,null,null,null,null,null,null,null,null,null,null,null,null,1.0625]
[null,null,null,null,null,null,null,null,null,null,null,null,null,null,null,null,1.0729166666666701]
[null,null,null,null,null,null,null,null,null,null,null,null,null,null,null,null,1.0833333333333299]
[null,null,null,null,null,null,null,null,null,null,null,null,null,null,null,null,1.09375]
[null,null,null,null,null,null,null,null,null,null,null,null,null,null,null,null,1.1041666666666701]
[null,null,null,null,null,null,null,null,null,null,null,null,null,null,null,null,1.1145833333333299]
[null,null,null,null,null,null,null,null,null,null,null,null,null,null,null,null,1.125]
[null,null,null,null,null,null,null,null,null,null,null,null,null,null,null,null,1.1354166666666701]
[null,null,null,null,null,null,null,null,null,null,null,null,null,null,null,null,1.1458333333333299]
[null,null,null,null,null,null,null,null,null,null,null,null,null,null,null,null,1.15625]
[null,null,null,null,null,null,null,null,null,null,null,null,null,null,null,null,1.1666666666666701]
[null,null,null,null,null,null,null,null,null,null,null,null,null,null,null,null,1.1770833333333299]
[null,null,null,null,null,null,null,null,null,null,null,null,null,null,null,null,1.1875]
[null,null,null,null,null,null,null,null,null,null,null,null,null,null,null,null,1.1979166666666701]
[null,null,null,null,null,null,null,null,null,null,null,null,null,null,null,null,1.2083333333333299]
[null,null,null,null,null,null,null,null,null,null,null,null,null,null,null,null,1.21875]
[null,null,null,null,null,null,null,null,null,null,null,null,null,null,null,null,1.2291666666666701]
[null,null,null,null,null,null,null,null,null,null,null,null,null,null,null,null,1.2395833333333299]
[null,null,null,null,null,null,null,null,null,null,null,null,null,null,null,null,1.25]
[null,null,null,null,null,null,null,null,null,null,null,null,null,null,null,null,1.2604166666666701]
[null,null,null,null,null,null,null,null,null,null,null,null,null,null,null,null,1.2708333333333299]
[null,null,null,null,null,null,null,null,null,null,null,null,null,null,null,null,1.28125]
[null,null,null,null,null,null,null,null,null,null,null,null,null,null,null,null,1.2916666666666701]
[null,null,null,null,null,null,null,null,null,null,null,null,null,null,null,null,1.3020833333333299]
[null,null,null,null,null,null,null,null,null,null,null,null,null,null,null,null,1.3125]
[null,null,null,null,null,null,null,null,null,null,null,null,null,null,null,null,1.3229166666666701]
[null,null,null,null,null,null,null,null,null,null,null,null,null,null,null,null,1.3333333333333299]
[null,null,null,null,null,null,null,null,null,null,null,null,null,null,null,null,1.34375]
[null,null,null,null,null,null,null,null,null,null,null,null,null,null,null,null,1.3541666666666701]
[null,null,null,null,null,null,null,null,null,null,null,null,null,null,null,null,1.3645833333333299]
[null,null,null,null,null,null,null,null,null,null,null,null,null,null,null,null,1.375]
[null,null,null,null,null,null,null,null,null,null,null,null,null,null,null,null,1.3854166666666701]
[null,null,null,null,null,null,null,null,null,null,null,null,null,null,null,null,1.3958333333333299]
[null,null,null,null,null,null,null,null,null,null,null,null,null,null,null,null,1.40625]
[null,null,null,null,null,null,null,null,null,null,null,null,null,null,null,null,1.4166666666666701]
[null,null,null,null,null,null,null,null,null,null,null,null,null,null,null,null,1.4270833333333299]
[null,null,null,null,null,null,null,null,null,null,null,null,null,null,null,null,1.4375]
[null,null,null,null,null,null,null,null,null,null,null,null,null,null,null,null,1.4479166666666701]
[null,null,null,null,null,null,null,null,null,null,null,null,null,null,null,null,1.4583333333333299]
[null,null,null,null,null,null,null,null,null,null,null,null,null,null,null,null,1.46875]
[null,null,null,null,null,null,null,null,null,null,null,null,null,null,null,null,1.4791666666666701]
[null,null,null,null,null,null,null,null,null,null,null,null,null,null,null,null,1.4895833333333299]
[null,null,null,null,null,null,null,null,null,null,null,null,null,null,null,null,1.5]
[null,null,null,null,null,null,null,null,null,null,null,null,null,null,null,null,1.5104166666666701]
[null,null,null,null,null,null,null,null,null,null,null,null,null,null,null,null,1.5208333333333299]
[null,null,null,null,null,null,null,null,null,null,null,null,null,null,null,null,1.53125]
[null,null,null,null,null,null,null,null,null,null,null,null,null,null,null,null,1.5416666666666701]
[null,null,null,null,null,null,null,null,null,null,null,null,null,null,null,null,1.5520833333333299]
[null,null,null,null,null,null,null,null,null,null,null,null,null,null,null,null,1.5625]
[null,null,null,null,null,null,null,null,null,null,null,null,null,null,null,null,1.5729166666666701]
[null,null,null,null,null,null,null,null,null,null,null,null,null,null,null,null,1.5833333333333299]
[null,null,null,null,null,null,null,null,null,null,null,null,null,null,null,null,1.59375]
[null,null,null,null,null,null,null,null,null,null,null,null,null,null,null,null,1.6041666666666701]
[null,null,null,null,null,null,null,null,null,null,null,null,null,null,null,null,1.6145833333333299]
[null,null,null,null,null,null,null,null,null,null,null,null,null,null,null,null,1.625]
[null,null,null,null,null,null,null,null,null,null,null,null,null,null,null,null,1.6354166666666701]
[null,null,null,null,null,null,null,null,null,null,null,null,null,null,null,null,1.6458333333333299]
[null,null,null,null,null,null,null,null,null,null,null,null,null,null,null,null,1.65625]
[null,null,null,null,null,null,null,null,null,null,null,null,null,null,null,null,1.6666666666666701]
[null,null,null,null,null,null,null,null,null,null,null,null,null,null,null,null,1.6770833333333299]
[null,null,null,null,null,null,null,null,null,null,null,null,null,null,null,null,1.6875]
[null,null,null,null,null,null,null,null,null,null,null,null,null,null,null,null,1.6979166666666701]
[null,null,null,null,null,null,null,null,null,null,null,null,null,null,null,null,1.7083333333333299]
[null,null,null,null,null,null,null,null,null,null,null,null,null,null,null,null,1.71875]
[null,null,null,null,null,null,null,null,null,null,null,null,null,null,null,null,1.7291666666666701]
[null,null,null,null,null,null,null,null,null,null,null,null,null,null,null,null,1.7395833333333299]
[null,null,null,null,null,null,null,null,null,null,null,null,null,null,null,null,1.75]
[null,null,null,null,null,null,null,null,null,null,null,null,null,null,null,null,1.7604166666666701]
[null,null,null,null,null,null,null,null,null,null,null,null,null,null,null,null,1.7708333333333299]
[null,null,null,null,null,null,null,null,null,null,null,null,null,null,null,null,1.78125]
[null,null,null,null,null,null,null,null,null,null,null,null,null,null,null,null,1.7916666666666701]
[null,null,null,null,null,null,null,null,null,null,null,null,null,null,null,null,1.8020833333333299]
[null,null,null,null,null,null,null,null,null,null,null,null,null,null,null,null,1.8125]
[null,null,null,null,null,null,null,null,null,null,null,null,null,null,null,null,1.8229166666666701]
[null,null,null,null,null,null,null,null,null,null,null,null,null,null,null,null,1.8333333333333299]
[null,null,null,null,null,null,null,null,null,null,null,null,null,null,null,null,1.84375]
[null,null,null,null,null,null,null,null,null,null,null,null,null,null,null,null,1.8541666666666701]
[null,null,null,null,null,null,null,null,null,null,null,null,null,null,null,null,1.8645833333333299]
[null,null,null,null,null,null,null,null,null,null,null,null,null,null,null,null,1.875]
[null,null,null,null,null,null,null,null,null,null,null,null,null,null,null,null,1.8854166666666701]
[null,null,null,null,null,null,null,null,null,null,null,null,null,null,null,null,1.8958333333333299]
[null,null,null,null,null,null,null,null,null,null,null,null,null,null,null,null,1.90625]
[null,null,null,null,null,null,null,null,null,null,null,null,null,null,null,null,1.9166666666666701]
[null,null,null,null,null,null,null,null,null,null,null,null,null,null,null,null,1.9270833333333299]
[null,null,null,null,null,null,null,null,null,null,null,null,null,null,null,null,1.9375]
[null,null,null,null,null,null,null,null,null,null,null,null,null,null,null,null,1.9479166666666701]
[null,null,null,null,null,null,null,null,null,null,null,null,null,null,null,null,1.9583333333333299]
[null,null,null,null,null,null,null,null,null,null,null,null,null,null,null,null,1.96875]
[null,null,null,null,null,null,null,null,null,null,null,null,null,null,null,null,1.9791666666666701]
[null,null,null,null,null,null,null,null,null,null,null,null,null,null,null,null,1.9895833333333299]
[null,null,null,null,null,null,null,null,null,null,null,null,null,null,null,null,2]
[null,null,null,null,null,null,null,null,null,null,null,null,null,null,null,null,2.0104166666666701]
[null,null,null,null,null,null,null,null,null,null,null,null,null,null,null,null,2.0208333333333299]
[null,null,null,null,null,null,null,null,null,null,null,null,null,null,null,null,2.03125]
[null,null,null,null,null,null,null,null,null,null,null,null,null,null,null,null,2.0416666666666701]
[null,null,null,null,null,null,null,null,null,null,null,null,null,null,null,null,2.0520833333333299]
[null,null,null,null,null,null,null,null,null,null,null,null,null,null,null,null,2.0625]
[null,null,null,null,null,null,null,null,null,null,null,null,null,null,null,null,2.0729166666666701]
[null,null,null,null,null,null,null,null,null,null,null,null,null,null,null,null,2.0833333333333299]
[null,null,null,null,null,null,null,null,null,null,null,null,null,null,null,null,2.09375]
[null,null,null,null,null,null,null,null,null,null,null,null,null,null,null,null,2.1041666666666701]
[null,null,null,null,null,null,null,null,null,null,null,null,null,null,null,null,2.1145833333333299]
[null,null,null,null,null,null,null,null,null,null,null,null,null,null,null,null,2.125]
[null,null,null,null,null,null,null,null,null,null,null,null,null,null,null,null,2.1354166666666701]
[null,null,null,null,null,null,null,null,null,null,null,null,null,null,null,null,2.1458333333333299]
[null,null,null,null,null,null,null,null,null,null,null,null,null,null,null,null,2.15625]
[null,null,null,null,null,null,null,null,null,null,null,null,null,null,null,null,2.1666666666666701]
[null,null,null,null,null,null,null,null,null,null,null,null,null,null,null,null,2.1770833333333299]
[null,null,null,null,null,null,null,null,null,null,null,null,null,null,null,null,2.1875]
[null,null,null,null,null,null,null,null,null,null,null,null,null,null,null,null,2.1979166666666701]
[null,null,null,null,null,null,null,null,null,null,null,null,null,null,null,null,2.2083333333333299]
[null,null,null,null,null,null,null,null,null,null,null,null,null,null,null,null,2.21875]
[null,null,null,null,null,null,null,null,null,null,null,null,null,null,null,null,2.2291666666666701]
[null,null,null,null,null,null,null,null,null,null,null,null,null,null,null,null,2.2395833333333299]
[null,null,null,null,null,null,null,null,null,null,null,null,null,null,null,null,2.25]
[null,null,null,null,null,null,null,null,null,null,null,null,null,null,null,null,2.2604166666666701]
[null,null,null,null,null,null,null,null,null,null,null,null,null,null,null,null,2.2708333333333299]
[null,null,null,null,null,null,null,null,null,null,null,null,null,null,null,null,2.28125]
[null,null,null,null,null,null,null,null,null,null,null,null,null,null,null,null,2.2916666666666701]
[null,null,null,null,null,null,null,null,null,null,null,null,null,null,null,null,2.3020833333333299]
[null,null,null,null,null,null,null,null,null,null,null,null,null,null,null,null,2.3125]
[null,null,null,null,null,null,null,null,null,null,null,null,null,null,null,null,2.3229166666666701]
[null,null,null,null,null,null,null,null,null,null,null,null,null,null,null,null,2.3333333333333299]
[null,null,null,null,null,null,null,null,null,null,null,null,null,null,null,null,2.34375]
[null,null,null,null,null,null,null,null,null,null,null,null,null,null,null,null,2.3541666666666701]
[null,null,null,null,null,null,null,null,null,null,null,null,null,null,null,null,2.3645833333333299]
[null,null,null,null,null,null,null,null,null,null,null,null,null,null,null,null,2.375]
[null,null,null,null,null,null,null,null,null,null,null,null,null,null,null,null,2.3854166666666701]
[null,null,null,null,null,null,null,null,null,null,null,null,null,null,null,null,2.3958333333333299]
[null,null,null,null,null,null,null,null,null,null,null,null,null,null,null,null,2.40625]
[null,null,null,null,null,null,null,null,null,null,null,null,null,null,null,null,2.4166666666666701]
[null,null,null,null,null,null,null,null,null,null,null,null,null,null,null,null,2.4270833333333299]
[null,null,null,null,null,null,null,null,null,null,null,null,null,null,null,null,2.4375]
[null,null,null,null,null,null,null,null,null,null,null,null,null,null,null,null,2.4479166666666701]
[null,null,null,null,null,null,null,null,null,null,null,null,null,null,null,null,2.4583333333333299]
[null,null,null,null,null,null,null,null,null,null,null,null,null,null,null,null,2.46875]
[null,null,null,null,null,null,null,null,null,null,null,null,null,null,null,null,2.4791666666666701]
[null,null,null,null,null,null,null,null,null,null,null,null,null,null,null,null,2.4895833333333299]
[null,null,null,null,null,null,null,null,null,null,null,null,null,null,null,null,2.5]
[null,null,null,null,null,null,null,null,null,null,null,null,null,null,null,null,2.5104166666666701]
[null,null,null,null,null,null,null,null,null,null,null,null,null,null,null,null,2.5208333333333299]
[null,null,null,null,null,null,null,null,null,null,null,null,null,null,null,null,2.53125]
[null,null,null,null,null,null,null,null,null,null,null,null,null,null,null,null,2.5416666666666701]
[null,null,null,null,null,null,null,null,null,null,null,null,null,null,null,null,2.5520833333333299]
[null,null,null,null,null,null,null,null,null,null,null,null,null,null,null,null,2.5625]
[null,null,null,null,null,null,null,null,null,null,null,null,null,null,null,null,2.5729166666666701]
[null,null,null,null,null,null,null,null,null,null,null,null,null,null,null,null,2.5833333333333299]
[null,null,null,null,null,null,null,null,null,null,null,null,null,null,null,null,2.59375]
[null,null,null,null,null,null,null,null,null,null,null,null,null,null,null,null,2.6041666666666701]
[null,null,null,null,null,null,null,null,null,null,null,null,null,null,null,null,2.6145833333333299]
[null,null,null,null,null,null,null,null,null,null,null,null,null,null,null,null,2.625]
[null,null,null,null,null,null,null,null,null,null,null,null,null,null,null,null,2.6354166666666701]
[null,null,null,null,null,null,null,null,null,null,null,null,null,null,null,null,2.6458333333333299]
[null,null,null,null,null,null,null,null,null,null,null,null,null,null,null,null,2.65625]
[null,null,null,null,null,null,null,null,null,null,null,null,null,null,null,null,2.6666666666666701]
[null,null,null,null,null,null,null,null,null,null,null,null,null,null,null,null,2.6770833333333299]
[null,null,null,null,null,null,null,null,null,null,null,null,null,null,null,null,2.6875]
[null,null,null,null,null,null,null,null,null,null,null,null,null,null,null,null,2.6979166666666701]
[null,null,null,null,null,null,null,null,null,null,null,null,null,null,null,null,2.7083333333333299]
[null,null,null,null,null,null,null,null,null,null,null,null,null,null,null,null,2.71875]
[null,null,null,null,null,null,null,null,null,null,null,null,null,null,null,null,2.7291666666666701]
[null,null,null,null,null,null,null,null,null,null,null,null,null,null,null,null,2.7395833333333299]
[null,null,null,null,null,null,null,null,null,null,null,null,null,null,null,null,2.75]
[null,null,null,null,null,null,null,null,null,null,null,null,null,null,null,null,2.7604166666666701]
[null,null,null,null,null,null,null,null,null,null,null,null,null,null,null,null,2.7708333333333299]
[null,null,null,null,null,null,null,null,null,null,null,null,null,null,null,null,2.78125]
[null,null,null,null,null,null,null,null,null,null,null,null,null,null,null,null,2.7916666666666701]
[null,null,null,null,null,null,null,null,null,null,null,null,null,null,null,null,2.8020833333333299]
[null,null,null,null,null,null,null,null,null,null,null,null,null,null,null,null,2.8125]
[null,null,null,null,null,null,null,null,null,null,null,null,null,null,null,null,2.8229166666666701]
[null,null,null,null,null,null,null,null,null,null,null,null,null,null,null,null,2.8333333333333299]
[null,null,null,null,null,null,null,null,null,null,null,null,null,null,null,null,2.84375]
[null,null,null,null,null,null,null,null,null,null,null,null,null,null,null,null,2.8541666666666701]
[null,null,null,null,null,null,null,null,null,null,null,null,null,null,null,null,2.8645833333333299]
[null,null,null,null,null,null,null,null,null,null,null,null,null,null,null,null,2.875]
[null,null,null,null,null,null,null,null,null,null,null,null,null,null,null,null,2.8854166666666701]
[null,null,null,null,null,null,null,null,null,null,null,null,null,null,null,null,2.8958333333333299]
[null,null,null,null,null,null,null,null,null,null,null,null,null,null,null,null,2.90625]
[null,null,null,null,null,null,null,null,null,null,null,null,null,null,null,null,2.9166666666666701]
[null,null,null,null,null,null,null,null,null,null,null,null,null,null,null,null,2.9270833333333299]
[null,null,null,null,null,null,null,null,null,null,null,null,null,null,null,null,2.9375]
[null,null,null,null,null,null,null,null,null,null,null,null,null,null,null,null,2.9479166666666701]
[null,null,null,null,null,null,null,null,null,null,null,null,null,null,null,null,2.9583333333333299]
[null,null,null,null,null,null,null,null,null,null,null,null,null,null,null,null,2.96875]
[null,null,null,null,null,null,null,null,null,null,null,null,null,null,null,null,2.9791666666666701]
[null,null,null,null,null,null,null,null,null,null,null,null,null,null,null,null,2.9895833333333299]

{"sheet":"Facility Features","index":1,"n_rows":48,"n_cols":10,"rows_kept":48,"cut":false,"hidden":false,"merged":[[4,1,4,2],[14,1,14,2],[21,1,21,2],[22,1,22,2],[32,1,39,1],[40,1,47,1],[31,1,31,2],[5,1,5,2],[6,1,6,2],[7,1,7,2],[8,1,8,2],[13,1,13,2],[15,1,16,1],[17,1,18,1],[23,1,25,1],[26,1,28,1]]}
[]
[null,"Step 2a : Enter Basic Arterial Street Data   "]
[null,"Please enter basic geometric and demand information for the facility. If the work zone analysis option is not selected in Step 1, then  work zone related fields are hidden"]
[null,"Basic Geometric Data"]
[null,"Feature Number:",null,"-",1,2,3,4,5,"-"]
[null,"Feature Name (Enter Street or intersection name):",null,"-",null,null,null,null,null,"-"]
[null,"Feature Type (Segment, Signalized Intersection):",null,"Link","Int.","Link","Int.","Link","Int.","Link"]
[null,"Feature Length or width (ft):",null,0,null,null,null,null,null,0]
[null,"WZ Active (Direction 1, Direction 2, Both Directions, None):",null,"NA","None","None","None","None","None","None"]
[null,{"$f":"\"Direction \" &Start!F16","v":"Direction 2NB"},null,0,{"$f":"D10+E8","v":0},0,0,0,0,0]
[null,null,null,1,1,1,1,1,1,1]
[null,null,null,{"$f":"IF(D7<>\"Link\",D6,\"\")","v":""},{"$f":"IF(E7<>\"Link\",E6,\"\")","v":0},{"$f":"IF(F7<>\"Link\",F6,\"\")","v":""},{"$f":"IF(G7<>\"Link\",G6,\"\")","v":0},{"$f":"IF(H7<>\"Link\",H6,\"\")","v":""},0,""]
[null,"Main Street Data"]
[null,"Feature Number:",null,"-",1,2,3,4,5,"-"]
[null,"Average Annual Daily Traffic, AADT (BOTH DIRECTIONS)"]
[null,"Direction 2","Number of Through Lanes on Approach:"]
[null,null,"Speed Limit (mph):"]
[null,"Direction 6","Number of Through Lanes on the Approach:"]
[null,null,"Speed Limit (mph):"]
[]
[null,"Cross Street Data"]
[null,"Feature Number:",null,"-",1,2,3,4,5,"-"]
[null,"Facility Type:"]
[null,"Direction 4","Directional AADT:"]
[null,null,"Directional Distribution for AADT (towards the intersection):"]
[null,null,"Number of Through Lanes on the Approach:"]
[null," Direction 8","Directional AADT:"]
[null,null,"Directional Distribution for AADT (towards the intersection):"]
[null,null,"Number of Through Lanes on the Approach:"]
[]
[null,"Main Street Work Zone Data Entry"]
[null,"Feature Number:",null,"-",1,2,3,4,5,16]
[null,"Direction 2","Number of Through Lanes Closed:"]
[null,null,"Exclusive Turning Lanes Closed (none, right, left, both):"]
[null,null,"Presence of Ledge (yes/no):"]
[null,null,"Work Intensity (light/heavy):"]
[null,null,"Pavement Condition (smooth/milled):"]
[null,null,"Right Turn Geometry (tight/wide):"]
[null,null,"Start 15 Minute Time Interval"]
[null,null,"Finish 15 Minute Time Interval:"]
[null,"Direction 6","Number of Through Lanes Closed:"]
[null,null,"Exclusive Turning Lanes Closed (none, right, left, both):"]
[null,null,"Presence of Ledge (yes/no):"]
[null,null,"Work Intensity (light/heavy):"]
[null,null,"Pavement Condition (smooth/milled):"]
[null,null,"Right Turn Geometry (tight/wide):"]
[null,null,"Start 15 Minute Time Interval"]
[null,null,"Finish 15 Minute Time Interval:"]

{"sheet":"Hourly Factors","index":2,"n_rows":112,"n_cols":16,"rows_kept":112,"cut":false,"hidden":false,"merged":[[10,2,10,3],[10,4,11,4],[10,5,11,5]]}
[]
[null,null,"Step 2b : Enter Hourly Demand Factors for the Arterial Street"]
[]
[null,null,"Please enter the hourly demand distribution covering the entire study period in the table below."]
[null,null,"- The demand factor represents the portion of average daily traffic occuring by direction each hour of the day."]
[null,null,"- The selected analysis period from step 1 is highlighted in yello"]
[null,null,"- The hourly demand factors will automatically be converted into 15-minute flow rates by linear interpolation."]
[null,null,"- If the analysts do not have access to this information, they can populate the table with defaults values."]
[null,null,"- The analyst can override any value in the yellow cells and insert facility specific hourly factors at any time."]
[null,null,"WARNING: The sum of hourly demand distribution should be equal to 100% for each direction.",null,null,null,{"$f":"G106","v":3.486015403323875E-3},4.5252525252525251E-3,null,null,null,null,{"$f":"H10","v":4.5252525252525251E-3}]
[null,null,"Hour",null,"% AADT in Direction 2 (In Indicated Hour)","% AADT in Direction 6 (In Indicated Hour)",3.486015403323875E-3,4.5252525252525251E-3,null,null,null,null,{"$f":"H11","v":4.5252525252525251E-3}]
[null,null,"From","To",null,null,3.486015403323875E-3,4.5252525252525251E-3,"hr start","hr end","k_fac Direction 2",null,4.5252525252525251E-3,"hr start","hr end","k_fac Direction 6"]
[null,null,"00:00:00",1.0416666666666667,1.9456830158086746E-3,2.1818181818181819E-3,{"$f":"E13","v":1.9456830158086746E-3},{"$f":"F13","v":2.1818181818181819E-3},"00:00:00","00:15:00",{"$f":"IF(MINUTE(J13)=30,G13,IF(MINUTE(J13)=15,0.75*G13+0.25*G12,IF(MINUTE(J13)=45,0.75*G13+0.25*G15,IF(MINUTE(J13)=0,0.5*G13+0.5*G14,0))))","v":2.3307661126874745E-3},null,2.1818181818181819E-3,"00:00:00","00:15:00",{"$f":"IF(MINUTE(O13)=30,M13,IF(MINUTE(O13)=15,0.75*M13+0.25*M12,IF(MINUTE(O13)=45,0.75*M13+0.25*M15,IF(MINUTE(O13)=0,0.5*M13+0.5*M14,0))))","v":2.7676767676767678E-3}]
[null,null,1.0416666666666667,2.0833333333333335,1.8646128901499799E-3,1.9393939393939393E-3,{"$f":"E13","v":1.9456830158086746E-3},{"$f":"F13","v":2.1818181818181819E-3},"00:15:00","00:30:00",{"$f":"IF(MINUTE(J14)=30,G14,IF(MINUTE(J14)=15,0.75*G14+0.25*G13,IF(MINUTE(J14)=45,0.75*G14+0.25*G16,IF(MINUTE(J14)=0,0.5*G14+0.5*G15,0))))","v":1.9456830158086746E-3},null,2.1818181818181819E-3,"00:15:00","00:30:00",{"$f":"IF(MINUTE(O14)=30,M14,IF(MINUTE(O14)=15,0.75*M14+0.25*M13,IF(MINUTE(O14)=45,0.75*M14+0.25*M16,IF(MINUTE(O14)=0,0.5*M14+0.5*M15,0))))","v":2.1818181818181819E-3}]
[null,null,2.0833333333333335,1.125,4.8642075395216865E-4,7.2727272727272723E-4,{"$f":"E13","v":1.9456830158086746E-3},{"$f":"F13","v":2.1818181818181819E-3},"00:30:00","00:45:00",1.9254154843940008E-3,null,2.1818181818181819E-3,"00:30:00","00:45:00",2.121212121212121E-3]
[null,null,1.125,1.1666666666666701,7.2963113092825295E-4,1.4545454545454545E-3,{"$f":"E13","v":1.9456830158086746E-3},{"$f":"F13","v":2.1818181818181819E-3},"00:45:00","01:00:00",1.9051479529793272E-3,null,2.1818181818181819E-3,"00:45:00","01:00:00",2.0606060606060605E-3]
[null,null,1.1666666666666701,1.2083333333333299,2.0267531414673691E-3,2.6666666666666666E-3,{"$f":"E14","v":1.8646128901499799E-3},{"$f":"F14","v":1.9393939393939393E-3},"01:00:00","01:15:00",1.8848804215646536E-3,null,1.9393939393939393E-3,"01:00:00","01:15:00",2E-3]
[null,null,1.2083333333333299,1.25,8.4312930685042555E-3,1.2040404040404041E-2,{"$f":"E14","v":1.8646128901499799E-3},{"$f":"F14","v":1.9393939393939393E-3},"01:15:00","01:30:00",1.8646128901499799E-3,null,1.9393939393939393E-3,"01:15:00","01:30:00",1.9393939393939393E-3]
[null,null,1.25,1.2916666666666701,3.6400486420753955E-2,3.7494949494949498E-2,{"$f":"E14","v":1.8646128901499799E-3},{"$f":"F14","v":1.9393939393939393E-3},"01:30:00","01:45:00",1.5200648561005271E-3,null,1.9393939393939393E-3,"01:30:00","01:45:00",1.6363636363636363E-3]
[null,null,1.2916666666666701,1.3333333333333299,7.685447912444264E-2,8.727272727272728E-2,{"$f":"E14","v":1.8646128901499799E-3},{"$f":"F14","v":1.9393939393939393E-3},"01:45:00","02:00:00",1.1755168220510743E-3,null,1.9393939393939393E-3,"01:45:00","02:00:00",1.3333333333333333E-3]
[null,null,1.3333333333333299,1.375,7.6773408998783946E-2,8.9939393939393944E-2,{"$f":"E15","v":4.8642075395216865E-4},{"$f":"F15","v":7.2727272727272723E-4},"02:00:00","02:15:00",8.3096878800162149E-4,null,7.2727272727272723E-4,"02:00:00","02:15:00",1.0303030303030303E-3]
[null,null,1.375,1.4166666666666701,6.1613295500608026E-2,5.9313131313131311E-2,{"$f":"E15","v":4.8642075395216865E-4},{"$f":"F15","v":7.2727272727272723E-4},"02:15:00","02:30:00",4.8642075395216865E-4,null,7.2727272727272723E-4,"02:15:00","02:30:00",7.2727272727272723E-4]
[null,null,1.4166666666666701,1.4583333333333299,4.9533846777462504E-2,4.4606060606060607E-2,{"$f":"E15","v":4.8642075395216865E-4},{"$f":"F15","v":7.2727272727272723E-4},"02:30:00","02:45:00",5.4722334819618966E-4,null,7.2727272727272723E-4,"02:30:00","02:45:00",9.0909090909090898E-4]
[null,null,1.4583333333333299,1.5,5.8613700851236322E-2,5.5757575757575756E-2,{"$f":"E15","v":4.8642075395216865E-4},{"$f":"F15","v":7.2727272727272723E-4},"02:45:00","03:00:00",6.0802594244021083E-4,null,7.2727272727272723E-4,"02:45:00","03:00:00",1.0909090909090907E-3]
[null,null,1.5,1.5416666666666701,6.2910417511147149E-2,5.624242424242424E-2,{"$f":"E16","v":7.2963113092825295E-4},{"$f":"F16","v":1.4545454545454545E-3},"03:00:00","03:15:00",6.6882853668423178E-4,null,1.4545454545454545E-3,"03:00:00","03:15:00",1.2727272727272726E-3]
[null,null,1.5416666666666701,1.5833333333333299,5.8694770976895017E-2,5.6404040404040401E-2,{"$f":"G25","v":7.2963113092825295E-4},1.4545454545454545E-3,"03:15:00","03:30:00",7.2963113092825295E-4,null,1.4545454545454545E-3,"03:15:00","03:30:00",1.4545454545454545E-3]
[null,null,1.5833333333333299,1.625,6.388325901905148E-2,6.6343434343434343E-2,7.2963113092825295E-4,1.4545454545454545E-3,"03:30:00","03:45:00",1.0539116335630319E-3,null,1.4545454545454545E-3,"03:30:00","03:45:00",1.7575757575757573E-3]
[null,null,1.625,1.6666666666666701,7.4827725982975268E-2,7.2727272727272724E-2,7.2963113092825295E-4,1.4545454545454545E-3,"03:45:00","04:00:00",1.3781921361978111E-3,null,1.4545454545454545E-3,"03:45:00","04:00:00",2.0606060606060605E-3]
[null,null,1.6666666666666701,1.7083333333333299,8.8609647344953385E-2,8.3717171717171718E-2,{"$f":"E17","v":2.0267531414673691E-3},{"$f":"F17","v":2.6666666666666666E-3},"04:00:00","04:15:00",1.7024726388325901E-3,null,2.6666666666666666E-3,"04:00:00","04:15:00",2.3636363636363638E-3]
[null,null,1.7083333333333299,1.75,0.10522902310498582,9.3010101010101015E-2,{"$f":"G29","v":2.0267531414673691E-3},2.6666666666666666E-3,"04:15:00","04:30:00",2.0267531414673691E-3,null,2.6666666666666666E-3,"04:15:00","04:30:00",2.6666666666666666E-3]
[null,null,1.75,1.7916666666666701,6.8666396432914473E-2,6.2787878787878781E-2,2.0267531414673691E-3,2.6666666666666666E-3,"04:30:00","04:45:00",3.6278881232265905E-3,null,2.6666666666666666E-3,"04:30:00","04:45:00",5.0101010101010097E-3]
[null,null,1.7916666666666701,1.8333333333333299,3.9400081070125659E-2,4.7272727272727272E-2,2.0267531414673691E-3,2.6666666666666666E-3,"04:45:00","05:00:00",5.2290231049858128E-3,null,2.6666666666666666E-3,"04:45:00","05:00:00",7.3535353535353534E-3]
[null,null,1.8333333333333299,1.875,2.9995946493717066E-2,3.2969696969696968E-2,{"$f":"E18","v":8.4312930685042555E-3},{"$f":"F18","v":1.2040404040404041E-2},"05:00:00","05:15:00",6.8301580867450333E-3,null,1.2040404040404041E-2,"05:00:00","05:15:00",9.696969696969697E-3]
[null,null,1.875,1.9166666666666701,2.0105391163356304E-2,1.9313131313131313E-2,{"$f":"G33","v":8.4312930685042555E-3},1.2040404040404041E-2,"05:15:00","05:30:00",8.4312930685042555E-3,null,1.2040404040404041E-2,"05:15:00","05:30:00",1.2040404040404041E-2]
[null,null,1.9166666666666701,1.9583333333333299,8.9177138224564249E-3,9.2929292929292938E-3,8.4312930685042555E-3,1.2040404040404041E-2,"05:30:00","05:45:00",1.542359140656668E-2,null,1.2040404040404041E-2,"05:30:00","05:45:00",1.8404040404040405E-2]
[null,null,1.9583333333333299,2,3.486015403323875E-3,4.5252525252525251E-3,8.4312930685042555E-3,1.2040404040404041E-2,"05:45:00","06:00:00",2.2415889744629106E-2,null,1.2040404040404041E-2,"05:45:00","06:00:00",2.4767676767676768E-2]
[null,null,null,"sum=",{"$f":"SUM(E13:E36)","v":0.99999999999999989},{"$f":"SUM(F13:F36)","v":0.99999999999999989},{"$f":"E19","v":3.6400486420753955E-2},{"$f":"F19","v":3.7494949494949498E-2},"06:00:00","06:15:00",2.9408188082691529E-2,null,3.7494949494949498E-2,"06:00:00","06:15:00",3.1131313131313135E-2]
[null,null,null,null,null,26,{"$f":"G37","v":3.6400486420753955E-2},3.7494949494949498E-2,"06:15:00","06:30:00",3.6400486420753955E-2,null,3.7494949494949498E-2,"06:15:00","06:30:00",3.7494949494949498E-2]
[null,null,null,null,null,27,3.6400486420753955E-2,3.7494949494949498E-2,"06:30:00","06:45:00",4.6513984596676126E-2,null,3.7494949494949498E-2,"06:30:00","06:45:00",4.9939393939393943E-2]
[null,null,null,null,null,28,3.6400486420753955E-2,3.7494949494949498E-2,"06:45:00","07:00:00",5.6627482772598298E-2,null,3.7494949494949498E-2,"06:45:00","07:00:00",6.2383838383838389E-2]
[null,null,null,null,null,29,{"$f":"E20","v":7.685447912444264E-2},{"$f":"F20","v":8.727272727272728E-2},"07:00:00","07:15:00",6.6740980948520462E-2,null,8.727272727272728E-2,"07:00:00","07:15:00",7.4828282828282827E-2]
[null,null,null,null,null,30,{"$f":"G41","v":7.685447912444264E-2},8.727272727272728E-2,"07:15:00","07:30:00",7.685447912444264E-2,null,8.727272727272728E-2,"07:15:00","07:30:00",8.727272727272728E-2]
[null,null,null,null,null,31,7.685447912444264E-2,8.727272727272728E-2,"07:30:00","07:45:00",7.683421159302796E-2,null,8.727272727272728E-2,"07:30:00","07:45:00",8.7939393939393942E-2]
[null,null,null,null,null,32,7.685447912444264E-2,8.727272727272728E-2,"07:45:00","08:00:00",7.6813944061613293E-2,null,8.727272727272728E-2,"07:45:00","08:00:00",8.8606060606060605E-2]
[null,null,null,null,null,33,{"$f":"E21","v":7.6773408998783946E-2},{"$f":"F21","v":8.9939393939393944E-2},"08:00:00","08:15:00",7.6793676530198626E-2,null,8.9939393939393944E-2,"08:00:00","08:15:00",8.9272727272727281E-2]
[null,null,null,null,null,34,{"$f":"G45","v":7.6773408998783946E-2},8.9939393939393944E-2,"08:15:00","08:30:00",7.6773408998783946E-2,null,8.9939393939393944E-2,"08:15:00","08:30:00",8.9939393939393944E-2]
[null,null,null,null,null,35,7.6773408998783946E-2,8.9939393939393944E-2,"08:30:00","08:45:00",7.2983380624239966E-2,null,8.9939393939393944E-2,"08:30:00","08:45:00",8.2282828282828291E-2]
[null,null,null,null,null,36,7.6773408998783946E-2,8.9939393939393944E-2,"08:45:00","09:00:00",6.9193352249695986E-2,null,8.9939393939393944E-2,"08:45:00","09:00:00",7.4626262626262624E-2]
[null,null,null,null,null,37,{"$f":"E22","v":6.1613295500608026E-2},{"$f":"F22","v":5.9313131313131311E-2},"09:00:00","09:15:00",6.5403323875152006E-2,null,5.9313131313131311E-2,"09:00:00","09:15:00",6.6969696969696971E-2]
[null,null,null,null,null,38,{"$f":"G49","v":6.1613295500608026E-2},5.9313131313131311E-2,"09:15:00","09:30:00",6.1613295500608026E-2,null,5.9313131313131311E-2,"09:15:00","09:30:00",5.9313131313131311E-2]
[null,null,null,null,null,39,6.1613295500608026E-2,5.9313131313131311E-2,"09:30:00","09:45:00",5.8593433319821649E-2,null,5.9313131313131311E-2,"09:30:00","09:45:00",5.5636363636363637E-2]
[null,null,null,null,null,40,6.1613295500608026E-2,5.9313131313131311E-2,"09:45:00","10:00:00",5.5573571139035265E-2,null,5.9313131313131311E-2,"09:45:00","10:00:00",5.1959595959595956E-2]
[null,null,null,null,null,41,{"$f":"E23","v":4.9533846777462504E-2},{"$f":"F23","v":4.4606060606060607E-2},"10:00:00","10:15:00",5.2553708958248888E-2,null,4.4606060606060607E-2,"10:00:00","10:15:00",4.8282828282828288E-2]
[null,null,null,null,null,42,{"$f":"G53","v":4.9533846777462504E-2},4.4606060606060607E-2,"10:15:00","10:30:00",4.9533846777462504E-2,null,4.4606060606060607E-2,"10:15:00","10:30:00",4.4606060606060607E-2]
[null,null,null,null,null,43,4.9533846777462504E-2,4.4606060606060607E-2,"10:30:00","10:45:00",5.1803810295905958E-2,null,4.4606060606060607E-2,"10:30:00","10:45:00",4.7393939393939398E-2]
[null,null,null,null,null,44,4.9533846777462504E-2,4.4606060606060607E-2,"10:45:00","11:00:00",5.4073773814349413E-2,null,4.4606060606060607E-2,"10:45:00","11:00:00",5.0181818181818182E-2]
[null,null,null,null,null,45,{"$f":"E24","v":5.8613700851236322E-2},{"$f":"F24","v":5.5757575757575756E-2},"11:00:00","11:15:00",5.6343737332792868E-2,null,5.5757575757575756E-2,"11:00:00","11:15:00",5.2969696969696972E-2]
[null,null,null,null,null,46,{"$f":"G57","v":5.8613700851236322E-2},5.5757575757575756E-2,"11:15:00","11:30:00",5.8613700851236322E-2,null,5.5757575757575756E-2,"11:15:00","11:30:00",5.5757575757575756E-2]
[null,null,null,null,null,47,5.8613700851236322E-2,5.5757575757575756E-2,"11:30:00","11:45:00",5.9687880016214029E-2,null,5.5757575757575756E-2,"11:30:00","11:45:00",5.5878787878787875E-2]
[null,null,null,null,null,48,5.8613700851236322E-2,5.5757575757575756E-2,"11:45:00","12:00:00",6.0762059181191735E-2,null,5.5757575757575756E-2,"11:45:00","12:00:00",5.5999999999999994E-2]
[null,null,null,null,null,49,{"$f":"E25","v":6.2910417511147149E-2},{"$f":"F25","v":5.624242424242424E-2},"12:00:00","12:15:00",6.1836238346169442E-2,null,5.624242424242424E-2,"12:00:00","12:15:00",5.612121212121212E-2]
[null,null,null,null,null,50,{"$f":"G61","v":6.2910417511147149E-2},5.624242424242424E-2,"12:15:00","12:30:00",6.2910417511147149E-2,null,5.624242424242424E-2,"12:15:00","12:30:00",5.624242424242424E-2]
[null,null,null,null,null,51,6.2910417511147149E-2,5.624242424242424E-2,"12:30:00","12:45:00",6.1856505877584116E-2,null,5.624242424242424E-2,"12:30:00","12:45:00",5.6282828282828282E-2]
[null,null,null,null,null,52,6.2910417511147149E-2,5.624242424242424E-2,"12:45:00","13:00:00",6.0802594244021083E-2,null,5.624242424242424E-2,"12:45:00","13:00:00",5.6323232323232317E-2]
[null,null,null,null,null,53,{"$f":"E26","v":5.8694770976895017E-2},{"$f":"F26","v":5.6404040404040401E-2},"13:00:00","13:15:00",5.974868261045805E-2,null,5.6404040404040401E-2,"13:00:00","13:15:00",5.6363636363636359E-2]
[null,null,null,null,null,54,{"$f":"G65","v":5.8694770976895017E-2},5.6404040404040401E-2,"13:15:00","13:30:00",5.8694770976895017E-2,null,5.6404040404040401E-2,"13:15:00","13:30:00",5.6404040404040401E-2]
[null,null,null,null,null,55,5.8694770976895017E-2,5.6404040404040401E-2,"13:30:00","13:45:00",5.9991892987434133E-2,null,5.6404040404040401E-2,"13:30:00","13:45:00",5.8888888888888886E-2]
[null,null,null,null,null,56,5.8694770976895017E-2,5.6404040404040401E-2,"13:45:00","14:00:00",6.1289014997973248E-2,null,5.6404040404040401E-2,"13:45:00","14:00:00",6.1373737373737372E-2]
[null,null,null,null,null,57,{"$f":"E27","v":6.388325901905148E-2},{"$f":"F27","v":6.6343434343434343E-2},"14:00:00","14:15:00",6.2586137008512371E-2,null,6.6343434343434343E-2,"14:00:00","14:15:00",6.3858585858585865E-2]
[null,null,null,null,null,58,{"$f":"G69","v":6.388325901905148E-2},6.6343434343434343E-2,"14:15:00","14:30:00",6.388325901905148E-2,null,6.6343434343434343E-2,"14:15:00","14:30:00",6.6343434343434343E-2]
[null,null,null,null,null,59,6.388325901905148E-2,6.6343434343434343E-2,"14:30:00","14:45:00",6.6619375760032434E-2,null,6.6343434343434343E-2,"14:30:00","14:45:00",6.7939393939393938E-2]
[null,null,null,null,null,60,6.388325901905148E-2,6.6343434343434343E-2,"14:45:00","15:00:00",6.9355492501013374E-2,null,6.6343434343434343E-2,"14:45:00","15:00:00",6.9535353535353533E-2]
[null,null,null,null,null,61,{"$f":"E28","v":7.4827725982975268E-2},{"$f":"F28","v":7.2727272727272724E-2},"15:00:00","15:15:00",7.2091609241994314E-2,null,7.2727272727272724E-2,"15:00:00","15:15:00",7.1131313131313129E-2]
[null,null,null,null,null,62,{"$f":"G73","v":7.4827725982975268E-2},7.2727272727272724E-2,"15:15:00","15:30:00",7.4827725982975268E-2,null,7.2727272727272724E-2,"15:15:00","15:30:00",7.2727272727272724E-2]
[null,null,null,null,null,63,7.4827725982975268E-2,7.2727272727272724E-2,"15:30:00","15:45:00",7.8273206323469791E-2,null,{"$f":"H75","v":7.2727272727272724E-2},"15:30:00","15:45:00",7.5474747474747472E-2]
[null,null,null,null,null,64,7.4827725982975268E-2,7.2727272727272724E-2,"15:45:00","16:00:00",8.1718686663964327E-2,null,7.2727272727272724E-2,"15:45:00","16:00:00",7.8222222222222221E-2]
[null,null,null,null,null,65,{"$f":"E29","v":8.8609647344953385E-2},{"$f":"F29","v":8.3717171717171718E-2},"16:00:00","16:15:00",8.5164167004458863E-2,null,8.3717171717171718E-2,"16:00:00","16:15:00",8.0969696969696969E-2]
[null,null,null,null,null,66,{"$f":"G77","v":8.8609647344953385E-2},8.3717171717171718E-2,"16:15:00","16:30:00",{"$f":"IF(MINUTE(J78)=30,G78,IF(MINUTE(J78)=15,0.75*G78+0.25*G77,IF(MINUTE(J78)=45,0.75*G78+0.25*G80,IF(MINUTE(J78)=0,0.5*G78+0.5*G79,0))))","v":8.8609647344953385E-2},null,8.3717171717171718E-2,"16:15:00","16:30:00",{"$f":"IF(MINUTE(O78)=30,M78,IF(MINUTE(O78)=15,0.75*M78+0.25*M77,IF(MINUTE(O78)=45,0.75*M78+0.25*M80,IF(MINUTE(O78)=0,0.5*M78+0.5*M79,0))))","v":8.3717171717171718E-2}]
[null,null,null,null,null,67,8.8609647344953385E-2,8.3717171717171718E-2,"16:30:00","16:45:00",9.2764491284961503E-2,null,8.3717171717171718E-2,"16:30:00","16:45:00",8.6040404040404028E-2]
[null,null,null,null,null,68,8.8609647344953385E-2,8.3717171717171718E-2,"16:45:00","17:00:00",9.6919335224969594E-2,null,8.3717171717171718E-2,"16:45:00","17:00:00",8.8363636363636366E-2]
[null,null,null,null,null,69,{"$f":"E30","v":0.10522902310498582},{"$f":"F30","v":9.3010101010101015E-2},"17:00:00","17:15:00",0.10107417916497771,null,9.3010101010101015E-2,"17:00:00","17:15:00",9.0686868686868705E-2]
[null,null,null,null,null,70,{"$f":"G81","v":0.10522902310498582},9.3010101010101015E-2,"17:15:00","17:30:00",0.10522902310498582,null,9.3010101010101015E-2,"17:15:00","17:30:00",9.3010101010101015E-2]
[null,null,null,null,null,71,0.10522902310498582,9.3010101010101015E-2,"17:30:00","17:45:00",9.608836643696797E-2,null,9.3010101010101015E-2,"17:30:00","17:45:00",8.5454545454545464E-2]
[null,null,null,null,null,72,0.10522902310498582,9.3010101010101015E-2,"17:45:00","18:00:00",8.6947709768950138E-2,null,9.3010101010101015E-2,"17:45:00","18:00:00",7.7898989898989898E-2]
[null,null,null,null,null,73,{"$f":"E31","v":6.8666396432914473E-2},{"$f":"F31","v":6.2787878787878781E-2},"18:00:00","18:15:00",7.7807053100932305E-2,null,6.2787878787878781E-2,"18:00:00","18:15:00",7.0343434343434347E-2]
[null,null,null,null,null,74,{"$f":"G85","v":6.8666396432914473E-2},6.2787878787878781E-2,"18:15:00","18:30:00",6.8666396432914473E-2,null,6.2787878787878781E-2,"18:15:00","18:30:00",6.2787878787878781E-2]
[null,null,null,null,null,75,6.8666396432914473E-2,6.2787878787878781E-2,"18:30:00","18:45:00",6.1349817592217269E-2,null,6.2787878787878781E-2,"18:30:00","18:45:00",5.8909090909090904E-2]
[null,null,null,null,null,76,6.8666396432914473E-2,6.2787878787878781E-2,"18:45:00","19:00:00",5.4033238751520066E-2,null,6.2787878787878781E-2,"18:45:00","19:00:00",5.5030303030303027E-2]
[null,null,null,null,null,77,{"$f":"E32","v":3.9400081070125659E-2},{"$f":"F32","v":4.7272727272727272E-2},"19:00:00","19:15:00",4.6716659910822862E-2,null,4.7272727272727272E-2,"19:00:00","19:15:00",5.1151515151515149E-2]
[null,null,null,null,null,78,{"$f":"G89","v":3.9400081070125659E-2},4.7272727272727272E-2,"19:15:00","19:30:00",3.9400081070125659E-2,null,4.7272727272727272E-2,"19:15:00","19:30:00",4.7272727272727272E-2]
[null,null,null,null,null,79,3.9400081070125659E-2,4.7272727272727272E-2,"19:30:00","19:45:00",3.704904742602351E-2,null,4.7272727272727272E-2,"19:30:00","19:45:00",4.3696969696969692E-2]
[null,null,null,null,null,80,3.9400081070125659E-2,4.7272727272727272E-2,"19:45:00","20:00:00",3.4698013781921361E-2,null,4.7272727272727272E-2,"19:45:00","20:00:00",4.012121212121212E-2]
[null,null,null,null,null,81,{"$f":"E33","v":2.9995946493717066E-2},{"$f":"F33","v":3.2969696969696968E-2},"20:00:00","20:15:00",3.2346980137819212E-2,null,3.2969696969696968E-2,"20:00:00","20:15:00",3.6545454545454548E-2]
[null,null,null,null,null,82,{"$f":"G93","v":2.9995946493717066E-2},3.2969696969696968E-2,"20:15:00","20:30:00",2.9995946493717066E-2,null,3.2969696969696968E-2,"20:15:00","20:30:00",3.2969696969696968E-2]
[null,null,null,null,null,83,2.9995946493717066E-2,3.2969696969696968E-2,"20:30:00","20:45:00",2.7523307661126876E-2,null,3.2969696969696968E-2,"20:30:00","20:45:00",2.9555555555555554E-2]
[null,null,null,null,null,84,2.9995946493717066E-2,3.2969696969696968E-2,"20:45:00","21:00:00",2.5050668828536685E-2,null,3.2969696969696968E-2,"20:45:00","21:00:00",2.6141414141414139E-2]
[null,null,null,null,null,85,{"$f":"E34","v":2.0105391163356304E-2},{"$f":"F34","v":1.9313131313131313E-2},"21:00:00","21:15:00",2.2578029995946495E-2,null,1.9313131313131313E-2,"21:00:00","21:15:00",2.2727272727272728E-2]
[null,null,null,null,null,86,{"$f":"G97","v":2.0105391163356304E-2},1.9313131313131313E-2,"21:15:00","21:30:00",2.0105391163356304E-2,null,1.9313131313131313E-2,"21:15:00","21:30:00",1.9313131313131313E-2]
[null,null,null,null,null,87,2.0105391163356304E-2,1.9313131313131313E-2,"21:30:00","21:45:00",1.7308471828131337E-2,null,1.9313131313131313E-2,"21:30:00","21:45:00",1.680808080808081E-2]
[null,null,null,null,null,88,2.0105391163356304E-2,1.9313131313131313E-2,"21:45:00","22:00:00",1.4511552492906366E-2,null,1.9313131313131313E-2,"21:45:00","22:00:00",1.4303030303030304E-2]
[null,null,null,null,null,89,{"$f":"E35","v":8.9177138224564249E-3},{"$f":"F35","v":9.2929292929292938E-3},"22:00:00","22:15:00",1.1714633157681394E-2,null,9.2929292929292938E-3,"22:00:00","22:15:00",1.1797979797979799E-2]
[null,null,null,null,null,90,{"$f":"G101","v":8.9177138224564249E-3},9.2929292929292938E-3,"22:15:00","22:30:00",8.9177138224564249E-3,null,9.2929292929292938E-3,"22:15:00","22:30:00",9.2929292929292938E-3]
[null,null,null,null,null,91,8.9177138224564249E-3,9.2929292929292938E-3,"22:30:00","22:45:00",7.5597892176732882E-3,null,9.2929292929292938E-3,"22:30:00","22:45:00",8.1010101010101018E-3]
[null,null,null,null,null,92,8.9177138224564249E-3,9.2929292929292938E-3,"22:45:00","23:00:00",6.2018646128901497E-3,null,9.2929292929292938E-3,"22:45:00","23:00:00",6.9090909090909099E-3]
[null,null,null,null,null,93,{"$f":"E36","v":3.486015403323875E-3},{"$f":"F36","v":4.5252525252525251E-3},"23:00:00","23:15:00",4.843940008107013E-3,null,4.5252525252525251E-3,"23:00:00","23:15:00",5.717171717171717E-3]
[null,null,null,null,null,94,{"$f":"G105","v":3.486015403323875E-3},4.5252525252525251E-3,"23:15:00","23:30:00",3.486015403323875E-3,null,4.5252525252525251E-3,"23:15:00","23:30:00",4.5252525252525251E-3]
[null,null,null,null,null,95,3.486015403323875E-3,4.5252525252525251E-3,"23:30:00","23:45:00",3.1009323064450749E-3,null,4.5252525252525251E-3,"23:30:00","23:45:00",3.9393939393939387E-3]
[null,null,null,null,null,96,3.486015403323875E-3,4.5252525252525251E-3,"23:45:00",1,2.7158492095662747E-3,null,4.5252525252525251E-3,"23:45:00",1,3.3535353535353533E-3]
[null,null,null,null,null,null,{"$f":"G13","v":1.9456830158086746E-3},2.1818181818181819E-3,null,null,null,null,2.1818181818181819E-3]
[null,null,null,null,null,null,1.9456830158086746E-3,2.1818181818181819E-3,null,null,null,null,2.1818181818181819E-3]
[null,null,null,null,null,null,1.9456830158086746E-3,2.1818181818181819E-3,null,null,null,null,2.1818181818181819E-3]
[null,null,null,null,null,null,1.9456830158086746E-3,2.1818181818181819E-3,null,null,null,null,2.1818181818181819E-3]

{"sheet":"t=1","index":3,"n_rows":254,"n_cols":24,"rows_kept":254,"cut":false,"hidden":false,"merged":[[165,1,206,1],[10,1,31,1],[32,1,53,1],[123,1,164,1],[122,1,122,2],[122,10,122,11],[7,1,7,2],[8,1,8,2],[9,1,9,2],[119,1,119,2],[121,1,121,2]]}
[null,null,null,null,1,2,3,4,5,0,0,0,0,0,0,0,0,0,0,0,0,0,0,0]
[null,"Step 3: Enter Detailed Analysis Period Information"]
[null,"Detailed geometric and demand information for the facility in current analysis period are listed in the table below."]
[null,"Default values are show as green shading, custom user inputs are shown in yellow shading"]
[null,"The analyst can override any values in the cells with green or yellow shading."]
[]
[null,{"$f":"\"Detailed Input WorkSheet for \" &Start!F7","v":"Detailed Input WorkSheet for "}]
[null,"Feature Number:",null,"-",1,2,3,4,5,"-"]
[null,"Feature Type (Link, Signalized Intersection, Roundabout, TWSC):",null,"Link","Int.","Link","Int.","Link","Int.","Link"]
[null,"Feature Length (ft):",null,0,null,null,null,null,null,0]
[1,"Direction 2 (NEMA)","Mid-Segment 15 minute Flow Rate Per Hour:"]
[null,null,"Total Delay Due to Turns into Access Points (sec/veh):"]
[null,null,"Delay Due to Other Mid-Segment Sources (sec/veh):"]
[null,null,"Width of upstream boundary interFeature (ft):"]
[null,null,"Length of segment with restrictive median (ft):"]
[null,null,"Proportion of Street with Curb on Right-Hand Side:"]
[null,null,"Base Free Flow Speed (mph):"]
[]
[]
[]
[]
[]
[]
[]
[]
[]
[null,null,"Turn Percentage from exclusive (Right +Left) turn lanes:"]
[null,null,"Hourly Through Flow Rate Per Lane (vph):"]
[null,null,"Cycle length (sec):"]
[null,null,"Lost time Per cycle (sec):"]
[null,null,"Green Time Per Cycle (sec):"]
[null,null,"Platoon Ratio:"]
[null,"Direction 6 (NEMA)","Mid-Segment 15 minute Flow Rate Per Hour:"]
[null,null,"Total Delay Due to Turns into Access Points (sec/veh):"]
[null,null,"Delay Due to Other Mid-Segment Sources (sec/veh):"]
[null,null,"Width of upstream boundary interFeature (ft):"]
[null,null,"Length of segment with restrictive median (ft):"]
[null,null,"Proportion of Street with Curb on Right-Hand Side:"]
[null,null,"Base Free Flow Speed (mph):"]
[]
[]
[]
[]
[]
[]
[]
[]
[]
[null,null,"Turn Percentage from exclusive (Right +Left) turn lanes:"]
[null,null,"Hourly Through Flow Rate Per Lane (vph):"]
[null,null,"Cycle length (sec):",null,60,60,60,60,60]
[null,null,"Lost time Per cycle (sec):",null,20,8,20,8,20]
[null,null,"Green Time Per Cycle (sec):",null,47.647933248172777,43.815265242245694,47.647933248172777,41.7300875799788,47.647933248172777]
[null,null,"Platoon Ratio:",null,1.33,1.33,1.33,1.33,1.33]
[]
[]
[]
[]
[]
[]
[null,null,null,null,125,200,200,125,125]
[null,null,null,null,125,200,200,125,125]
[]
[]
[]
[]
[]
[null,null,null,1160,null,1527,null,1432,null,1336]
[null,null,null,0.47,null,0.47,null,0.47,null,0.47]
[null,null,null,0,null,0,null,0,null,0]
[]
[null,null,null,0,null,1890,null,1463,null,0]
[null,null,null,1,null,1,null,1,null,1]
[null,null,null,null,null,45,null,45]
[]
[]
[]
[]
[]
[]
[]
[]
[]
[null,null,null,null,0,1.2999999999999999E-2,0,0,0]
[]
[null,null,null,null,60,null,60,null,60]
[null,null,null,null,5,4,5,4,5]
[null,null,null,null,47.647933248172777,null,47.647933248172777,null,47.647933248172777]
[]
[null,null,null,2710,null,3566,null,3344,null,3120]
[null,null,null,0.47,null,0.47,null,0.47,null,0.47]
[null,null,null,0,null,0,null,0,null,0]
[]
[null,null,null,0,null,1890,null,1463,null,0]
[null,null,null,1,null,1,null,1,null,1]
[null,null,null,null,null,45,null,45]
[]
[]
[]
[]
[]
[]
[]
[]
[]
[null,null,null,null,0.254,9.2999999999999999E-2,4.5999999999999999E-2,9.8000000000000004E-2,0.05]
[]
[null,null,null,null,100,null,100,null,100]
[null,null,null,null,5,4,5,4,5]
[null,null,null,null,69.306084724614948,null,69.306084724614948,null,69.306084724614948]
[]
[]
[]
[]
[]
[]
[]
[]
[null,{"$f":"\"Detailed Output WorkSheet for \" &Start!F7","v":"Detailed Output WorkSheet for "}]
[null,"Feature NUMBER:",null,"-",1,2,3,4,5,"-"]
[1,null,"Feature Name:","-",null,null,null,null,null,"-"]
[null,"Feature Type (Segment, Signalized InterFeature, Roundabout, TWSC):",null,"Link","Int.","Link","Int.","Link","Int.","Link"]
[null,"Feature Length (ft):",null,0,null,null,null,null,null,0]
[null,"Direction 2 (NEMA)","Number of Lanes on Arterial:",null,null,2,null,2]
[]
[null,null,"15 Minute Demand On Arterial(vph):",null,null,1527,null,1432]
[null,null,"Through g/c Ratio:",null,0.46079888746954628,null,0.46079888746954628,null,0.46079888746954628]
[null,null," Saturation Flow Rate Per Lane(vph):",null,1764.7058823529412,null,1764.7058823529412,null,1764.7058823529412]
[null,null,"Approach Capacity (vph):",null,1626.3490145983988,null,1626.3490145983988,null,1626.3490145983988]
[null,null,"Demand  to Capacity Ratio (V/C):",null,0.7132540368565623,null,0.93891285713790562,null,0.88049981101603203]
[]
[null,null,"Uniform Delay (sec):",null,12.992256990003529,null,15.373464691323466,null,14.677140216438808,null,{"$f":"SUM(D132:J132)","v":43.042861897765803},"sec"]
[null,null,"Incremental_delay (sec):",null,1.7172997365169764,null,3.4931878567706347,null,2.739032132031431,null,{"$f":"SUM(D133:J133)","v":7.9495197253190426},"sec"]
[null,null,"Control Delay (sec):",null,14.709556726520505,null,18.866652548094102,null,17.416172348470241,null,{"$f":"SUM(D134:J134)","v":50.992381623084846},"sec"]
[null,null,"Intersection Approach LOS:",null,"B",null,"B",null,"B"]
[null,null,"Speed Limit (mph):",null,null,45,null,45]
[null,null,"Base Free Flow Speed (mph):",null,null,43.612000000000002,null,43.612000000000002]
[null,null,"Free Flow Speed (mph):",null,null,32.128262608,null,32.128262608]
[null,null,"Travel Speed (mph):",null,null,14.302512377222241,null,13.702709426047219]
[null,null,"Travel Speed as Proportion of Base Free Flow Speed:",null,null,0.32794901351055306,null,0.31419585036336833]
[null,null,"HCM Segment Level of Service:",null,null,"E",null,"E"]
[]
[null,null,"Segment Running Time (min):",null,null,1.1871991497952954,null,0.92299416536371026,null,null,{"$f":"SUM(D143:J143)","v":2.1101933151590058},"min"]
[null,null,"Travel time per vehicle (min)",null,null,1.5016433589301974,null,1.2132637045048811,null,null,{"$f":"SUM(D144:J144)","v":2.7149070634350787},"min"]
[null,null,"Free-flow  travel time (min)",null,null,0.49246245820583157,null,0.38120242135192145,null,null,{"$f":"SUM(D145:J145)","v":0.87366487955775307},"min"]
[null,null,"Travel Time Index:",null,null,3.0492544840901652,null,3.1827282214055264,null,null,{"$f":"K144/K145","v":3.1074925030858029}]
[]
[null,null,"Queue Size (veh):",null,null,0,null,0,null,null,{"$f":"SUM(D148:J148)","v":0},"veh"]
[]
[null,null,"Vehicles Hours of Delay (VHD):",null,null,6.4209134808587773,null,4.9646323228126583,null,null,{"$f":"SUM(D150:J150)","v":11.385545803671436},"Veh-Hr"]
[null,null,"User Cost($):",null,null,325.95446239905539,null,252.02707755142319,null,null,{"$f":"SUM(D151:J151)","v":577.98153995047858}]
[]
[]
[]
[]
[]
[]
[]
[]
[]
[]
[]
[]
[]
[]
[null,"Direction 6 (NEMA)","Number of Lanes on Arterial:",null,null,3,null,3]
[]
[null,null,"15 Minute Demand On Arterial(vph):",null,null,3566,null,3344]
[null,null,"Through g/c Ratio:",null,0.46079888746954628,null,0.46079888746954628,null,0.46079888746954628]
[null,null," Saturation Flow Rate Per Lane(vph):",null,1764.7058823529412,null,1764.7058823529412,null,1764.7058823529412]
[null,null,"Approach Capacity (vph):",null,2439.5235218975981,null,2439.5235218975981,null,2439.5235218975981]
[null,null,"Demand  to Capacity Ratio (V/C):",null,1.0904736011443412,null,1.3077045461396093,null,1.055329033268517]
[]
[null,null,"Uniform Delay (sec):",null,16.176033375913608,null,16.176033375913608,null,16.176033375913608,null,{"$f":"SUM(D174:J174)","v":48.528100127740828},"sec"]
[null,null,"Incremental_delay (sec):",null,39.353686007341025,null,135.69074730538887,null,24.154056999236911,null,199.19849031196679,"sec"]
[null,null,"Control Delay (sec):",null,50.967810397306124,null,147.30487169535397,null,35.768181389202013,null,234.04086348186212,"sec"]
[null,null,"Intersection Approach LOS:",null,"F",null,"F",null,"F"]
[null,null,"Speed Limit (mph):",null,null,45,null,45]
[null,null,"Base Free Flow Speed (mph):",null,null,43.768000000000001,null,43.768000000000001]
[null,null,"Free Flow Speed (mph):",null,null,32.162958568000001,null,32.162958568000001]
[null,null,"Travel Speed (mph):",null,null,10.24745403154593,null,4.8797369526903989]
[null,null,"Travel Speed as Proportion of Base Free Flow Speed:",null,null,0.23413119245900954,null,0.11149097406073841]
[null,null,"HCM Segment Level of Service:",null,null,"F",null,"F"]
[]
[null,null,"Segment Running Time (min):",null,null,1.2464007598737668,null,0.9518647452338922,null,null,{"$f":"SUM(D185:J185)","v":2.1982655051076589},"min"]
[null,null,"Travel time per vehicle (min)",null,null,2.0958642664955356,null,3.4069459401564584,null,null,{"$f":"SUM(D186:J186)","v":5.5028102066519935},"min"]
[null,null,"Free-flow  travel time (min)",null,null,0.49070719994682704,null,0.37984372144032169,null,null,{"$f":"SUM(D187:J187)","v":0.87055092138714874},"min"]
[null,null,"Travel Time Index:",null,null,4.2711096693153126,null,8.9693359343619772,null,null,{"$f":"K186/K187","v":6.3210664321436063}]
[]
[null,null,"Queue Size (veh):",null,null,0,null,0,null,null,{"$f":"SUM(D190:J190)","v":0},"veh"]
[]
[null,null,"Vehicles Hours of Delay (VHD):",null,null,23.849958747136228,null,42.177624247444832,null,null,{"$f":"SUM(D192:J192)","v":66.027582994581053},"Veh-Hr"]
[null,null,"User Cost($):",null,null,1210.7312308189969,null,2141.1260061094131,null,null,{"$f":"SUM(D193:J193)","v":3351.8572369284102}]
[]
[]
[]
[]
[]
[]
[]
[]
[]
[]
[]
[]
[]
[]
[]
[]
[]
[]
[]
[]
[]
[]
[]
[]
[]
[]
[]
[]
[]
[]
[]
[null,null,null,null,4,null,4,null,4]
[]
[null,null,null,null,6.9000000000000006E-2]
[]
[null,null,null,null,60,60,60,60,60]
[null,null,null,null,5,8,5,8,5]
[null,null,null,null,47.647933248172777,40.685603439228139,47.647933248172777,41.7300875799788,47.647933248172777]
[null,null,null,null,1,2,1,1,1]
[]
[]
[]
[]
[]
[]
[]
[]
[]
[]
[]
[]
[]
[]
[null,null,null,null,4,null,4,null,4]
[]
[null,null,null,null,0.151]
[]
[null,null,null,null,60,60,60,60,60]
[null,null,null,null,5,8,5,8,5]
[null,null,null,null,47.647933248172777,40.685603439228139,47.647933248172777,41.7300875799788,47.647933248172777]
[null,null,null,null,1.33,2,1.33,1.33,1.33]

{"sheet":"Output sheets (AP)","index":4,"n_rows":63,"n_cols":28,"rows_kept":63,"cut":false,"hidden":true,"merged":[[36,1,58,1],[36,2,56,2],[57,2,62,2],[2,3,2,18],[3,4,3,6],[5,17,7,18],[9,1,31,1],[9,2,29,2],[30,2,35,2]]}
[]
[]
["Seg.",null,null,"Output WorkSheet"]
["Int.",null,null,"Analysis Date:","2013-01-30"]
["Rnabt.",null,null,"Arterial Facility Ttitle:","US70"]
[null,null,null,"SECTION NUMBER:",1,2,3,4,5,6,7,8,9,10,11,12,13,"Facility Wide"]
["Yes",null,null,"CATEGORY(Segment, Intersection, or Roundabout):","Seg.","Int.","Seg.","Seg.","Seg.","Int.","Seg.","Rnabt.","Seg.","Seg.","Seg.","Int.","Seg."]
["No",null,null,"WORK ZONE ACTIVE (Yes/No):","No","Yes","No","Yes","No","No","No","No","No","Yes","No","No","No"]
[null,null,null,"Length (ft)",2000,300,1000,1000,1000,300,1200,190,1000,1000,1450,275,2580,{"$f":"SUM(E9:Q9)/5280","v":2.5179924242424243},"Miles"]
[null,"Direction 1","Basic Output","Free flow speed (mph)"]
[null,null,null,"Space mean speed (mph)",null,null,null,null,null,null,null,null,null,null,null,null,null,null,null,null,null,null,null,null,null,null,null,{"$f":"IF(X11>3.6,0,IF(X11<3,10.5,22.778*X11*X11-167.83*X11+309))","v":10.5}]
[null,null,null,"Segment density (veh/mi/lane)"]
[null,null,null,"Segment capacity (vph)",null,null,null,null,null,null,null,null,null,null,null,null,null,null,null,null,null,null,null,null,null,null,null,{"$f":"IF(X13>1.8,0,IF(X16<2.5,-3.2143*X13+5.7929,IF(X16<3.5,-2.1429*X13+3.8714,-0.0661*X13*X13-0.9405*X13+1.8952)))","v":5.7929000000000004}]
[null,null,null,"Segment demand (vph)"]
[null,null,null,"Segment volume served (vph)"]
[null,null,null,"d/c ratio",null,null,null,null,null,null,null,null,null,null,null,null,null,null,null,null,null,null,null,null,null,null,null,{"$f":"IF(X16>5,0,-2.43*X16+12.13)","v":12.13}]
[null,null,null,"v/c ratio"]
[null,null,null,"Travel time per vehicle (min)"]
[null,null,null,"Free-flow  travel time (min)"]
[null,null,null,"Freeway mainline delay (min)"]
[null,null,null,"System delay-- includes on-ramps  (min)",null,null,null,null,null,null,null,null,null,null,null,null,null,null,null,null,null,null,null,null,null,null,null,{"$f":"IF(X21<0.3,0,IF(X21>1.2,12.1,3.7016*X21*X21+8.1648*X21-2.9797))","v":0}]
[null,null,null,"VMTD Veh-miles / interval  (Demand)"]
[null,null,null,"VMTV Veh-miles / interval (Volume served)"]
[null,null,null,"VHT travel / interval (hrs)"]
[null,null,null,"VHD  delay /interval  (hrs)"]
[null,null,null,"Space mean speed = VMTV / VHT (mph)"]
[null,null,null,"Segment density (pc/mi/lane)*"]
[null,null,null,"Density-based LOS on segment"]
[null,null,null,"Demand-based LOS on segment"]
[null,null,null,"Travel Time Index (TTI) "]
[null,null,"WZ Output","WZ Output1"]
[null,null,null,"WZ Output2"]
[null,null,null,"WZ Output3"]
[null,null,null,"WZ Output4"]
[null,null,null,"WZ Output5"]
[null,null,null,"WZ Output6"]
[null,"Direction 2","Basic Output","Free flow speed (mph)"]
[null,null,null,"Space mean speed (mph)",null,null,null,null,null,null,null,null,null,null,null,null,null,null,null,null,null,null,null,null,null,null,null,{"$f":"IF(X38>3.6,0,IF(X38<3,10.5,22.778*X38*X38-167.83*X38+309))","v":10.5}]
[null,null,null,"Segment density (veh/mi/lane)"]
[null,null,null,"Segment capacity (vph)",null,null,null,null,null,null,null,null,null,null,null,null,null,null,null,null,null,null,null,null,null,null,null,{"$f":"IF(X40>1.8,0,IF(X43<2.5,-3.2143*X40+5.7929,IF(X43<3.5,-2.1429*X40+3.8714,-0.0661*X40*X40-0.9405*X40+1.8952)))","v":5.7929000000000004}]
[null,null,null,"Segment demand (vph)"]
[null,null,null,"Segment volume served (vph)"]
[null,null,null,"d/c ratio",null,null,null,null,null,null,null,null,null,null,null,null,null,null,null,null,null,null,null,null,null,null,null,{"$f":"IF(X43>5,0,-2.43*X43+12.13)","v":12.13}]
[null,null,null,"v/c ratio"]
[null,null,null,"Travel time per vehicle (min)"]
[null,null,null,"Free-flow  travel time (min)"]
[null,null,null,"Freeway mainline delay (min)"]
[null,null,null,"System delay-- includes on-ramps  (min)",null,null,null,null,null,null,null,null,null,null,null,null,null,null,null,null,null,null,null,null,null,null,null,{"$f":"IF(X48<0.3,0,IF(X48>1.2,12.1,3.7016*X48*X48+8.1648*X48-2.9797))","v":0}]
[null,null,null,"VMTD Veh-miles / interval  (Demand)"]
[null,null,null,"VMTV Veh-miles / interval (Volume served)"]
[null,null,null,"VHT travel / interval (hrs)"]
[null,null,null,"VHD  delay /interval  (hrs)"]
[null,null,null,"Space mean speed = VMTV / VHT (mph)"]
[null,null,null,"Segment density (pc/mi/lane)*"]
[null,null,null,"Density-based LOS on segment"]
[null,null,null,"Demand-based LOS on segment"]
[null,null,null,"Travel Time Index (TTI) "]
[null,null,"WZ Output","WZ Output1"]
[null,null,null,"WZ Output2"]
[null,null,null,"WZ Output3"]
[null,null,null,"WZ Output4"]
[null,null,null,"WZ Output5"]
[null,null,null,"WZ Output6"]

{"sheet":"FlowChart","index":5,"n_rows":0,"n_cols":0,"rows_kept":0,"cut":false,"hidden":true,"merged":[]}

{"sheet":"Facility Summary","index":6,"n_rows":121,"n_cols":11,"rows_kept":121,"cut":false,"hidden":true,"merged":[[9,1,9,3],[11,1,11,3],[13,1,54,1],[55,1,96,1],[12,9,12,10]]}
[]
[null,"Summary Results by Feature and Facility"]
[null,"Start time:",{"$f":"Start!F10","v":"07:15:00"}]
[null,"End Time:",{"$f":"Start!F11","v":"07:30:00"}]
[null,"This worksheet provides, a summary of the performance measures across the total study period."]
[]
[]
[]
[null,{"$f":"\"Detailed Output WorkSheet for \"&Start!F7","v":"Detailed Output WorkSheet for "}]
[null,"FEATURE NUMBER:",null,null,1,2,3,4,5]
[null,null,null,"Feature Nick Name:"]
[null,"Feature Type (Segment, Signalized Intersection, Roundabout, TWSC):",null,null,"Int.","Link","Int.","Link","Int."]
[null,null,null,"Feature Length (ft):",null,null,null,null,null,"Facility Wide"]
[null,"Direction 2 (NEMA)",null,"Number of Lanes:",null,2,null,2]
[null,null,null,"Average g/c:",0.62169899608933621,null,0.62169899608933621,null,0.62169899608933621]
[null,null,null,"Uniform Delay (sec):",11.846269911491857,null,14.061966053576084,null,13.410576609767656,{"$f":"SUM(E16:I16)","v":39.318812574835597}]
[null,null,null,"Incremental_delay (sec):",1.0816792267921607,null,2.0875228483421329,null,1.67675863782488,{"$f":"SUM(E17:I17)","v":4.8459607129591742}]
[null,null,null,"Control Delay (sec):",12.927949138284017,null,16.149488901918218,null,15.087335247592538,{"$f":"SUM(E18:I18)","v":44.164773287794773}]
[null,null,null,"Speed Limit(mph):",null,45,null,45]
[null,null,null," Travel Speed(mph):",null,14.736594512460053,null,14.149024518059139]
[null,null,null,"Running Time(min):",null,1.1895183363280073,null,0.92470737691990557,null,{"$f":"SUM(E21:I21)","v":2.114225713247913},"min"]
[null,null,null,"Travel Time(min):",null,1.4586764846933111,null,1.1761629643797815,null,{"$f":"SUM(E22:I22)","v":2.6348394490730929},"min"]
[null,null,null,"Total Stop Rate:"]
[null,null,null,"Total User Cost:",null,631.96469999999999,null,487.51010000000002,null,{"$f":"SUM(E24:I24)","v":1119.4748}]
[]
[]
[]
[]
[]
[]
[]
[]
[]
[]
[]
[]
[]
[]
[]
[]
[]
[]
[]
[]
[]
[]
[null,null,null,null,0.79105613917953665]
[null,null,null,null,1.7899857792086846]
[null,null,null,null,0.2161521053750802]
[null,null,null,null,6.6388039217588206]
[]
[]
[]
[]
[]
[null,"Direction 6 (NEMA)",null,"Number of Lanes:",null,3,null,3]
[null,null,null,"Average g/c:",0.62169899608933621,null,0.62169899608933621,null,0.62169899608933621]
[null,null,null,"Uniform Delay (sec):",14.879133437646647,null,16.399538828487813,null,14.684821107265801,{"$f":"SUM(E58:I58)","v":45.963493373400262}]
[null,null,null,"Incremental_delay (sec):",19.934240844413722,null,68.20337103478559,null,12.320626871370365,{"$f":"SUM(E59:I59)","v":100.45823875056968}]
[null,null,null,"Control Delay (sec):",25.741303039396271,null,74.01043322976814,null,18.127689066352914,{"$f":"SUM(E60:I60)","v":117.87942533551733}]
[null,null,null,"Speed Limit(mph):",null,45,null,45]
[null,null,null,"Speed(mph):",null,13.755090356723986,null,11.137391890412054]
[null,null,null,"Running Time(min):",null,1.2409811097097707,null,0.94783166636455696,null,{"$f":"SUM(E63:I63)","v":2.1888127760743279},"min"]
[null,null,null,"Travel Time(min):",null,1.6700028270330418,null,2.1813388868606927,null,{"$f":"SUM(E64:I64)","v":3.8513417138937345},"min"]
[null,null,null,"Total Stop Rate:"]
[null,null,null,"Total User Cost:",null,1752.0957000000001,null,2529.2163,null,{"$f":"SUM(E66:I66)","v":4281.3119999999999}]
[]
[]
[]
[]
[]
[]
[]
[]
[]
[]
[]
[]
[]
[]
[]
[]
[]
[]
[]
[]
[]
[]
[]
[]
[]
[]
[]
[]
[]
[]
[]
[]
[]
[]
[]
[]
[]
[]
[]
[]
[]
[]
[]
[]
[]
[]
[]
[]
[]
[]
[]
[]
[]
[]
[null,null,null,null,1]

{"sheet":"Signal Timing","index":7,"n_rows":141,"n_cols":102,"rows_kept":141,"cut":false,"hidden":false,"merged":[[5,2,7,2],[5,3,7,3],[5,4,5,5],[6,4,6,5],[7,4,7,5],[8,2,14,2],[8,3,14,3],[8,4,8,5],[9,4,10,4],[11,4,11,5],[12,4,12,5],[13,4,14,4],[22,2,28,2],[22,3,28,3],[22,4,22,5],[23,4,24,4],[25,4,25,5],[26,4,26,5],[27,4,28,4],[15,2,21,2],[15,3,21,3],[15,4,15,5],[16,4,17,4],[18,4,18,5],[19,4,19,5],[20,4,21,4],[36,2,42,2],[36,3,42,3],[36,4,36,5],[37,4,38,4],[39,4,39,5],[40,4,40,5],[41,4,42,4],[29,2,35,2],[29,3,35,3],[29,4,29,5],[30,4,31,4],[32,4,32,5],[33,4,33,5],[34,4,35,4],[50,2,56,2],[50,3,56,3],[50,4,50,5],[51,4,52,4],[53,4,53,5],[54,4,54,5],[55,4,56,4],[43,2,49,2],[43,3,49,3],[43,4,43,5],[44,4,45,4],[46,4,46,5],[47,4,47,5],[48,4,49,4],[64,2,70,2],[64,3,70,3],[64,4,64,5],[65,4,66,4],[67,4,67,5],[68,4,68,5],[69,4,70,4],[57,2,63,2],[57,3,63,3],[57,4,57,5],[58,4,59,4],[60,4,60,5],[61,4,61,5],[62,4,63,4],[78,2,84,2],[78,3,84,3],[78,4,78,5],[79,4,80,4],[81,4,81,5],[82,4,82,5],[83,4,84,4],[71,2,77,2],[71,3,77,3],[71,4,71,5],[72,4,73,4],[74,4,74,5],[75,4,75,5],[76,4,77,4],[92,2,98,2],[92,3,98,3],[92,4,92,5],[93,4,94,4],[95,4,95,5],[96,4,96,5],[97,4,98,4],[85,2,91,2],[85,3,91,3],[85,4,85,5],[86,4,87,4],[88,4,88,5],[89,4,89,5],[90,4,91,4],[106,2,112,2],[106,3,112,3],[106,4,106,5],[107,4,108,4],[109,4,109,5],[110,4,110,5],[111,4,112,4],[99,2,105,2],[99,3,105,3],[99,4,99,5],[100,4,101,4],[102,4,102,5],[103,4,103,5],[104,4,105,4],[120,2,126,2],[120,3,126,3],[120,4,120,5],[121,4,122,4],[123,4,123,5],[124,4,124,5],[125,4,126,4],[113,2,119,2],[113,3,119,3],[113,4,113,5],[114,4,115,4],[116,4,116,5],[117,4,117,5],[118,4,119,4],[134,2,140,2],[134,3,140,3],[134,4,134,5],[135,4,136,4],[137,4,137,5],[138,4,138,5],[139,4,140,4],[127,2,133,2],[127,3,133,3],[127,4,127,5],[128,4,129,4],[130,4,130,5],[131,4,131,5],[132,4,133,4]]}
[null,null,null,null,"00:15:00"]
[null,null,"Step 4 : Advanced Signal Timing"]
[]
[null,null,"Please enter advanced signal plan for the arterial street"]
[]
[null,null,"Feature Number:","Feature Name:","Analysis Period #",null,1,2,3,4,5,6,7,8,9,10,11,12,13,14,15,16,17,18,19,20,21,22,23,24,25,26,27,28,29,30,31,32,33,34,35,36,37,38,39,40,41,42,43,44,45,46,47,48,49,50,51,52,53,54,55,56,57,58,59,60,61,62,63,64,65,66,67,68,69,70,71,72,73,74,75,76,77,78,79,80,81,82,83,84,85,86,87,88,89,90,91,92,93,94,95,96]
[null,null,null,null,"Start Time",null,{"$f":"Start!F10","v":"07:15:00"},{"$f":"G8","v":"07:30:00"},"07:45:00","08:00:00","08:15:00","08:30:00","08:45:00","09:00:00","09:15:00","09:30:00","09:45:00","10:00:00","10:15:00","10:30:00","10:45:00","11:00:00","11:15:00","11:30:00","11:45:00","12:00:00","12:15:00","12:30:00","12:45:00","13:00:00","13:15:00","13:30:00","13:45:00","14:00:00","14:15:00","14:30:00","14:45:00","15:00:00","15:15:00",{"$f":"AM8","v":"15:30:00"},"15:45:00","16:00:00","16:15:00","16:30:00","16:45:00","17:00:00","17:15:00","17:30:00","17:45:00","18:00:00","18:15:00","18:30:00","18:45:00","19:00:00","19:15:00","19:30:00","19:45:00","20:00:00","20:15:00","20:30:00","20:45:00","21:00:00","21:15:00","21:30:00","21:45:00","22:00:00","22:15:00","22:30:00","22:45:00","23:00:00","23:15:00",{"$f":"BS8","v":"23:30:00"},"23:45:00",0.99999999999999822,1.010416666666665,1.0208333333333317,1.0312499999999984,1.0416666666666652,1.0520833333333319,1.0624999999999987,1.0729166666666654,1.0833333333333321,1.0937499999999989,1.1041666666666656,1.1145833333333324,1.1249999999999991,1.1354166666666659,1.1458333333333326,1.1562499999999993,1.1666666666666661,1.1770833333333328,1.1874999999999996,1.1979166666666663,1.208333333333333,1.2187499999999998,1.2291666666666665,1.2395833333333333,1.25,1.2604166666666667,1.2708333333333335,1.2812500000000002,1.291666666666667]
[null,null,null,null,"End Time",null,{"$f":"G7+$E$1","v":"07:30:00"},"07:45:00","08:00:00","08:15:00","08:30:00","08:45:00","09:00:00","09:15:00","09:30:00","09:45:00","10:00:00","10:15:00","10:30:00","10:45:00","11:00:00","11:15:00","11:30:00","11:45:00","12:00:00","12:15:00","12:30:00","12:45:00","13:00:00","13:15:00","13:30:00","13:45:00","14:00:00","14:15:00","14:30:00","14:45:00","15:00:00","15:15:00",{"$f":"AM7+$E$1","v":"15:30:00"},"15:45:00","16:00:00","16:15:00","16:30:00","16:45:00","17:00:00","17:15:00","17:30:00","17:45:00","18:00:00","18:15:00","18:30:00","18:45:00","19:00:00","19:15:00","19:30:00","19:45:00","20:00:00","20:15:00","20:30:00","20:45:00","21:00:00","21:15:00","21:30:00","21:45:00","22:00:00","22:15:00","22:30:00","22:45:00","23:00:00","23:15:00",{"$f":"BS7+$E$1","v":"23:30:00"},"23:45:00",0.99999999999999822,1.010416666666665,1.0208333333333317,1.0312499999999984,1.0416666666666652,1.0520833333333319,1.0624999999999987,1.0729166666666654,1.0833333333333321,1.0937499999999989,1.1041666666666656,1.1145833333333324,1.1249999999999991,1.1354166666666659,1.1458333333333326,1.1562499999999993,1.1666666666666661,1.1770833333333328,1.1874999999999996,1.1979166666666663,1.208333333333333,1.2187499999999998,1.2291666666666665,1.2395833333333333,1.25,1.2604166666666667,1.2708333333333335,1.2812500000000002,1.291666666666667,1.3020833333333337]
[null,null,1,null,"Cycle Length (sec)",null,null,300,300,270,195,75,60,60]
[null,null,null,null,"Green Time (sec)","Dir 2",null,254.77973141273785,241.00540215647197,214.37657762144451,149.43765052233914,64.375710937704497,51.304168224790509,51.086521149690405]
[null,null,null,null,null,"Dir 6",null,254.77973141273785,241.00540215647197,214.37657762144451,149.43765052233914,64.375710937704497,51.304168224790509,51.086521149690405]
[null,null,null,null,"Lost Time Per Phase (sec)",null,null,5,5,5,5,5,5,5]
[null,null,null,null,"# of Phases in critical path",null,null,4,4,4,4,4,4,4]
[null,null,null,null,"Platoon Ratio","Dir 2",null,1,1,1,1,1,1,1]
[null,null,null,null,null,"Dir 6",null,1.33,1.33,1.33,1.33,1.33,1.33,1.33]
[null,null,3,"S. Moore St.","Cycle Length (sec)",null,null,300,300,270,195,75,60,60]
[null,null,null,null,"Green Time (sec)","Dir 2",null,254.77973141273785,241.00540215647197,214.37657762144451,149.43765052233914,47.208854687649961,51.304168224790509,51.086521149690405]
[null,null,null,null,null,"Dir 6",null,254.77973141273785,241.00540215647197,214.37657762144451,149.43765052233914,47.208854687649961,51.304168224790509,51.086521149690405]
[null,null,null,null,"Lost Time Per Phase (sec)",null,null,5,5,5,5,5,5,5]
[null,null,null,null,"# of Phases in critical path",null,null,4,4,4,4,4,4,4]
[null,null,null,null,"Platoon Ratio","Dir 2",null,1,1,1,1,1,1,1]
[null,null,null,null,null,"Dir 6",null,1.33,1.33,1.33,1.33,1.33,1.33,1.33]
[null,null,5,"Robertson Rd.","Cycle Length (sec)",null,null,300,300,270,195,75,60,60]
[null,null,null,null,"Green Time (sec)","Dir 2",null,254.77973141273785,241.00540215647197,214.37657762144451,149.43765052233914,64.375710937704497,51.304168224790509,51.086521149690405]
[null,null,null,null,null,"Dir 6",null,254.77973141273785,241.00540215647197,214.37657762144451,149.43765052233914,64.375710937704497,51.304168224790509,51.086521149690405]
[null,null,null,null,"Lost Time Per Phase (sec)",null,null,5,5,5,5,5,5,5]
[null,null,null,null,"# of Phases in critical path",null,null,4,4,4,4,4,4,4]
[null,null,null,null,"Platoon Ratio","Dir 2",null,1,1,1,1,1,1,1]
[null,null,null,null,null,"Dir 6",null,1.33,1.33,1.33,1.33,1.33,1.33,1.33]
[null,null,7,"Avent Ferry","Cycle Length (sec)",null,180,180,180,180,180,180]
[null,null,null,null,"Green Time (sec)","Dir 2",88.188106684404531,87.203666799508042,86.468385195203865,80.041593979641419,79.10641476314143,78.098246088819963]
[null,null,null,null,null,"Dir 6",88.188106684404531,87.203666799508042,86.468385195203865,80.041593979641419,79.10641476314143,78.098246088819963]
[null,null,null,null,"Lost Time Per Phase (sec)",null,4,4,4,4,4,4]
[null,null,null,null,"# of Phases in critical path",null,4,4,4,4,4,4]
[null,null,null,null,"Platoon Ratio","Dir 2",1,1,1,1,1,1]
[null,null,null,null,null,"Dir 6",1.33,1.33,1.33,1.33,1.33,1.33]
[null,null,{"$f":"C30+1","v":8},"Shotwell Rd","Cycle Length (sec)"]
[null,null,null,null,"Green Time (sec)","Dir 2"]
[null,null,null,null,null,"Dir 6"]
[null,null,null,null,"Lost Time Per Phase (sec)"]
[null,null,null,null,"# of Phases in critical path"]
[null,null,null,null,"Platoon Ratio","Dir 2"]
[null,null,null,null,null,"Dir 6"]
[null,null,{"$f":"C37+1","v":9},"Shotwell Rd","Cycle Length (sec)"]
[null,null,null,null,"Green Time (sec)","Dir 2"]
[null,null,null,null,null,"Dir 6"]
[null,null,null,null,"Lost Time Per Phase (sec)"]
[null,null,null,null,"# of Phases in critical path"]
[null,null,null,null,"Platoon Ratio","Dir 2"]
[null,null,null,null,null,"Dir 6"]
[null,null,{"$f":"C44+1","v":10},"Shotwell Rd","Cycle Length (sec)"]
[null,null,null,null,"Green Time (sec)","Dir 2"]
[null,null,null,null,null,"Dir 6"]
[null,null,null,null,"Lost Time Per Phase (sec)"]
[null,null,null,null,"# of Phases in critical path"]
[null,null,null,null,"Platoon Ratio","Dir 2"]
[null,null,null,null,null,"Dir 6"]
[null,null,{"$f":"C51+1","v":11},"Shotwell Rd","Cycle Length (sec)"]
[null,null,null,null,"Green Time (sec)","Dir 2"]
[null,null,null,null,null,"Dir 6"]
[null,null,null,null,"Lost Time Per Phase (sec)"]
[null,null,null,null,"# of Phases in critical path"]
[null,null,null,null,"Platoon Ratio","Dir 2"]
[null,null,null,null,null,"Dir 6"]
[null,null,{"$f":"C58+1","v":12},"Shotwell Rd","Cycle Length (sec)"]
[null,null,null,null,"Green Time (sec)","Dir 2"]
[null,null,null,null,null,"Dir 6"]
[null,null,null,null,"Lost Time Per Phase (sec)"]
[null,null,null,null,"# of Phases in critical path"]
[null,null,null,null,"Platoon Ratio","Dir 2"]
[null,null,null,null,null,"Dir 6"]
[null,null,{"$f":"C65+1","v":13},"Shotwell Rd","Cycle Length (sec)"]
[null,null,null,null,"Green Time (sec)","Dir 2"]
[null,null,null,null,null,"Dir 6"]
[null,null,null,null,"Lost Time Per Phase (sec)"]
[null,null,null,null,"# of Phases in critical path"]
[null,null,null,null,"Platoon Ratio","Dir 2"]
[null,null,null,null,null,"Dir 6"]
[null,null,{"$f":"C72+1","v":14},"Shotwell Rd","Cycle Length (sec)"]
[null,null,null,null,"Green Time (sec)","Dir 2"]
[null,null,null,null,null,"Dir 6"]
[null,null,null,null,"Lost Time Per Phase (sec)"]
[null,null,null,null,"# of Phases in critical path"]
[null,null,null,null,"Platoon Ratio","Dir 2"]
[null,null,null,null,null,"Dir 6"]
[null,null,{"$f":"C79+1","v":15},"Shotwell Rd","Cycle Length (sec)"]
[null,null,null,null,"Green Time (sec)","Dir 2"]
[null,null,null,null,null,"Dir 6"]
[null,null,null,null,"Lost Time Per Phase (sec)"]
[null,null,null,null,"# of Phases in critical path"]
[null,null,null,null,"Platoon Ratio","Dir 2"]
[null,null,null,null,null,"Dir 6"]
[null,null,{"$f":"C86+1","v":16},"Shotwell Rd","Cycle Length (sec)"]
[null,null,null,null,"Green Time (sec)","Dir 2"]
[null,null,null,null,null,"Dir 6"]
[null,null,null,null,"Lost Time Per Phase (sec)"]
[null,null,null,null,"# of Phases in critical path"]
[null,null,null,null,"Platoon Ratio","Dir 2"]
[null,null,null,null,null,"Dir 6"]
[null,null,{"$f":"C93+1","v":17},"Shotwell Rd","Cycle Length (sec)"]
[null,null,null,null,"Green Time (sec)","Dir 2"]
[null,null,null,null,null,"Dir 6"]
[null,null,null,null,"Lost Time Per Phase (sec)"]
[null,null,null,null,"# of Phases in critical path"]
[null,null,null,null,"Platoon Ratio","Dir 2"]
[null,null,null,null,null,"Dir 6"]
[null,null,{"$f":"C100+1","v":18},"Shotwell Rd","Cycle Length (sec)"]
[null,null,null,null,"Green Time (sec)","Dir 2"]
[null,null,null,null,null,"Dir 6"]
[null,null,null,null,"Lost Time Per Phase (sec)"]
[null,null,null,null,"# of Phases in critical path"]
[null,null,null,null,"Platoon Ratio","Dir 2"]
[null,null,null,null,null,"Dir 6"]
[null,null,{"$f":"C107+1","v":19},"Shotwell Rd","Cycle Length (sec)"]
[null,null,null,null,"Green Time (sec)","Dir 2"]
[null,null,null,null,null,"Dir 6"]
[null,null,null,null,"Lost Time Per Phase (sec)"]
[null,null,null,null,"# of Phases in critical path"]
[null,null,null,null,"Platoon Ratio","Dir 2"]
[null,null,null,null,null,"Dir 6"]
[null,null,{"$f":"C114+1","v":20},"Shotwell Rd","Cycle Length (sec)"]
[null,null,null,null,"Green Time (sec)","Dir 2"]
[null,null,null,null,null,"Dir 6"]
[null,null,null,null,"Lost Time Per Phase (sec)"]
[null,null,null,null,"# of Phases in critical path"]
[null,null,null,null,"Platoon Ratio","Dir 2"]
[null,null,null,null,null,"Dir 6"]
[null,null,{"$f":"C121+1","v":21},"Shotwell Rd","Cycle Length (sec)"]
[null,null,null,null,"Green Time (sec)","Dir 2"]
[null,null,null,null,null,"Dir 6"]
[null,null,null,null,"Lost Time Per Phase (sec)"]
[null,null,null,null,"# of Phases in critical path"]
[null,null,null,null,"Platoon Ratio","Dir 2"]
[null,null,null,null,null,"Dir 6"]
[null,null,{"$f":"C128+1","v":22},"Shotwell Rd","Cycle Length (sec)"]
[null,null,null,null,"Green Time (sec)","Dir 2"]
[null,null,null,null,null,"Dir 6"]
[null,null,null,null,"Lost Time Per Phase (sec)"]
[null,null,null,null,"# of Phases in critical path"]
[null,null,null,null,"Platoon Ratio","Dir 2"]
[null,null,null,null,null,"Dir 6"]

{"sheet":"Admin","index":8,"n_rows":126,"n_cols":20,"rows_kept":126,"cut":false,"hidden":true,"merged":[]}
[null,null,null,null,null,null,null,null,null,null,null,null,"Hourly factor Urban",null,null,null,"Dual Peak"]
["Area Types",1,"Urban",null,"Major Facility Types",1,"Major Arterial",null,"Major"]
[null,2,"SubUrban",null,null,2,"Minor Arterial",null,"Minor",null,1]
[null,3,null,null,null,3,"Collector",null,null,null,2,null,0,4.156558070611235E-3,2.680159732185201E-3,null,2.1818181818181819E-3,1.9456830158086746E-3]
[null,null,null,null,null,null,null,null,null,null,3,null,1,2.5312049780518652E-3,1.3219788595890908E-3,null,1.9393939393939393E-3,1.8646128901499799E-3]
[null,null,null,null,null,null,null,null,null,null,4,null,2,1.5753991217883176E-3,1.2106066775623518E-3,null,7.2727272727272723E-4,4.8642075395216865E-4]
["Current number of APs",1,"Smooth",null,null,1,"Enabled",null,null,"Hours :",5,null,3,1.4865407003481091E-3,2.0868546551113293E-3,null,1.4545454545454545E-3,7.2963113092825295E-4]
["Current Number of Sections",5,"Milled",null,"Signal Setting",2,"Disabled",null,null,null,6,null,4,1.9476382180145175E-3,5.1627125413012155E-3,null,2.6666666666666666E-3,2.0267531414673691E-3]
["Yes and No","Yes",null,null,null,3,null,null,null,"00:00:00",7,null,5,6.6459806528122089E-3,1.8864676186172415E-2,null,1.2040404040404041E-2,8.4312930685042555E-3]
[null,"No",null,null,null,null,null,null,null,"00:15:00",8,null,6,1.8795785423747456E-2,5.9898093242675865E-2,null,3.7494949494949498E-2,3.6400486420753955E-2]
[null,null,"Tight ",null,"Coordinated Cycle length",null,120,null,null,"00:30:00",9,null,7,4.4674521995672761E-2,0.10430953438269189,null,8.727272727272728E-2,7.685447912444264E-2]
[null,null,"Wide",null,null,null,null,null,null,"00:45:00",10,null,8,4.930184032217716E-2,8.4507512918912328E-2,null,8.9939393939393944E-2,7.6773408998783946E-2]
[null,null,null,null,null,null,null,null,null,"01:00:00",11,null,9,4.6970451227209511E-2,6.4141058577781518E-2,null,5.9313131313131311E-2,6.1613295500608026E-2]
[null,null,null,null,null,null,null,null,null,"01:15:00",12,null,10,5.1146692653467836E-2,5.5126375480908402E-2,null,4.4606060606060607E-2,4.9533846777462504E-2]
["Section Type","Link",null,null,"Peak Direction",null,"2NB",null,null,"01:30:00",13,null,11,5.7985346517125648E-2,6.4203538949342512E-2,null,5.5757575757575756E-2,5.8613700851236322E-2]
[null,"Int.",null,null,null,null,"2EB",null,null,"01:45:00",14,null,12,6.4675525250345436E-2,6.9342497121162278E-2,null,5.624242424242424E-2,6.2910417511147149E-2]
[null,"RBT",null,null,null,null,"6WB",null,null,"02:00:00",15,null,13,6.5966798115694461E-2,6.1243686767554199E-2,null,5.6404040404040401E-2,5.8694770976895017E-2]
[null,"TWSC",null,null,null,null,"6SB",null,null,"02:15:00",16,null,14,6.8026601637631329E-2,6.4750718358956322E-2,null,6.6343434343434343E-2,6.388325901905148E-2]
[null,null,null,null,null,null,null,null,null,"02:30:00",17,null,15,8.2448745436592932E-2,6.1766213044050035E-2,null,7.2727272727272724E-2,7.4827725982975268E-2]
[null,null,null,null,"Progression Quality",null,"Non-Coordinated",null,null,"02:45:00",18,null,16,9.9280832813513797E-2,6.8873496177507029E-2,null,8.3717171717171718E-2,8.8609647344953385E-2]
["Work Zone Active","D2",null,null,null,null,"Normal",null,null,"03:00:00",19,null,17,0.11988423622078617,7.0710117340345116E-2,null,9.3010101010101015E-2,0.10522902310498582]
[null,"D6",null,null,null,null,"Coordinated",null,null,"03:15:00",20,null,18,8.5018750483882494E-2,5.0256529494535337E-2,null,6.2787878787878781E-2,6.8666396432914473E-2]
[null,"D2&D6",null,null,null,null,null,null,null,"03:30:00",21,null,19,5.6342338051016155E-2,3.7504186468959783E-2,null,4.7272727272727272E-2,3.9400081070125659E-2]
[null,"None",null,null,null,null,null,null,null,"03:45:00",22,null,20,3.7916092717909952E-2,2.3891950169936182E-2,null,3.2969696969696968E-2,2.9995946493717066E-2]
[null,null,null,null,"Turn Lane Configuration",null,"None",null,null,"04:00:00",23,null,21,2.5716050655175408E-2,1.5805829613786831E-2,null,1.9313131313131313E-2,2.0105391163356304E-2]
[null,null,null,null,null,null,"Left",null,null,"04:15:00",24,null,22,4.8549891401558709E-3,7.9203242776455032E-3,null,9.2929292929292938E-3,8.9177138224564249E-3]
["Coordination Setting","Actu.",null,null,null,null,"Right",null,null,"04:30:00",25,null,23,2.651079596269324E-3,4.4213489613272716E-3,null,4.5252525252525251E-3,3.486015403323875E-3]
[null,"Coor.",null,null,null,null,"Both",null,null,"04:45:00",26]
["Dictated Cycle Length",false,null,null,null,null,null,null,null,"05:00:00",27]
["Default Cycle Length",180,null,null,null,"Work Intensity","Light",null,null,"05:15:00",28]
["Delay Per mile drive way",0.1,null,null,null,null,"Heavy",null,null,"05:30:00",29]
[null,null,null,null,null,null,null,null,null,"05:45:00",30]
[null,null,null,null,null,null,null,null,null,"06:00:00",31]
["Main arterial type","minor arterial type","Percent Turn Major","Percent Turn Minor","Lost time per cycle for 2 phase",null,null,null,null,"06:15:00",32]
["Major","Major",0.1,0.15,null,null,null,null,null,"06:30:00",33]
["Major","Intermediate",0.11,0.15,null,null,null,null,null,"06:45:00",34]
["Major","Minor",0.12,0.15,null,null,null,null,null,"07:00:00",35]
["Intermediate","Major",0.13,0.15,null,null,null,null,null,"07:15:00",36]
["Intermediate","Intermediate",0.14000000000000001,0.15,null,null,null,null,null,"07:30:00",37]
["Intermediate","Minor",0.15,0.15,null,null,null,null,null,"07:45:00",38]
["Minor","Major",0.16,0.15,null,null,null,null,null,"08:00:00",39]
["Minor","Intermediate",0.17,0.15,null,null,null,null,null,"08:15:00",40]
["Minor","Minor",0.08,0.15,null,null,null,null,null,"08:30:00",41]
[null,null,null,null,null,null,null,null,null,"08:45:00",42]
[null,null,null,null,null,null,null,null,null,"09:00:00",43]
["Saturation Flow Rate:","Major Arterial",1800,null,null,null,null,null,null,"09:15:00",44]
[null,"Minor Arterial",1750,null,null,null,null,null,null,"09:30:00",45]
[null,"Collector",1700,null,null,null,null,null,null,"09:45:00",46]
[null,null,null,null,null,null,null,null,null,"10:00:00",47]
["Sat flow for minor","Major",1800,null,null,null,null,null,null,"10:15:00",48]
[null,"Minor",1700,null,null,null,null,null,null,"10:30:00",49]
[null,null,null,null,null,null,null,null,null,"10:45:00",50]
[null,null,null,null,null,null,null,null,null,"11:00:00",51]
[null,null,null,null,null,null,null,null,null,"11:15:00",52]
[null,null,null,null,null,null,null,null,null,"11:30:00",53]
[null,null,null,null,null,null,null,null,null,"11:45:00",54]
[null,null,null,null,null,null,null,null,null,"12:00:00",55]
[null,null,null,null,null,null,null,null,null,"12:15:00",56]
[null,null,null,null,null,null,null,null,null,"12:30:00",57]
[null,null,null,null,null,null,null,null,null,"12:45:00",58]
[null,null,null,null,null,null,null,null,null,"13:00:00",59]
[null,null,null,null,null,null,null,null,null,"13:15:00",60]
[null,null,null,null,null,null,null,null,null,"13:30:00"]
[null,null,null,null,null,null,null,null,null,"13:45:00"]
[null,null,null,null,null,null,null,null,null,"14:00:00"]
[null,null,null,null,null,null,null,null,null,"14:15:00"]
[null,null,null,null,null,null,null,null,null,"14:30:00"]
[null,null,null,null,null,null,null,null,null,"14:45:00"]
[null,null,null,null,null,null,null,null,null,"15:00:00"]
[null,null,null,null,null,null,null,null,null,"15:15:00"]
[null,null,null,null,null,null,null,null,null,"15:30:00"]
[null,null,null,null,null,null,null,null,null,"15:45:00"]
[null,null,null,null,null,null,null,null,null,"16:00:00"]
[null,null,null,null,null,null,null,null,null,"16:15:00"]
[null,null,null,null,null,null,null,null,null,"16:30:00"]
[null,null,null,null,null,null,null,null,null,"16:45:00"]
[null,null,null,null,null,null,null,null,null,"17:00:00"]
[null,null,null,null,null,null,null,null,null,"17:15:00"]
[null,null,null,null,null,null,null,null,null,"17:30:00"]
[null,null,null,null,null,null,null,null,null,"17:45:00"]
[null,null,null,null,null,null,null,null,null,"18:00:00"]
[null,null,null,null,null,null,null,null,null,"18:15:00"]
[null,null,null,null,null,null,null,null,null,"18:30:00"]
[null,null,null,null,null,null,null,null,null,"18:45:00"]
[null,null,null,null,null,null,null,null,null,"19:00:00"]
[null,null,null,null,null,null,null,null,null,"19:15:00"]
[null,null,null,null,null,null,null,null,null,"19:30:00"]
[null,null,null,null,null,null,null,null,null,"19:45:00"]
[null,null,null,null,null,null,null,null,null,"20:00:00"]
[null,null,null,null,null,null,null,null,null,"20:15:00"]
[null,null,null,null,null,null,null,null,null,"20:30:00"]
[null,null,null,null,null,null,null,null,null,"20:45:00"]
[null,null,null,null,null,null,null,null,null,"21:00:00"]
[null,null,null,null,null,null,null,null,null,"21:15:00"]
[null,null,null,null,null,null,null,null,null,"21:30:00"]
[null,null,null,null,null,null,null,null,null,"21:45:00"]
[null,null,null,null,null,null,null,null,null,"22:00:00"]
[null,null,null,null,null,null,null,null,null,"22:15:00"]
[null,null,null,null,null,null,null,null,null,"22:30:00"]
[null,null,null,null,null,null,null,null,null,"22:45:00"]
[null,null,null,null,null,null,null,null,null,"23:00:00"]
[null,null,null,null,null,null,null,null,null,"23:15:00"]
[null,null,null,null,null,null,null,null,null,"23:30:00"]
[null,null,null,null,null,null,null,null,null,"23:45:00"]
[]
[]
[]
[]
[]
[]
[]
[]
[]
[]
[]
[]
[]
[]
[]
[]
[]
[]
[]
[]
["Chart Formulas"]
[null,{"$f":"0","v":0},{"$f":"B126+'Facility Features'!E8","v":0},{"$f":"C126+'Facility Features'!#REF!","v":{"$error":"#REF!"}},{"$f":"D126+'Facility Features'!#REF!","v":{"$error":"#REF!"}},{"$f":"E126+'Facility Features'!#REF!","v":{"$error":"#REF!"}},{"$f":"F126+'Facility Features'!#REF!","v":{"$error":"#REF!"}},{"$f":"G126+'Facility Features'!#REF!","v":{"$error":"#REF!"}},{"$f":"H126+'Facility Features'!#REF!","v":{"$error":"#REF!"}},{"$f":"I126+'Facility Features'!J8","v":{"$error":"#REF!"}},{"$f":"J126+'Facility Features'!#REF!","v":{"$error":"#REF!"}},{"$f":"K126+'Facility Features'!#REF!","v":{"$error":"#REF!"}},{"$f":"L126+'Facility Features'!#REF!","v":{"$error":"#REF!"}},{"$f":"M126+'Facility Features'!#REF!","v":{"$error":"#REF!"}},{"$f":"N126+'Facility Features'!#REF!","v":{"$error":"#REF!"}},{"$f":"O126+'Facility Features'!#REF!","v":{"$error":"#REF!"}},{"$f":"P126+'Facility Features'!#REF!","v":{"$error":"#REF!"}},{"$f":"Q126+'Facility Features'!#REF!","v":{"$error":"#REF!"}},{"$f":"R126+'Facility Features'!#REF!","v":{"$error":"#REF!"}},{"$f":"S126+'Facility Features'!#REF!","v":{"$error":"#REF!"}}]

{"sheet":"Unserved Vehicles","index":9,"n_rows":205,"n_cols":9,"rows_kept":205,"cut":false,"hidden":true,"merged":[[108,1,108,3],[3,1,3,3],[4,1,4,3],[6,1,6,3],[105,1,105,3],[106,1,106,3],[5,1,5,3],[107,1,107,3]]}
[]
[null,"Unserved Vehicles on the Facility Features(veh):"]
[null,"Direction 2:"]
[null,"Feature #:",null,null,1,2,3,4,5]
[null,"Feature Name:"]
[null,"Feature Type:",null,null,"Int.","Link","Int.","Link","Int."]
[null,"Feature Length:"]
[null,"t=1",{"$f":"Start!F10","v":"07:15:00"},{"$f":"C8+'Signal Timing'!$E$1","v":"07:30:00"},null,0,null,0]
[null,"t=2",{"$f":"D8","v":"07:30:00"},{"$f":"C9+'Signal Timing'!$E$1","v":"07:45:00"},null,0,null,0]
[null,"t=3",{"$f":"D9","v":"07:45:00"},{"$f":"C10+'Signal Timing'!$E$1","v":"08:00:00"},null,0,null,0]
[null,"t=4","08:00:00",{"$f":"C11+'Signal Timing'!$E$1","v":"08:15:00"},null,0,null,0]
[null,"t=5","08:15:00",{"$f":"C12+'Signal Timing'!$E$1","v":"08:30:00"},null,0,null,0]
[null,"t=6","08:30:00",{"$f":"C13+'Signal Timing'!$E$1","v":"08:45:00"},null,2034.8956801029517,null,0]
[null,"t=7","08:45:00",{"$f":"C14+'Signal Timing'!$E$1","v":"09:00:00"},null,1322.2342233674738,null,0]
[null,"t=8","09:00:00",{"$f":"C15+'Signal Timing'!$E$1","v":"09:15:00"},null,755.17470947022366,null,0]
[null,"t=9","09:15:00",{"$f":"C16+'Signal Timing'!$E$1","v":"09:30:00"},null,0,null,0]
[null,"t=10","09:30:00",{"$f":"C17+'Signal Timing'!$E$1","v":"09:45:00"},null,0,null,0]
[null,"t=11","09:45:00",{"$f":"C18+'Signal Timing'!$E$1","v":"10:00:00"},null,0,null,0]
[null,"t=12","10:00:00",{"$f":"C19+'Signal Timing'!$E$1","v":"10:15:00"},null,0,null,0]
[null,"t=13","10:15:00",{"$f":"C20+'Signal Timing'!$E$1","v":"10:30:00"},null,0,null,0]
[null,"t=14","10:30:00",{"$f":"C21+'Signal Timing'!$E$1","v":"10:45:00"},null,0,null,0]
[null,"t=15","10:45:00",{"$f":"C22+'Signal Timing'!$E$1","v":"11:00:00"},null,0,null,0]
[null,"t=16","11:00:00",{"$f":"C23+'Signal Timing'!$E$1","v":"11:15:00"},null,0,null,0]
[null,"t=17","11:15:00",{"$f":"C24+'Signal Timing'!$E$1","v":"11:30:00"},null,0,null,0]
[null,"t=18","11:30:00",{"$f":"C25+'Signal Timing'!$E$1","v":"11:45:00"},null,0,null,0]
[null,"t=19","11:45:00",{"$f":"C26+'Signal Timing'!$E$1","v":"12:00:00"},null,0,null,0]
[null,"t=20","12:00:00",{"$f":"C27+'Signal Timing'!$E$1","v":"12:15:00"},null,0,null,0]
[null,"t=21","12:15:00",{"$f":"C28+'Signal Timing'!$E$1","v":"12:30:00"}]
[null,"t=22","12:30:00",{"$f":"C29+'Signal Timing'!$E$1","v":"12:45:00"}]
[null,"t=23","12:45:00",{"$f":"C30+'Signal Timing'!$E$1","v":"13:00:00"}]
[null,"t=24","13:00:00",{"$f":"C31+'Signal Timing'!$E$1","v":"13:15:00"}]
[null,"t=25","13:15:00",{"$f":"C32+'Signal Timing'!$E$1","v":"13:30:00"}]
[null,"t=26","13:30:00",{"$f":"C33+'Signal Timing'!$E$1","v":"13:45:00"}]
[null,"t=27","13:45:00",{"$f":"C34+'Signal Timing'!$E$1","v":"14:00:00"}]
[null,"t=28","14:00:00",{"$f":"C35+'Signal Timing'!$E$1","v":"14:15:00"}]
[null,"t=29","14:15:00",{"$f":"C36+'Signal Timing'!$E$1","v":"14:30:00"}]
[null,"t=30","14:30:00",{"$f":"C37+'Signal Timing'!$E$1","v":"14:45:00"}]
[null,"t=31","14:45:00",{"$f":"C38+'Signal Timing'!$E$1","v":"15:00:00"}]
[null,"t=32","15:00:00",{"$f":"C39+'Signal Timing'!$E$1","v":"15:15:00"}]
[null,"t=33","15:15:00",{"$f":"C40+'Signal Timing'!$E$1","v":"15:30:00"}]
[null,"t=34","15:30:00",{"$f":"C41+'Signal Timing'!$E$1","v":"15:45:00"}]
[null,"t=35","15:45:00",{"$f":"C42+'Signal Timing'!$E$1","v":"16:00:00"}]
[null,"t=36","16:00:00",{"$f":"C43+'Signal Timing'!$E$1","v":"16:15:00"}]
[null,"t=37","16:15:00",{"$f":"C44+'Signal Timing'!$E$1","v":"16:30:00"}]
[null,"t=38","16:30:00",{"$f":"C45+'Signal Timing'!$E$1","v":"16:45:00"}]
[null,"t=39","16:45:00",{"$f":"C46+'Signal Timing'!$E$1","v":"17:00:00"}]
[null,"t=40","17:00:00",{"$f":"C47+'Signal Timing'!$E$1","v":"17:15:00"}]
[null,"t=41","17:15:00",{"$f":"C48+'Signal Timing'!$E$1","v":"17:30:00"}]
[null,"t=42","17:30:00",{"$f":"C49+'Signal Timing'!$E$1","v":"17:45:00"}]
[null,"t=43","17:45:00",{"$f":"C50+'Signal Timing'!$E$1","v":"18:00:00"}]
[null,"t=44","18:00:00",{"$f":"C51+'Signal Timing'!$E$1","v":"18:15:00"}]
[null,"t=45","18:15:00",{"$f":"C52+'Signal Timing'!$E$1","v":"18:30:00"}]
[null,"t=46","18:30:00",{"$f":"C53+'Signal Timing'!$E$1","v":"18:45:00"}]
[null,"t=47","18:45:00",{"$f":"C54+'Signal Timing'!$E$1","v":"19:00:00"}]
[null,"t=48","19:00:00",{"$f":"C55+'Signal Timing'!$E$1","v":"19:15:00"}]
[null,"t=49","19:15:00",{"$f":"C56+'Signal Timing'!$E$1","v":"19:30:00"}]
[null,"t=50","19:30:00",{"$f":"C57+'Signal Timing'!$E$1","v":"19:45:00"}]
[null,"t=51","19:45:00",{"$f":"C58+'Signal Timing'!$E$1","v":"20:00:00"}]
[null,"t=52","20:00:00",{"$f":"C59+'Signal Timing'!$E$1","v":"20:15:00"}]
[null,"t=53","20:15:00",{"$f":"C60+'Signal Timing'!$E$1","v":"20:30:00"}]
[null,"t=54","20:30:00",{"$f":"C61+'Signal Timing'!$E$1","v":"20:45:00"}]
[null,"t=55","20:45:00",{"$f":"C62+'Signal Timing'!$E$1","v":"21:00:00"}]
[null,"t=56","21:00:00",{"$f":"C63+'Signal Timing'!$E$1","v":"21:15:00"}]
[null,"t=57","21:15:00",{"$f":"C64+'Signal Timing'!$E$1","v":"21:30:00"}]
[null,"t=58","21:30:00",{"$f":"C65+'Signal Timing'!$E$1","v":"21:45:00"}]
[null,"t=59","21:45:00",{"$f":"C66+'Signal Timing'!$E$1","v":"22:00:00"}]
[null,"t=60","22:00:00",{"$f":"C67+'Signal Timing'!$E$1","v":"22:15:00"}]
[null,"t=61","22:15:00",{"$f":"C68+'Signal Timing'!$E$1","v":"22:30:00"}]
[null,"t=62","22:30:00",{"$f":"C69+'Signal Timing'!$E$1","v":"22:45:00"}]
[null,"t=63","22:45:00",{"$f":"C70+'Signal Timing'!$E$1","v":"23:00:00"}]
[null,"t=64","23:00:00",{"$f":"C71+'Signal Timing'!$E$1","v":"23:15:00"}]
[null,"t=65","23:15:00",{"$f":"C72+'Signal Timing'!$E$1","v":"23:30:00"}]
[null,"t=66","23:30:00",{"$f":"C73+'Signal Timing'!$E$1","v":"23:45:00"}]
[null,"t=67",{"$f":"D73","v":"23:45:00"},{"$f":"C74+'Signal Timing'!$E$1","v":0.99999999999999822}]
[null,"t=68",0.99999999999999822,{"$f":"C75+'Signal Timing'!$E$1","v":1.010416666666665}]
[null,"t=69",1.010416666666665,{"$f":"C76+'Signal Timing'!$E$1","v":1.0208333333333317}]
[null,"t=70",1.0208333333333317,{"$f":"C77+'Signal Timing'!$E$1","v":1.0312499999999984}]
[null,"t=71",1.0312499999999984,{"$f":"C78+'Signal Timing'!$E$1","v":1.0416666666666652}]
[null,"t=72",1.0416666666666652,{"$f":"C79+'Signal Timing'!$E$1","v":1.0520833333333319}]
[null,"t=73",1.0520833333333319,{"$f":"C80+'Signal Timing'!$E$1","v":1.0624999999999987}]
[null,"t=74",1.0624999999999987,{"$f":"C81+'Signal Timing'!$E$1","v":1.0729166666666654}]
[null,"t=75",1.0729166666666654,{"$f":"C82+'Signal Timing'!$E$1","v":1.0833333333333321}]
[null,"t=76",1.0833333333333321,{"$f":"C83+'Signal Timing'!$E$1","v":1.0937499999999989}]
[null,"t=77",1.0937499999999989,{"$f":"C84+'Signal Timing'!$E$1","v":1.1041666666666656}]
[null,"t=78",1.1041666666666656,{"$f":"C85+'Signal Timing'!$E$1","v":1.1145833333333324}]
[null,"t=79",1.1145833333333324,{"$f":"C86+'Signal Timing'!$E$1","v":1.1249999999999991}]
[null,"t=80",1.1249999999999991,{"$f":"C87+'Signal Timing'!$E$1","v":1.1354166666666659}]
[null,"t=81",1.1354166666666659,{"$f":"C88+'Signal Timing'!$E$1","v":1.1458333333333326}]
[null,"t=82",1.1458333333333326,{"$f":"C89+'Signal Timing'!$E$1","v":1.1562499999999993}]
[null,"t=83",1.1562499999999993,{"$f":"C90+'Signal Timing'!$E$1","v":1.1666666666666661}]
[null,"t=84",1.1666666666666661,{"$f":"C91+'Signal Timing'!$E$1","v":1.1770833333333328}]
[null,"t=85",1.1770833333333328,{"$f":"C92+'Signal Timing'!$E$1","v":1.1874999999999996}]
[null,"t=86",1.1874999999999996,{"$f":"C93+'Signal Timing'!$E$1","v":1.1979166666666663}]
[null,"t=87",1.1979166666666663,{"$f":"C94+'Signal Timing'!$E$1","v":1.208333333333333}]
[null,"t=88",1.208333333333333,{"$f":"C95+'Signal Timing'!$E$1","v":1.2187499999999998}]
[null,"t=89",1.2187499999999998,{"$f":"C96+'Signal Timing'!$E$1","v":1.2291666666666665}]
[null,"t=90",1.2291666666666665,{"$f":"C97+'Signal Timing'!$E$1","v":1.2395833333333333}]
[null,"t=91",1.2395833333333333,{"$f":"C98+'Signal Timing'!$E$1","v":1.25}]
[null,"t=92",1.25,{"$f":"C99+'Signal Timing'!$E$1","v":1.2604166666666667}]
[null,"t=93",1.2604166666666667,{"$f":"C100+'Signal Timing'!$E$1","v":1.2708333333333335}]
[null,"t=94",1.2708333333333335,{"$f":"C101+'Signal Timing'!$E$1","v":1.2812500000000002}]
[null,"t=95",1.2812500000000002,{"$f":"C102+'Signal Timing'!$E$1","v":1.291666666666667}]
[null,"t=96",1.291666666666667,{"$f":"C103+'Signal Timing'!$E$1","v":1.3020833333333337}]
[]
[null,"Direction 6:"]
[null,"Feature #:",null,null,1,2,3,4,5]
[null,"Feature Name:"]
[null,"Feature Type:",null,null,"Int.","Link","Int.","Link","Int."]
[null,"Feature Length:"]
[null,"t=1",{"$f":"C8","v":"07:15:00"},{"$f":"D8","v":"07:30:00"},null,0,null,0]
[null,"t=2",{"$f":"C9","v":"07:30:00"},"07:45:00",null,0,null,0]
[null,"t=3",{"$f":"C10","v":"07:45:00"},"08:00:00",null,0,null,0]
[null,"t=4",{"$f":"C11","v":"08:00:00"},"08:15:00",null,0,null,0]
[null,"t=5",{"$f":"C12","v":"08:15:00"},"08:30:00",null,0,null,0]
[null,"t=6",{"$f":"C13","v":"08:30:00"},"08:45:00",null,0,null,1416.1456801029517]
[null,"t=7",{"$f":"C14","v":"08:45:00"},"09:00:00",null,0,null,0]
[null,"t=8",{"$f":"C15","v":"09:00:00"},"09:15:00",null,0,null,0]
[null,"t=9",{"$f":"C16","v":"09:15:00"},"09:30:00",null,0,null,0]
[null,"t=10",{"$f":"C17","v":"09:30:00"},"09:45:00",null,0,null,0]
[null,"t=11",{"$f":"C18","v":"09:45:00"},"10:00:00",null,0,null,0]
[null,"t=12",{"$f":"C19","v":"10:00:00"},"10:15:00",null,0,null,0]
[null,"t=13",{"$f":"C20","v":"10:15:00"},"10:30:00",null,0,null,0]
[null,"t=14",{"$f":"C21","v":"10:30:00"},"10:45:00",null,0,null,0]
[null,"t=15",{"$f":"C22","v":"10:45:00"},"11:00:00",null,0,null,0]
[null,"t=16",{"$f":"C23","v":"11:00:00"},"11:15:00",null,0,null,0]
[null,"t=17",{"$f":"C24","v":"11:15:00"},"11:30:00",null,0,null,0]
[null,"t=18",{"$f":"C25","v":"11:30:00"},"11:45:00",null,0,null,0]
[null,"t=19",{"$f":"C26","v":"11:45:00"},"12:00:00",null,0,null,0]
[null,"t=20",{"$f":"C27","v":"12:00:00"},"12:15:00",null,0,null,0]
[null,"t=21",{"$f":"C28","v":"12:15:00"},"12:30:00"]
[null,"t=22",{"$f":"C29","v":"12:30:00"},"12:45:00"]
[null,"t=23",{"$f":"C30","v":"12:45:00"},"13:00:00"]
[null,"t=24",{"$f":"C31","v":"13:00:00"},"13:15:00"]
[null,"t=25",{"$f":"C32","v":"13:15:00"},"13:30:00"]
[null,"t=26",{"$f":"C33","v":"13:30:00"},"13:45:00"]
[null,"t=27",{"$f":"C34","v":"13:45:00"},"14:00:00"]
[null,"t=28",{"$f":"C35","v":"14:00:00"},"14:15:00"]
[null,"t=29",{"$f":"C36","v":"14:15:00"},"14:30:00"]
[null,"t=30",{"$f":"C37","v":"14:30:00"},"14:45:00"]
[null,"t=31",{"$f":"C38","v":"14:45:00"},"15:00:00"]
[null,"t=32",{"$f":"C39","v":"15:00:00"},"15:15:00"]
[null,"t=33",{"$f":"C40","v":"15:15:00"},"15:30:00"]
[null,"t=34",{"$f":"C41","v":"15:30:00"},"15:45:00"]
[null,"t=35",{"$f":"C42","v":"15:45:00"},"16:00:00"]
[null,"t=36",{"$f":"C43","v":"16:00:00"},"16:15:00"]
[null,"t=37",{"$f":"C44","v":"16:15:00"},"16:30:00"]
[null,"t=38",{"$f":"C45","v":"16:30:00"},"16:45:00"]
[null,"t=39",{"$f":"C46","v":"16:45:00"},"17:00:00"]
[null,"t=40",{"$f":"C47","v":"17:00:00"},"17:15:00"]
[null,"t=41",{"$f":"C48","v":"17:15:00"},"17:30:00"]
[null,"t=42",{"$f":"C49","v":"17:30:00"},"17:45:00"]
[null,"t=43",{"$f":"C50","v":"17:45:00"},"18:00:00"]
[null,"t=44",{"$f":"C51","v":"18:00:00"},"18:15:00"]
[null,"t=45",{"$f":"C52","v":"18:15:00"},"18:30:00"]
[null,"t=46",{"$f":"C53","v":"18:30:00"},"18:45:00"]
[null,"t=47",{"$f":"C54","v":"18:45:00"},"19:00:00"]
[null,"t=48",{"$f":"C55","v":"19:00:00"},"19:15:00"]
[null,"t=49",{"$f":"C56","v":"19:15:00"},"19:30:00"]
[null,"t=50",{"$f":"C57","v":"19:30:00"},"19:45:00"]
[null,"t=51",{"$f":"C58","v":"19:45:00"},"20:00:00"]
[null,"t=52",{"$f":"C59","v":"20:00:00"},"20:15:00"]
[null,"t=53",{"$f":"C60","v":"20:15:00"},"20:30:00"]
[null,"t=54",{"$f":"C61","v":"20:30:00"},"20:45:00"]
[null,"t=55",{"$f":"C62","v":"20:45:00"},"21:00:00"]
[null,"t=56",{"$f":"C63","v":"21:00:00"},"21:15:00"]
[null,"t=57",{"$f":"C64","v":"21:15:00"},"21:30:00"]
[null,"t=58",{"$f":"C65","v":"21:30:00"},"21:45:00"]
[null,"t=59",{"$f":"C66","v":"21:45:00"},"22:00:00"]
[null,"t=60",{"$f":"C67","v":"22:00:00"},"22:15:00"]
[null,"t=61",{"$f":"C68","v":"22:15:00"},"22:30:00"]
[null,"t=62",{"$f":"C69","v":"22:30:00"},"22:45:00"]
[null,"t=63",{"$f":"C70","v":"22:45:00"},"23:00:00"]
[null,"t=64",{"$f":"C71","v":"23:00:00"},"23:15:00"]
[null,"t=65",{"$f":"C72","v":"23:15:00"},"23:30:00"]
[null,"t=66",{"$f":"C73","v":"23:30:00"},"23:45:00"]
[null,"t=67",{"$f":"C74","v":"23:45:00"},0.99999999999999822]
[null,"t=68",{"$f":"C75","v":0.99999999999999822},1.010416666666665]
[null,"t=69",{"$f":"C76","v":1.010416666666665},1.0208333333333317]
[null,"t=70",{"$f":"C77","v":1.0208333333333317},1.0312499999999984]
[null,"t=71",{"$f":"C78","v":1.0312499999999984},1.0416666666666652]
[null,"t=72",{"$f":"C79","v":1.0416666666666652},1.0520833333333319]
[null,"t=73",{"$f":"C80","v":1.0520833333333319},1.0624999999999987]
[null,"t=74",{"$f":"C81","v":1.0624999999999987},1.0729166666666654]
[null,"t=75",{"$f":"C82","v":1.0729166666666654},1.0833333333333321]
[null,"t=76",{"$f":"C83","v":1.0833333333333321},1.0937499999999989]
[null,"t=77",{"$f":"C84","v":1.0937499999999989},1.1041666666666656]
[null,"t=78",{"$f":"C85","v":1.1041666666666656},1.1145833333333324]
[null,"t=79",{"$f":"C86","v":1.1145833333333324},1.1249999999999991]
[null,"t=80",{"$f":"C87","v":1.1249999999999991},1.1354166666666659]
[null,"t=81",{"$f":"C88","v":1.1354166666666659},1.1458333333333326]
[null,"t=82",{"$f":"C89","v":1.1458333333333326},1.1562499999999993]
[null,"t=83",{"$f":"C90","v":1.1562499999999993},1.1666666666666661]
[null,"t=84",{"$f":"C91","v":1.1666666666666661},1.1770833333333328]
[null,"t=85",{"$f":"C92","v":1.1770833333333328},1.1874999999999996]
[null,"t=86",{"$f":"C93","v":1.1874999999999996},1.1979166666666663]
[null,"t=87",{"$f":"C94","v":1.1979166666666663},1.208333333333333]
[null,"t=88",{"$f":"C95","v":1.208333333333333},1.2187499999999998]
[null,"t=89",{"$f":"C96","v":1.2187499999999998},1.2291666666666665]
[null,"t=90",{"$f":"C97","v":1.2291666666666665},1.2395833333333333]
[null,"t=91",{"$f":"C98","v":1.2395833333333333},1.25]
[null,"t=92",{"$f":"C99","v":1.25},1.2604166666666667]
[null,"t=93",{"$f":"C100","v":1.2604166666666667},1.2708333333333335]
[null,"t=94",{"$f":"C101","v":1.2708333333333335},1.2812500000000002]
[null,"t=95",{"$f":"C102","v":1.2812500000000002},1.291666666666667]
[null,"t=96",{"$f":"C103","v":1.291666666666667},1.3020833333333337]

{"sheet":"TTI","index":10,"n_rows":205,"n_cols":9,"rows_kept":205,"cut":false,"hidden":true,"merged":[[108,1,108,3],[4,1,4,3],[5,1,5,3],[6,1,6,3],[106,1,106,3],[107,1,107,3]]}
[]
[null,"Travel Time Index (TTI) on the Facility Features:"]
[]
[null,"Direction 2:"]
[null,"Feature #:",null,null,1,2,3,4,5]
[null,"Feature Name:"]
[null,"Feature Type:",null,null,"Int.","Link","Int.","Link","Int."]
[null,"t=1",{"$f":"'Unserved Vehicles'!C8","v":"07:15:00"},{"$f":"'Unserved Vehicles'!D8","v":"07:30:00"},null,3.0492544840901652,null,3.1827282214055264]
[null,"t=2",{"$f":"'Unserved Vehicles'!C9","v":"07:30:00"},{"$f":"'Unserved Vehicles'!D9","v":"07:45:00"},null,2.8747564141523032,null,2.9880770961921916]
[null,"t=3",{"$f":"'Unserved Vehicles'!C10","v":"07:45:00"},{"$f":"'Unserved Vehicles'!D10","v":"08:00:00"},null,3.1033531205342855,null,3.2657135102362669]
[null,"t=4",{"$f":"'Unserved Vehicles'!C11","v":"08:00:00"},{"$f":"'Unserved Vehicles'!D11","v":"08:15:00"},null,3.1414725735333771,null,3.3075820288936488]
[null,"t=5",{"$f":"'Unserved Vehicles'!C12","v":"08:15:00"},{"$f":"'Unserved Vehicles'!D12","v":"08:30:00"},null,3.2022291666651346,null,3.3769636304382207]
[null,"t=6",{"$f":"'Unserved Vehicles'!C13","v":"08:30:00"},{"$f":"'Unserved Vehicles'!D13","v":"08:45:00"},null,7.5438117940863592,null,3.1951782599440515]
[null,"t=7",{"$f":"'Unserved Vehicles'!C14","v":"08:45:00"},{"$f":"'Unserved Vehicles'!D14","v":"09:00:00"},null,3.2376466845878995,null,3.3025643425471563]
[null,"t=8",{"$f":"'Unserved Vehicles'!C15","v":"09:00:00"},{"$f":"'Unserved Vehicles'!D15","v":"09:15:00"},null,3.2605645714811553,null,3.3410994895292259]
[null,"t=9",{"$f":"'Unserved Vehicles'!C16","v":"09:15:00"},{"$f":"'Unserved Vehicles'!D16","v":"09:30:00"},null,2.5908667015494782,null,2.8676873362412385]
[null,"t=10",{"$f":"'Unserved Vehicles'!C17","v":"09:30:00"},{"$f":"'Unserved Vehicles'!D17","v":"09:45:00"},null,2.7131252484507735,null,3.0544872581110178]
[null,"t=11",{"$f":"'Unserved Vehicles'!C18","v":"09:45:00"},{"$f":"'Unserved Vehicles'!D18","v":"10:00:00"},null,2.716441195979252,null,3.0604939307668748]
[null,"t=12",{"$f":"'Unserved Vehicles'!C19","v":"10:00:00"},{"$f":"'Unserved Vehicles'!D19","v":"10:15:00"},null,2.6992046438249111,null,3.0326765684970098]
[null,"t=13",{"$f":"'Unserved Vehicles'!C20","v":"10:15:00"},{"$f":"'Unserved Vehicles'!D20","v":"10:30:00"},null,2.6971051426164809,null,3.0285855552520635]
[null,"t=14",{"$f":"'Unserved Vehicles'!C21","v":"10:30:00"},{"$f":"'Unserved Vehicles'!D21","v":"10:45:00"},null,2.6951319293357745,null,3.0255265020895665]
[null,"t=15",{"$f":"'Unserved Vehicles'!C22","v":"10:45:00"},{"$f":"'Unserved Vehicles'!D22","v":"11:00:00"},null,2.693781436335895,null,3.022561435848417]
[null,"t=16",{"$f":"'Unserved Vehicles'!C23","v":"11:00:00"},{"$f":"'Unserved Vehicles'!D23","v":"11:15:00"},null,2.5969417563563475,null,2.8745037198874024]
[null,"t=17",{"$f":"'Unserved Vehicles'!C24","v":"11:15:00"},{"$f":"'Unserved Vehicles'!D24","v":"11:30:00"},null,2.6113489108247898,null,2.8968091056466942]
[null,"t=18",{"$f":"'Unserved Vehicles'!C25","v":"11:30:00"},{"$f":"'Unserved Vehicles'!D25","v":"11:45:00"},null,2.6256481115470334,null,2.9189231697569542]
[null,"t=19",{"$f":"'Unserved Vehicles'!C26","v":"11:45:00"},{"$f":"'Unserved Vehicles'!D26","v":"12:00:00"},null,2.6398543300438169,null,2.9416834430273986]
[null,"t=20",{"$f":"'Unserved Vehicles'!C27","v":"12:00:00"},{"$f":"'Unserved Vehicles'!D27","v":"12:15:00"},null,2.6537532862330648,null,2.9647468079064976]
[null,"t=21",{"$f":"'Unserved Vehicles'!C28","v":"12:15:00"},{"$f":"'Unserved Vehicles'!D28","v":"12:30:00"}]
[null,"t=22",{"$f":"'Unserved Vehicles'!C29","v":"12:30:00"},{"$f":"'Unserved Vehicles'!D29","v":"12:45:00"}]
[null,"t=23",{"$f":"'Unserved Vehicles'!C30","v":"12:45:00"},{"$f":"'Unserved Vehicles'!D30","v":"13:00:00"}]
[null,"t=24",{"$f":"'Unserved Vehicles'!C31","v":"13:00:00"},{"$f":"'Unserved Vehicles'!D31","v":"13:15:00"}]
[null,"t=25",{"$f":"'Unserved Vehicles'!C32","v":"13:15:00"},{"$f":"'Unserved Vehicles'!D32","v":"13:30:00"}]
[null,"t=26",{"$f":"'Unserved Vehicles'!C33","v":"13:30:00"},{"$f":"'Unserved Vehicles'!D33","v":"13:45:00"}]
[null,"t=27",{"$f":"'Unserved Vehicles'!C34","v":"13:45:00"},{"$f":"'Unserved Vehicles'!D34","v":"14:00:00"}]
[null,"t=28",{"$f":"'Unserved Vehicles'!C35","v":"14:00:00"},{"$f":"'Unserved Vehicles'!D35","v":"14:15:00"}]
[null,"t=29",{"$f":"'Unserved Vehicles'!C36","v":"14:15:00"},{"$f":"'Unserved Vehicles'!D36","v":"14:30:00"}]
[null,"t=30",{"$f":"'Unserved Vehicles'!C37","v":"14:30:00"},{"$f":"'Unserved Vehicles'!D37","v":"14:45:00"}]
[null,"t=31",{"$f":"'Unserved Vehicles'!C38","v":"14:45:00"},{"$f":"'Unserved Vehicles'!D38","v":"15:00:00"}]
[null,"t=32",{"$f":"'Unserved Vehicles'!C39","v":"15:00:00"},{"$f":"'Unserved Vehicles'!D39","v":"15:15:00"}]
[null,"t=33",{"$f":"'Unserved Vehicles'!C40","v":"15:15:00"},{"$f":"'Unserved Vehicles'!D40","v":"15:30:00"}]
[null,"t=34",{"$f":"'Unserved Vehicles'!C41","v":"15:30:00"},{"$f":"'Unserved Vehicles'!D41","v":"15:45:00"}]
[null,"t=35",{"$f":"'Unserved Vehicles'!C42","v":"15:45:00"},{"$f":"'Unserved Vehicles'!D42","v":"16:00:00"}]
[null,"t=36",{"$f":"'Unserved Vehicles'!C43","v":"16:00:00"},{"$f":"'Unserved Vehicles'!D43","v":"16:15:00"}]
[null,"t=37",{"$f":"'Unserved Vehicles'!C44","v":"16:15:00"},{"$f":"'Unserved Vehicles'!D44","v":"16:30:00"}]
[null,"t=38",{"$f":"'Unserved Vehicles'!C45","v":"16:30:00"},{"$f":"'Unserved Vehicles'!D45","v":"16:45:00"}]
[null,"t=39",{"$f":"'Unserved Vehicles'!C46","v":"16:45:00"},{"$f":"'Unserved Vehicles'!D46","v":"17:00:00"}]
[null,"t=40",{"$f":"'Unserved Vehicles'!C47","v":"17:00:00"},{"$f":"'Unserved Vehicles'!D47","v":"17:15:00"}]
[null,"t=41",{"$f":"'Unserved Vehicles'!C48","v":"17:15:00"},{"$f":"'Unserved Vehicles'!D48","v":"17:30:00"}]
[null,"t=42",{"$f":"'Unserved Vehicles'!C49","v":"17:30:00"},{"$f":"'Unserved Vehicles'!D49","v":"17:45:00"}]
[null,"t=43",{"$f":"'Unserved Vehicles'!C50","v":"17:45:00"},{"$f":"'Unserved Vehicles'!D50","v":"18:00:00"}]
[null,"t=44",{"$f":"'Unserved Vehicles'!C51","v":"18:00:00"},{"$f":"'Unserved Vehicles'!D51","v":"18:15:00"}]
[null,"t=45",{"$f":"'Unserved Vehicles'!C52","v":"18:15:00"},{"$f":"'Unserved Vehicles'!D52","v":"18:30:00"}]
[null,"t=46",{"$f":"'Unserved Vehicles'!C53","v":"18:30:00"},{"$f":"'Unserved Vehicles'!D53","v":"18:45:00"}]
[null,"t=47",{"$f":"'Unserved Vehicles'!C54","v":"18:45:00"},{"$f":"'Unserved Vehicles'!D54","v":"19:00:00"}]
[null,"t=48",{"$f":"'Unserved Vehicles'!C55","v":"19:00:00"},{"$f":"'Unserved Vehicles'!D55","v":"19:15:00"}]
[null,"t=49",{"$f":"'Unserved Vehicles'!C56","v":"19:15:00"},{"$f":"'Unserved Vehicles'!D56","v":"19:30:00"}]
[null,"t=50",{"$f":"'Unserved Vehicles'!C57","v":"19:30:00"},{"$f":"'Unserved Vehicles'!D57","v":"19:45:00"}]
[null,"t=51",{"$f":"'Unserved Vehicles'!C58","v":"19:45:00"},{"$f":"'Unserved Vehicles'!D58","v":"20:00:00"}]
[null,"t=52",{"$f":"'Unserved Vehicles'!C59","v":"20:00:00"},{"$f":"'Unserved Vehicles'!D59","v":"20:15:00"}]
[null,"t=53",{"$f":"'Unserved Vehicles'!C60","v":"20:15:00"},{"$f":"'Unserved Vehicles'!D60","v":"20:30:00"}]
[null,"t=54",{"$f":"'Unserved Vehicles'!C61","v":"20:30:00"},{"$f":"'Unserved Vehicles'!D61","v":"20:45:00"}]
[null,"t=55",{"$f":"'Unserved Vehicles'!C62","v":"20:45:00"},{"$f":"'Unserved Vehicles'!D62","v":"21:00:00"}]
[null,"t=56",{"$f":"'Unserved Vehicles'!C63","v":"21:00:00"},{"$f":"'Unserved Vehicles'!D63","v":"21:15:00"}]
[null,"t=57",{"$f":"'Unserved Vehicles'!C64","v":"21:15:00"},{"$f":"'Unserved Vehicles'!D64","v":"21:30:00"}]
[null,"t=58",{"$f":"'Unserved Vehicles'!C65","v":"21:30:00"},{"$f":"'Unserved Vehicles'!D65","v":"21:45:00"}]
[null,"t=59",{"$f":"'Unserved Vehicles'!C66","v":"21:45:00"},{"$f":"'Unserved Vehicles'!D66","v":"22:00:00"}]
[null,"t=60",{"$f":"'Unserved Vehicles'!C67","v":"22:00:00"},{"$f":"'Unserved Vehicles'!D67","v":"22:15:00"}]
[null,"t=61",{"$f":"'Unserved Vehicles'!C68","v":"22:15:00"},{"$f":"'Unserved Vehicles'!D68","v":"22:30:00"}]
[null,"t=62",{"$f":"'Unserved Vehicles'!C69","v":"22:30:00"},{"$f":"'Unserved Vehicles'!D69","v":"22:45:00"}]
[null,"t=63",{"$f":"'Unserved Vehicles'!C70","v":"22:45:00"},{"$f":"'Unserved Vehicles'!D70","v":"23:00:00"}]
[null,"t=64",{"$f":"'Unserved Vehicles'!C71","v":"23:00:00"},{"$f":"'Unserved Vehicles'!D71","v":"23:15:00"}]
[null,"t=65",{"$f":"'Unserved Vehicles'!C72","v":"23:15:00"},{"$f":"'Unserved Vehicles'!D72","v":"23:30:00"}]
[null,"t=66",{"$f":"'Unserved Vehicles'!C73","v":"23:30:00"},{"$f":"'Unserved Vehicles'!D73","v":"23:45:00"}]
[null,"t=67",{"$f":"'Unserved Vehicles'!C74","v":"23:45:00"},{"$f":"'Unserved Vehicles'!D74","v":0.99999999999999822}]
[null,"t=68",{"$f":"'Unserved Vehicles'!C75","v":0.99999999999999822},{"$f":"'Unserved Vehicles'!D75","v":1.010416666666665}]
[null,"t=69",{"$f":"'Unserved Vehicles'!C76","v":1.010416666666665},{"$f":"'Unserved Vehicles'!D76","v":1.0208333333333317}]
[null,"t=70",{"$f":"'Unserved Vehicles'!C77","v":1.0208333333333317},{"$f":"'Unserved Vehicles'!D77","v":1.0312499999999984}]
[null,"t=71",{"$f":"'Unserved Vehicles'!C78","v":1.0312499999999984},{"$f":"'Unserved Vehicles'!D78","v":1.0416666666666652}]
[null,"t=72",{"$f":"'Unserved Vehicles'!C79","v":1.0416666666666652},{"$f":"'Unserved Vehicles'!D79","v":1.0520833333333319}]
[null,"t=73",{"$f":"'Unserved Vehicles'!C80","v":1.0520833333333319},{"$f":"'Unserved Vehicles'!D80","v":1.0624999999999987}]
[null,"t=74",{"$f":"'Unserved Vehicles'!C81","v":1.0624999999999987},{"$f":"'Unserved Vehicles'!D81","v":1.0729166666666654}]
[null,"t=75",{"$f":"'Unserved Vehicles'!C82","v":1.0729166666666654},{"$f":"'Unserved Vehicles'!D82","v":1.0833333333333321}]
[null,"t=76",{"$f":"'Unserved Vehicles'!C83","v":1.0833333333333321},{"$f":"'Unserved Vehicles'!D83","v":1.0937499999999989}]
[null,"t=77",{"$f":"'Unserved Vehicles'!C84","v":1.0937499999999989},{"$f":"'Unserved Vehicles'!D84","v":1.1041666666666656}]
[null,"t=78",{"$f":"'Unserved Vehicles'!C85","v":1.1041666666666656},{"$f":"'Unserved Vehicles'!D85","v":1.1145833333333324}]
[null,"t=79",{"$f":"'Unserved Vehicles'!C86","v":1.1145833333333324},{"$f":"'Unserved Vehicles'!D86","v":1.1249999999999991}]
[null,"t=80",{"$f":"'Unserved Vehicles'!C87","v":1.1249999999999991},{"$f":"'Unserved Vehicles'!D87","v":1.1354166666666659}]
[null,"t=81",{"$f":"'Unserved Vehicles'!C88","v":1.1354166666666659},{"$f":"'Unserved Vehicles'!D88","v":1.1458333333333326}]
[null,"t=82",{"$f":"'Unserved Vehicles'!C89","v":1.1458333333333326},{"$f":"'Unserved Vehicles'!D89","v":1.1562499999999993}]
[null,"t=83",{"$f":"'Unserved Vehicles'!C90","v":1.1562499999999993},{"$f":"'Unserved Vehicles'!D90","v":1.1666666666666661}]
[null,"t=84",{"$f":"'Unserved Vehicles'!C91","v":1.1666666666666661},{"$f":"'Unserved Vehicles'!D91","v":1.1770833333333328}]
[null,"t=85",{"$f":"'Unserved Vehicles'!C92","v":1.1770833333333328},{"$f":"'Unserved Vehicles'!D92","v":1.1874999999999996}]
[null,"t=86",{"$f":"'Unserved Vehicles'!C93","v":1.1874999999999996},{"$f":"'Unserved Vehicles'!D93","v":1.1979166666666663}]
[null,"t=87",{"$f":"'Unserved Vehicles'!C94","v":1.1979166666666663},{"$f":"'Unserved Vehicles'!D94","v":1.208333333333333}]
[null,"t=88",{"$f":"'Unserved Vehicles'!C95","v":1.208333333333333},{"$f":"'Unserved Vehicles'!D95","v":1.2187499999999998}]
[null,"t=89",{"$f":"'Unserved Vehicles'!C96","v":1.2187499999999998},{"$f":"'Unserved Vehicles'!D96","v":1.2291666666666665}]
[null,"t=90",{"$f":"'Unserved Vehicles'!C97","v":1.2291666666666665},{"$f":"'Unserved Vehicles'!D97","v":1.2395833333333333}]
[null,"t=91",{"$f":"'Unserved Vehicles'!C98","v":1.2395833333333333},{"$f":"'Unserved Vehicles'!D98","v":1.25}]
[null,"t=92",{"$f":"'Unserved Vehicles'!C99","v":1.25},{"$f":"'Unserved Vehicles'!D99","v":1.2604166666666667}]
[null,"t=93",{"$f":"'Unserved Vehicles'!C100","v":1.2604166666666667},{"$f":"'Unserved Vehicles'!D100","v":1.2708333333333335}]
[null,"t=94",{"$f":"'Unserved Vehicles'!C101","v":1.2708333333333335},{"$f":"'Unserved Vehicles'!D101","v":1.2812500000000002}]
[null,"t=95",{"$f":"'Unserved Vehicles'!C102","v":1.2812500000000002},{"$f":"'Unserved Vehicles'!D102","v":1.291666666666667}]
[null,"t=96",{"$f":"'Unserved Vehicles'!C103","v":1.291666666666667},{"$f":"'Unserved Vehicles'!D103","v":1.3020833333333337}]
[]
[]
[null,"Direction 6:"]
[null,"Feature #:",null,null,1,2,3,4,5]
[null,"Feature Name:"]
[null,"Feature Type:",null,null,"Int.","Link","Int.","Link","Int."]
[null,"t=1",{"$f":"C8","v":"07:15:00"},{"$f":"D8","v":"07:30:00"},null,4.2711096693153126,null,8.9693359343619772]
[null,"t=2",{"$f":"C9","v":"07:30:00"},"07:45:00",null,2.5354047947642973,null,2.5161185498628407]
[null,"t=3","07:45:00","08:00:00",null,2.5635431469965795,null,2.573623977093888]
[null,"t=4","08:00:00","08:15:00",null,2.5857273933657998,null,2.6185849994781965]
[null,"t=5","08:15:00","08:30:00",null,2.6872210008803754,null,8.106447925650917]
[null,"t=6","08:30:00","08:45:00",null,2.9235074195945998,null,14.148607827170299]
[null,"t=7","08:45:00","09:00:00",null,2.9750775263210247,null,3.3655528976751441]
[null,"t=8","09:00:00","09:15:00",null,2.9389207699753621,null,3.1048186802139681]
[null,"t=9","09:15:00","09:30:00",null,2.8436396921723972,null,2.9163149391113539]
[null,"t=10","09:30:00","09:45:00",null,2.958943546125862,null,3.0777646244114445]
[null,"t=11","09:45:00","10:00:00",null,2.9213574706131511,null,3.0422300086036893]
[null,"t=12","10:00:00","10:15:00",null,2.8594858202994788,null,2.9746981141263773]
[null,"t=13","10:15:00","10:30:00",null,2.8251078491081993,null,2.9358126363706063]
[null,"t=14","10:30:00","10:45:00",null,2.7920453336298467,null,2.8985388507568817]
[null,"t=15","10:45:00","11:00:00",null,2.7601449627317427,null,2.8627065246110068]
[null,"t=16","11:00:00","11:15:00",null,2.6307949333350331,null,2.6977203257898488]
[null,"t=17","11:15:00","11:30:00",null,2.6496061125418051,null,2.7166631914683239]
[null,"t=18",{"$f":"C25","v":"11:30:00"},"11:45:00",null,2.6680731931694299,null,2.7354948480137624]
[null,"t=19","11:45:00","12:00:00",null,2.686682180778972,null,2.7542439184937981]
[null,"t=20","12:00:00","12:15:00",null,2.7050070261108394,null,2.7726891998715022]
[null,"t=21","12:15:00","12:30:00"]
[null,"t=22","12:30:00","12:45:00"]
[null,"t=23","12:45:00","13:00:00"]
[null,"t=24","13:00:00","13:15:00"]
[null,"t=25","13:15:00","13:30:00"]
[null,"t=26","13:30:00","13:45:00"]
[null,"t=27","13:45:00","14:00:00"]
[null,"t=28","14:00:00","14:15:00"]
[null,"t=29","14:15:00","14:30:00"]
[null,"t=30","14:30:00","14:45:00"]
[null,"t=31","14:45:00","15:00:00"]
[null,"t=32","15:00:00","15:15:00"]
[null,"t=33","15:15:00","15:30:00"]
[null,"t=34",{"$f":"C41","v":"15:30:00"},"15:45:00"]
[null,"t=35","15:45:00","16:00:00"]
[null,"t=36","16:00:00","16:15:00"]
[null,"t=37","16:15:00","16:30:00"]
[null,"t=38","16:30:00","16:45:00"]
[null,"t=39","16:45:00","17:00:00"]
[null,"t=40","17:00:00","17:15:00"]
[null,"t=41","17:15:00","17:30:00"]
[null,"t=42","17:30:00","17:45:00"]
[null,"t=43","17:45:00","18:00:00"]
[null,"t=44","18:00:00","18:15:00"]
[null,"t=45","18:15:00","18:30:00"]
[null,"t=46","18:30:00","18:45:00"]
[null,"t=47","18:45:00","19:00:00"]
[null,"t=48","19:00:00","19:15:00"]
[null,"t=49","19:15:00","19:30:00"]
[null,"t=50",{"$f":"C57","v":"19:30:00"},"19:45:00"]
[null,"t=51","19:45:00","20:00:00"]
[null,"t=52","20:00:00","20:15:00"]
[null,"t=53","20:15:00","20:30:00"]
[null,"t=54","20:30:00","20:45:00"]
[null,"t=55","20:45:00","21:00:00"]
[null,"t=56","21:00:00","21:15:00"]
[null,"t=57","21:15:00","21:30:00"]
[null,"t=58","21:30:00","21:45:00"]
[null,"t=59","21:45:00","22:00:00"]
[null,"t=60","22:00:00","22:15:00"]
[null,"t=61","22:15:00","22:30:00"]
[null,"t=62","22:30:00","22:45:00"]
[null,"t=63","22:45:00","23:00:00"]
[null,"t=64","23:00:00","23:15:00"]
[null,"t=65","23:15:00","23:30:00"]
[null,"t=66",{"$f":"C73","v":"23:30:00"},"23:45:00"]
[null,"t=67","23:45:00",0.99999999999999822]
[null,"t=68",0.99999999999999822,1.010416666666665]
[null,"t=69",1.010416666666665,1.0208333333333317]
[null,"t=70",1.0208333333333317,1.0312499999999984]
[null,"t=71",1.0312499999999984,1.0416666666666652]
[null,"t=72",1.0416666666666652,1.0520833333333319]
[null,"t=73",1.0520833333333319,1.0624999999999987]
[null,"t=74",1.0624999999999987,1.0729166666666654]
[null,"t=75",1.0729166666666654,1.0833333333333321]
[null,"t=76",1.0833333333333321,1.0937499999999989]
[null,"t=77",1.0937499999999989,1.1041666666666656]
[null,"t=78",1.1041666666666656,1.1145833333333324]
[null,"t=79",1.1145833333333324,1.1249999999999991]
[null,"t=80",1.1249999999999991,1.1354166666666659]
[null,"t=81",1.1354166666666659,1.1458333333333326]
[null,"t=82",{"$f":"C89","v":1.1458333333333326},1.1562499999999993]
[null,"t=83",1.1562499999999993,1.1666666666666661]
[null,"t=84",1.1666666666666661,1.1770833333333328]
[null,"t=85",1.1770833333333328,1.1874999999999996]
[null,"t=86",1.1874999999999996,1.1979166666666663]
[null,"t=87",1.1979166666666663,1.208333333333333]
[null,"t=88",1.208333333333333,1.2187499999999998]
[null,"t=89",1.2187499999999998,1.2291666666666665]
[null,"t=90",1.2291666666666665,1.2395833333333333]
[null,"t=91",1.2395833333333333,1.25]
[null,"t=92",1.25,1.2604166666666667]
[null,"t=93",1.2604166666666667,1.2708333333333335]
[null,"t=94",1.2708333333333335,1.2812500000000002]
[null,"t=95",1.2812500000000002,1.291666666666667]
[null,"t=96",1.291666666666667,1.3020833333333337]

{"sheet":"Speed","index":11,"n_rows":205,"n_cols":9,"rows_kept":205,"cut":false,"hidden":true,"merged":[[108,1,108,3],[4,1,4,3],[5,1,5,3],[6,1,6,3],[106,1,106,3],[107,1,107,3]]}
[]
[null,"Travel Speeds (mph) on the Facility Features:"]
[]
[null,"Direction 2:"]
[null,"Feature #:",null,null,1,2,3,4,5]
[null,"Feature Name:"]
[null,"Feature Type:",null,null,"Int.","Link","Int.","Link","Int."]
[null,"t=1",{"$f":"'Unserved Vehicles'!C8","v":"07:15:00"},{"$f":"'Unserved Vehicles'!D8","v":"07:30:00"},null,14.302512377222241,null,13.702709426047219]
[null,"t=2",{"$f":"'Unserved Vehicles'!C9","v":"07:30:00"},{"$f":"'Unserved Vehicles'!D9","v":"07:45:00"},null,15.170676647697865,null,14.595339610071061]
[null,"t=3",{"$f":"'Unserved Vehicles'!C10","v":"07:45:00"},{"$f":"'Unserved Vehicles'!D10","v":"08:00:00"},null,14.053186442570091,null,13.354508857956978]
[null,"t=4",{"$f":"'Unserved Vehicles'!C11","v":"08:00:00"},{"$f":"'Unserved Vehicles'!D11","v":"08:15:00"},null,13.882661388619834,null,13.185462860489586]
[null,"t=5",{"$f":"'Unserved Vehicles'!C12","v":"08:15:00"},{"$f":"'Unserved Vehicles'!D12","v":"08:30:00"},null,13.619262623049057,null,12.914560170830319]
[null,"t=6",{"$f":"'Unserved Vehicles'!C13","v":"08:30:00"},{"$f":"'Unserved Vehicles'!D13","v":"08:45:00"},null,6.3339332030335918,null,14.954408209085859]
[null,"t=7",{"$f":"'Unserved Vehicles'!C14","v":"08:45:00"},{"$f":"'Unserved Vehicles'!D14","v":"09:00:00"},null,14.75825025239957,null,14.468151122575058]
[null,"t=8",{"$f":"'Unserved Vehicles'!C15","v":"09:00:00"},{"$f":"'Unserved Vehicles'!D15","v":"09:15:00"},null,14.654517324370724,null,14.301280207232818]
[null,"t=9",{"$f":"'Unserved Vehicles'!C16","v":"09:15:00"},{"$f":"'Unserved Vehicles'!D16","v":"09:30:00"},null,17.907083801382182,null,16.12450875833143]
[null,"t=10",{"$f":"'Unserved Vehicles'!C17","v":"09:30:00"},{"$f":"'Unserved Vehicles'!D17","v":"09:45:00"},null,17.100156791268358,null,15.138399889077997]
[null,"t=11",{"$f":"'Unserved Vehicles'!C18","v":"09:45:00"},{"$f":"'Unserved Vehicles'!D18","v":"10:00:00"},null,17.079282706921337,null,15.108688537013863]
[null,"t=12",{"$f":"'Unserved Vehicles'!C19","v":"10:00:00"},{"$f":"'Unserved Vehicles'!D19","v":"10:15:00"},null,17.188347407817602,null,15.247273662385465]
[null,"t=13",{"$f":"'Unserved Vehicles'!C20","v":"10:15:00"},{"$f":"'Unserved Vehicles'!D20","v":"10:30:00"},null,17.201727292636857,null,15.267869679028932]
[null,"t=14",{"$f":"'Unserved Vehicles'!C21","v":"10:30:00"},{"$f":"'Unserved Vehicles'!D21","v":"10:45:00"},null,17.214321361363314,null,15.283306736015204]
[null,"t=15",{"$f":"'Unserved Vehicles'!C22","v":"10:45:00"},{"$f":"'Unserved Vehicles'!D22","v":"11:00:00"},null,17.222951542038931,null,15.298299323533403]
[null,"t=16",{"$f":"'Unserved Vehicles'!C23","v":"11:00:00"},{"$f":"'Unserved Vehicles'!D23","v":"11:15:00"},null,17.865193560579389,null,16.086272301358949]
[null,"t=17",{"$f":"'Unserved Vehicles'!C24","v":"11:15:00"},{"$f":"'Unserved Vehicles'!D24","v":"11:30:00"},null,17.766628944350224,null,15.962408250941751]
[null,"t=18",{"$f":"'Unserved Vehicles'!C25","v":"11:30:00"},{"$f":"'Unserved Vehicles'!D25","v":"11:45:00"},null,17.669872416955851,null,15.841475393553502]
[null,"t=19",{"$f":"'Unserved Vehicles'!C26","v":"11:45:00"},{"$f":"'Unserved Vehicles'!D26","v":"12:00:00"},null,17.574783053308501,null,15.718907375632027]
[null,"t=20",{"$f":"'Unserved Vehicles'!C27","v":"12:00:00"},{"$f":"'Unserved Vehicles'!D27","v":"12:15:00"},null,17.48273563467291,null,15.596626816854407]
[null,"t=21",{"$f":"'Unserved Vehicles'!C28","v":"12:15:00"},{"$f":"'Unserved Vehicles'!D28","v":"12:30:00"}]
[null,"t=22",{"$f":"'Unserved Vehicles'!C29","v":"12:30:00"},{"$f":"'Unserved Vehicles'!D29","v":"12:45:00"}]
[null,"t=23",{"$f":"'Unserved Vehicles'!C30","v":"12:45:00"},{"$f":"'Unserved Vehicles'!D30","v":"13:00:00"}]
[null,"t=24",{"$f":"'Unserved Vehicles'!C31","v":"13:00:00"},{"$f":"'Unserved Vehicles'!D31","v":"13:15:00"}]
[null,"t=25",{"$f":"'Unserved Vehicles'!C32","v":"13:15:00"},{"$f":"'Unserved Vehicles'!D32","v":"13:30:00"}]
[null,"t=26",{"$f":"'Unserved Vehicles'!C33","v":"13:30:00"},{"$f":"'Unserved Vehicles'!D33","v":"13:45:00"}]
[null,"t=27",{"$f":"'Unserved Vehicles'!C34","v":"13:45:00"},{"$f":"'Unserved Vehicles'!D34","v":"14:00:00"}]
[null,"t=28",{"$f":"'Unserved Vehicles'!C35","v":"14:00:00"},{"$f":"'Unserved Vehicles'!D35","v":"14:15:00"}]
[null,"t=29",{"$f":"'Unserved Vehicles'!C36","v":"14:15:00"},{"$f":"'Unserved Vehicles'!D36","v":"14:30:00"}]
[null,"t=30",{"$f":"'Unserved Vehicles'!C37","v":"14:30:00"},{"$f":"'Unserved Vehicles'!D37","v":"14:45:00"}]
[null,"t=31",{"$f":"'Unserved Vehicles'!C38","v":"14:45:00"},{"$f":"'Unserved Vehicles'!D38","v":"15:00:00"}]
[null,"t=32",{"$f":"'Unserved Vehicles'!C39","v":"15:00:00"},{"$f":"'Unserved Vehicles'!D39","v":"15:15:00"}]
[null,"t=33",{"$f":"'Unserved Vehicles'!C40","v":"15:15:00"},{"$f":"'Unserved Vehicles'!D40","v":"15:30:00"}]
[null,"t=34",{"$f":"'Unserved Vehicles'!C41","v":"15:30:00"},{"$f":"'Unserved Vehicles'!D41","v":"15:45:00"}]
[null,"t=35",{"$f":"'Unserved Vehicles'!C42","v":"15:45:00"},{"$f":"'Unserved Vehicles'!D42","v":"16:00:00"}]
[null,"t=36",{"$f":"'Unserved Vehicles'!C43","v":"16:00:00"},{"$f":"'Unserved Vehicles'!D43","v":"16:15:00"}]
[null,"t=37",{"$f":"'Unserved Vehicles'!C44","v":"16:15:00"},{"$f":"'Unserved Vehicles'!D44","v":"16:30:00"}]
[null,"t=38",{"$f":"'Unserved Vehicles'!C45","v":"16:30:00"},{"$f":"'Unserved Vehicles'!D45","v":"16:45:00"}]
[null,"t=39",{"$f":"'Unserved Vehicles'!C46","v":"16:45:00"},{"$f":"'Unserved Vehicles'!D46","v":"17:00:00"}]
[null,"t=40",{"$f":"'Unserved Vehicles'!C47","v":"17:00:00"},{"$f":"'Unserved Vehicles'!D47","v":"17:15:00"}]
[null,"t=41",{"$f":"'Unserved Vehicles'!C48","v":"17:15:00"},{"$f":"'Unserved Vehicles'!D48","v":"17:30:00"}]
[null,"t=42",{"$f":"'Unserved Vehicles'!C49","v":"17:30:00"},{"$f":"'Unserved Vehicles'!D49","v":"17:45:00"}]
[null,"t=43",{"$f":"'Unserved Vehicles'!C50","v":"17:45:00"},{"$f":"'Unserved Vehicles'!D50","v":"18:00:00"}]
[null,"t=44",{"$f":"'Unserved Vehicles'!C51","v":"18:00:00"},{"$f":"'Unserved Vehicles'!D51","v":"18:15:00"}]
[null,"t=45",{"$f":"'Unserved Vehicles'!C52","v":"18:15:00"},{"$f":"'Unserved Vehicles'!D52","v":"18:30:00"}]
[null,"t=46",{"$f":"'Unserved Vehicles'!C53","v":"18:30:00"},{"$f":"'Unserved Vehicles'!D53","v":"18:45:00"}]
[null,"t=47",{"$f":"'Unserved Vehicles'!C54","v":"18:45:00"},{"$f":"'Unserved Vehicles'!D54","v":"19:00:00"}]
[null,"t=48",{"$f":"'Unserved Vehicles'!C55","v":"19:00:00"},{"$f":"'Unserved Vehicles'!D55","v":"19:15:00"}]
[null,"t=49",{"$f":"'Unserved Vehicles'!C56","v":"19:15:00"},{"$f":"'Unserved Vehicles'!D56","v":"19:30:00"}]
[null,"t=50",{"$f":"'Unserved Vehicles'!C57","v":"19:30:00"},{"$f":"'Unserved Vehicles'!D57","v":"19:45:00"}]
[null,"t=51",{"$f":"'Unserved Vehicles'!C58","v":"19:45:00"},{"$f":"'Unserved Vehicles'!D58","v":"20:00:00"}]
[null,"t=52",{"$f":"'Unserved Vehicles'!C59","v":"20:00:00"},{"$f":"'Unserved Vehicles'!D59","v":"20:15:00"}]
[null,"t=53",{"$f":"'Unserved Vehicles'!C60","v":"20:15:00"},{"$f":"'Unserved Vehicles'!D60","v":"20:30:00"}]
[null,"t=54",{"$f":"'Unserved Vehicles'!C61","v":"20:30:00"},{"$f":"'Unserved Vehicles'!D61","v":"20:45:00"}]
[null,"t=55",{"$f":"'Unserved Vehicles'!C62","v":"20:45:00"},{"$f":"'Unserved Vehicles'!D62","v":"21:00:00"}]
[null,"t=56",{"$f":"'Unserved Vehicles'!C63","v":"21:00:00"},{"$f":"'Unserved Vehicles'!D63","v":"21:15:00"}]
[null,"t=57",{"$f":"'Unserved Vehicles'!C64","v":"21:15:00"},{"$f":"'Unserved Vehicles'!D64","v":"21:30:00"}]
[null,"t=58",{"$f":"'Unserved Vehicles'!C65","v":"21:30:00"},{"$f":"'Unserved Vehicles'!D65","v":"21:45:00"}]
[null,"t=59",{"$f":"'Unserved Vehicles'!C66","v":"21:45:00"},{"$f":"'Unserved Vehicles'!D66","v":"22:00:00"}]
[null,"t=60",{"$f":"'Unserved Vehicles'!C67","v":"22:00:00"},{"$f":"'Unserved Vehicles'!D67","v":"22:15:00"}]
[null,"t=61",{"$f":"'Unserved Vehicles'!C68","v":"22:15:00"},{"$f":"'Unserved Vehicles'!D68","v":"22:30:00"}]
[null,"t=62",{"$f":"'Unserved Vehicles'!C69","v":"22:30:00"},{"$f":"'Unserved Vehicles'!D69","v":"22:45:00"}]
[null,"t=63",{"$f":"'Unserved Vehicles'!C70","v":"22:45:00"},{"$f":"'Unserved Vehicles'!D70","v":"23:00:00"}]
[null,"t=64",{"$f":"'Unserved Vehicles'!C71","v":"23:00:00"},{"$f":"'Unserved Vehicles'!D71","v":"23:15:00"}]
[null,"t=65",{"$f":"'Unserved Vehicles'!C72","v":"23:15:00"},{"$f":"'Unserved Vehicles'!D72","v":"23:30:00"}]
[null,"t=66",{"$f":"'Unserved Vehicles'!C73","v":"23:30:00"},{"$f":"'Unserved Vehicles'!D73","v":"23:45:00"}]
[null,"t=67",{"$f":"'Unserved Vehicles'!C74","v":"23:45:00"},{"$f":"'Unserved Vehicles'!D74","v":0.99999999999999822}]
[null,"t=68",{"$f":"'Unserved Vehicles'!C75","v":0.99999999999999822},{"$f":"'Unserved Vehicles'!D75","v":1.010416666666665}]
[null,"t=69",{"$f":"'Unserved Vehicles'!C76","v":1.010416666666665},{"$f":"'Unserved Vehicles'!D76","v":1.0208333333333317}]
[null,"t=70",{"$f":"'Unserved Vehicles'!C77","v":1.0208333333333317},{"$f":"'Unserved Vehicles'!D77","v":1.0312499999999984}]
[null,"t=71",{"$f":"'Unserved Vehicles'!C78","v":1.0312499999999984},{"$f":"'Unserved Vehicles'!D78","v":1.0416666666666652}]
[null,"t=72",{"$f":"'Unserved Vehicles'!C79","v":1.0416666666666652},{"$f":"'Unserved Vehicles'!D79","v":1.0520833333333319}]
[null,"t=73",{"$f":"'Unserved Vehicles'!C80","v":1.0520833333333319},{"$f":"'Unserved Vehicles'!D80","v":1.0624999999999987}]
[null,"t=74",{"$f":"'Unserved Vehicles'!C81","v":1.0624999999999987},{"$f":"'Unserved Vehicles'!D81","v":1.0729166666666654}]
[null,"t=75",{"$f":"'Unserved Vehicles'!C82","v":1.0729166666666654},{"$f":"'Unserved Vehicles'!D82","v":1.0833333333333321}]
[null,"t=76",{"$f":"'Unserved Vehicles'!C83","v":1.0833333333333321},{"$f":"'Unserved Vehicles'!D83","v":1.0937499999999989}]
[null,"t=77",{"$f":"'Unserved Vehicles'!C84","v":1.0937499999999989},{"$f":"'Unserved Vehicles'!D84","v":1.1041666666666656}]
[null,"t=78",{"$f":"'Unserved Vehicles'!C85","v":1.1041666666666656},{"$f":"'Unserved Vehicles'!D85","v":1.1145833333333324}]
[null,"t=79",{"$f":"'Unserved Vehicles'!C86","v":1.1145833333333324},{"$f":"'Unserved Vehicles'!D86","v":1.1249999999999991}]
[null,"t=80",{"$f":"'Unserved Vehicles'!C87","v":1.1249999999999991},{"$f":"'Unserved Vehicles'!D87","v":1.1354166666666659}]
[null,"t=81",{"$f":"'Unserved Vehicles'!C88","v":1.1354166666666659},{"$f":"'Unserved Vehicles'!D88","v":1.1458333333333326}]
[null,"t=82",{"$f":"'Unserved Vehicles'!C89","v":1.1458333333333326},{"$f":"'Unserved Vehicles'!D89","v":1.1562499999999993}]
[null,"t=83",{"$f":"'Unserved Vehicles'!C90","v":1.1562499999999993},{"$f":"'Unserved Vehicles'!D90","v":1.1666666666666661}]
[null,"t=84",{"$f":"'Unserved Vehicles'!C91","v":1.1666666666666661},{"$f":"'Unserved Vehicles'!D91","v":1.1770833333333328}]
[null,"t=85",{"$f":"'Unserved Vehicles'!C92","v":1.1770833333333328},{"$f":"'Unserved Vehicles'!D92","v":1.1874999999999996}]
[null,"t=86",{"$f":"'Unserved Vehicles'!C93","v":1.1874999999999996},{"$f":"'Unserved Vehicles'!D93","v":1.1979166666666663}]
[null,"t=87",{"$f":"'Unserved Vehicles'!C94","v":1.1979166666666663},{"$f":"'Unserved Vehicles'!D94","v":1.208333333333333}]
[null,"t=88",{"$f":"'Unserved Vehicles'!C95","v":1.208333333333333},{"$f":"'Unserved Vehicles'!D95","v":1.2187499999999998}]
[null,"t=89",{"$f":"'Unserved Vehicles'!C96","v":1.2187499999999998},{"$f":"'Unserved Vehicles'!D96","v":1.2291666666666665}]
[null,"t=90",{"$f":"'Unserved Vehicles'!C97","v":1.2291666666666665},{"$f":"'Unserved Vehicles'!D97","v":1.2395833333333333}]
[null,"t=91",{"$f":"'Unserved Vehicles'!C98","v":1.2395833333333333},{"$f":"'Unserved Vehicles'!D98","v":1.25}]
[null,"t=92",{"$f":"'Unserved Vehicles'!C99","v":1.25},{"$f":"'Unserved Vehicles'!D99","v":1.2604166666666667}]
[null,"t=93",{"$f":"'Unserved Vehicles'!C100","v":1.2604166666666667},{"$f":"'Unserved Vehicles'!D100","v":1.2708333333333335}]
[null,"t=94",{"$f":"'Unserved Vehicles'!C101","v":1.2708333333333335},{"$f":"'Unserved Vehicles'!D101","v":1.2812500000000002}]
[null,"t=95",{"$f":"'Unserved Vehicles'!C102","v":1.2812500000000002},{"$f":"'Unserved Vehicles'!D102","v":1.291666666666667}]
[null,"t=96",{"$f":"'Unserved Vehicles'!C103","v":1.291666666666667},{"$f":"'Unserved Vehicles'!D103","v":1.3020833333333337}]
[]
[]
[null,"Direction 6:"]
[null,"Feature #:",null,null,1,2,3,4,5]
[null,"Feature Name:"]
[null,"Feature Type:",null,null,"Int.","Link","Int.","Link","Int."]
[null,"t=1",{"$f":"C8","v":"07:15:00"},{"$f":"D8","v":"07:30:00"},null,10.24745403154593,null,4.8797369526903989]
[null,"t=2",{"$f":"C9","v":"07:30:00"},"07:45:00",null,17.262726681902041,null,17.395046828133712]
[null,"t=3","07:45:00","08:00:00",null,17.073244915451546,null,17.006369380123051]
[null,"t=4","08:00:00","08:15:00",null,16.926765022598882,null,16.714370550782814]
[null,"t=5","08:15:00","08:30:00",null,16.287458301963596,null,5.3799149023088475]
[null,"t=6","08:30:00","08:45:00",null,16.397427172135423,null,3.3881778748536799]
[null,"t=7","08:45:00","09:00:00",null,16.113193547356072,null,14.243722044337678]
[null,"t=8","09:00:00","09:15:00",null,16.311429858791968,null,15.439871031920088]
[null,"t=9","09:15:00","09:30:00",null,16.328795898676081,null,15.923945790333663]
[null,"t=10","09:30:00","09:45:00",null,15.692496804696406,null,15.08862654070888]
[null,"t=11","09:45:00","10:00:00",null,15.894395879293567,null,15.264868490092869]
[null,"t=12","10:00:00","10:15:00",null,16.238308234728059,null,15.611413063200164]
[null,"t=13","10:15:00","10:30:00",null,16.435907803489588,null,15.818189629212801]
[null,"t=14","10:30:00","10:45:00",null,16.630536611843205,null,16.021603776614189]
[null,"t=15","10:45:00","11:00:00",null,16.822744011568776,null,16.222145231691087]
[null,"t=16","11:00:00","11:15:00",null,17.649878960346872,null,17.214253291564891]
[null,"t=17","11:15:00","11:30:00",null,17.524571642202734,null,17.094221007518254]
[null,"t=18",{"$f":"C25","v":"11:30:00"},"11:45:00",null,17.403275240623621,null,16.976541203018115]
[null,"t=19","11:45:00","12:00:00",null,17.282733504933724,null,16.860976141628534]
[null,"t=20","12:00:00","12:15:00",null,17.165653062874711,null,16.748808701711539]
[null,"t=21","12:15:00","12:30:00"]
[null,"t=22","12:30:00","12:45:00"]
[null,"t=23","12:45:00","13:00:00"]
[null,"t=24","13:00:00","13:15:00"]
[null,"t=25","13:15:00","13:30:00"]
[null,"t=26","13:30:00","13:45:00"]
[null,"t=27","13:45:00","14:00:00"]
[null,"t=28","14:00:00","14:15:00"]
[null,"t=29","14:15:00","14:30:00"]
[null,"t=30","14:30:00","14:45:00"]
[null,"t=31","14:45:00","15:00:00"]
[null,"t=32","15:00:00","15:15:00"]
[null,"t=33","15:15:00","15:30:00"]
[null,"t=34",{"$f":"C41","v":"15:30:00"},"15:45:00"]
[null,"t=35","15:45:00","16:00:00"]
[null,"t=36","16:00:00","16:15:00"]
[null,"t=37","16:15:00","16:30:00"]
[null,"t=38","16:30:00","16:45:00"]
[null,"t=39","16:45:00","17:00:00"]
[null,"t=40","17:00:00","17:15:00"]
[null,"t=41","17:15:00","17:30:00"]
[null,"t=42","17:30:00","17:45:00"]
[null,"t=43","17:45:00","18:00:00"]
[null,"t=44","18:00:00","18:15:00"]
[null,"t=45","18:15:00","18:30:00"]
[null,"t=46","18:30:00","18:45:00"]
[null,"t=47","18:45:00","19:00:00"]
[null,"t=48","19:00:00","19:15:00"]
[null,"t=49","19:15:00","19:30:00"]
[null,"t=50",{"$f":"C57","v":"19:30:00"},"19:45:00"]
[null,"t=51","19:45:00","20:00:00"]
[null,"t=52","20:00:00","20:15:00"]
[null,"t=53","20:15:00","20:30:00"]
[null,"t=54","20:30:00","20:45:00"]
[null,"t=55","20:45:00","21:00:00"]
[null,"t=56","21:00:00","21:15:00"]
[null,"t=57","21:15:00","21:30:00"]
[null,"t=58","21:30:00","21:45:00"]
[null,"t=59","21:45:00","22:00:00"]
[null,"t=60","22:00:00","22:15:00"]
[null,"t=61","22:15:00","22:30:00"]
[null,"t=62","22:30:00","22:45:00"]
[null,"t=63","22:45:00","23:00:00"]
[null,"t=64","23:00:00","23:15:00"]
[null,"t=65","23:15:00","23:30:00"]
[null,"t=66",{"$f":"C73","v":"23:30:00"},"23:45:00"]
[null,"t=67","23:45:00",0.99999999999999822]
[null,"t=68",0.99999999999999822,1.010416666666665]
[null,"t=69",1.010416666666665,1.0208333333333317]
[null,"t=70",1.0208333333333317,1.0312499999999984]
[null,"t=71",1.0312499999999984,1.0416666666666652]
[null,"t=72",1.0416666666666652,1.0520833333333319]
[null,"t=73",1.0520833333333319,1.0624999999999987]
[null,"t=74",1.0624999999999987,1.0729166666666654]
[null,"t=75",1.0729166666666654,1.0833333333333321]
[null,"t=76",1.0833333333333321,1.0937499999999989]
[null,"t=77",1.0937499999999989,1.1041666666666656]
[null,"t=78",1.1041666666666656,1.1145833333333324]
[null,"t=79",1.1145833333333324,1.1249999999999991]
[null,"t=80",1.1249999999999991,1.1354166666666659]
[null,"t=81",1.1354166666666659,1.1458333333333326]
[null,"t=82",{"$f":"C89","v":1.1458333333333326},1.1562499999999993]
[null,"t=83",1.1562499999999993,1.1666666666666661]
[null,"t=84",1.1666666666666661,1.1770833333333328]
[null,"t=85",1.1770833333333328,1.1874999999999996]
[null,"t=86",1.1874999999999996,1.1979166666666663]
[null,"t=87",1.1979166666666663,1.208333333333333]
[null,"t=88",1.208333333333333,1.2187499999999998]
[null,"t=89",1.2187499999999998,1.2291666666666665]
[null,"t=90",1.2291666666666665,1.2395833333333333]
[null,"t=91",1.2395833333333333,1.25]
[null,"t=92",1.25,1.2604166666666667]
[null,"t=93",1.2604166666666667,1.2708333333333335]
[null,"t=94",1.2708333333333335,1.2812500000000002]
[null,"t=95",1.2812500000000002,1.291666666666667]
[null,"t=96",1.291666666666667,1.3020833333333337]

{"sheet":"Delay","index":12,"n_rows":205,"n_cols":9,"rows_kept":205,"cut":false,"hidden":true,"merged":[[108,1,108,3],[4,1,4,3],[5,1,5,3],[6,1,6,3],[106,1,106,3],[107,1,107,3]]}
[]
[null,"Delay (sec) on the Facility Features:"]
[]
[null,"Direction 2:"]
[null,"Feature #:",null,null,1,2,3,4,5]
[null,"Feature Name:"]
[null,"Feature Type:",null,null,"Int.","Link","Int.","Link","Int."]
[null,"t=1",{"$f":"'Unserved Vehicles'!C8","v":"07:15:00"},{"$f":"'Unserved Vehicles'!D8","v":"07:30:00"},14.709556726520505,null,18.866652548094102,null,17.416172348470241]
[null,"t=2",{"$f":"'Unserved Vehicles'!C9","v":"07:30:00"},{"$f":"'Unserved Vehicles'!D9","v":"07:45:00"},11.146341550047531,null,13.432325255742333,null,12.758498146714835]
[null,"t=3",{"$f":"'Unserved Vehicles'!C10","v":"07:45:00"},{"$f":"'Unserved Vehicles'!D10","v":"08:00:00"},16.439457387853292,null,19.918759009964671,null,18.900103020959925]
[null,"t=4",{"$f":"'Unserved Vehicles'!C11","v":"08:00:00"},{"$f":"'Unserved Vehicles'!D11","v":"08:15:00"},16.997405646553339,null,20.773348887772052,null,19.657108977367319]
[null,"t=5",{"$f":"'Unserved Vehicles'!C12","v":"08:15:00"},{"$f":"'Unserved Vehicles'!D12","v":"08:30:00"},17.947756277501579,null,22.306605639193876,null,21.04569801200844]
[null,"t=6",{"$f":"'Unserved Vehicles'!C13","v":"08:30:00"},{"$f":"'Unserved Vehicles'!D13","v":"08:45:00"},10.506014648225737,null,133.46886277698596,null,12.282568478801597]
[null,"t=7",{"$f":"'Unserved Vehicles'!C14","v":"08:45:00"},{"$f":"'Unserved Vehicles'!D14","v":"09:00:00"},12.018828698530418,null,16.547810938726084,null,14.330476409217042]
[null,"t=8",{"$f":"'Unserved Vehicles'!C15","v":"09:00:00"},{"$f":"'Unserved Vehicles'!D15","v":"09:15:00"},12.414816300460402,null,17.099040103051564,null,14.943282234780877]
[null,"t=9",{"$f":"'Unserved Vehicles'!C16","v":"09:15:00"},{"$f":"'Unserved Vehicles'!D16","v":"09:30:00"},5.8574427034819934,5.8574427034819934,5.3524759259545842,null,6.7405445430246633]
[null,"t=10",{"$f":"'Unserved Vehicles'!C17","v":"09:30:00"},{"$f":"'Unserved Vehicles'!D17","v":"09:45:00"},9.6276756887468213,9.6276756887468213,9.0578966101772806,null,10.869977142547162]
[null,"t=11",{"$f":"'Unserved Vehicles'!C18","v":"09:45:00"},{"$f":"'Unserved Vehicles'!D18","v":"10:00:00"},9.846764021320805,9.846764021320805,9.2737009354167181,null,11.094598830354078]
[null,"t=12",{"$f":"'Unserved Vehicles'!C19","v":"10:00:00"},{"$f":"'Unserved Vehicles'!D19","v":"10:15:00"},9.4236964694436729,9.4236964694436729,8.8805114126893709,null,10.595432872866375]
[null,"t=13",{"$f":"'Unserved Vehicles'!C20","v":"10:15:00"},{"$f":"'Unserved Vehicles'!D20","v":"10:30:00"},9.154170607875578,9.154170607875578,8.6095166068746583,null,10.3322946814486]
[null,"t=14",{"$f":"'Unserved Vehicles'!C21","v":"10:30:00"},{"$f":"'Unserved Vehicles'!D21","v":"10:45:00"},8.8985521149096982,8.8985521149096982,8.3501594060001505,null,10.088003505045762]
[null,"t=15",{"$f":"'Unserved Vehicles'!C22","v":"10:45:00"},{"$f":"'Unserved Vehicles'!D22","v":"11:00:00"},8.6559648693036202,8.6559648693036202,8.1057601644076502,null,9.8527474680338631]
[null,"t=16",{"$f":"'Unserved Vehicles'!C23","v":"11:00:00"},{"$f":"'Unserved Vehicles'!D23","v":"11:15:00"},5.5761606382792772,5.5761606382792772,5.0623895689611755,null,6.48408388181545]
[null,"t=17",{"$f":"'Unserved Vehicles'!C24","v":"11:15:00"},{"$f":"'Unserved Vehicles'!D24","v":"11:30:00"},5.7063361485693358,5.7063361485693358,5.1618423833644531,null,6.6862132547777238]
[null,"t=18",{"$f":"'Unserved Vehicles'!C25","v":"11:30:00"},{"$f":"'Unserved Vehicles'!D25","v":"11:45:00"},5.840027809829162,5.840027809829162,5.2634037835651055,null,6.8934191151516204]
[null,"t=19",{"$f":"'Unserved Vehicles'!C26","v":"11:45:00"},{"$f":"'Unserved Vehicles'!D26","v":"12:00:00"},5.9803603751021974,5.9803603751021974,5.3672341203839693,null,7.1135507868123629]
[null,"t=20",{"$f":"'Unserved Vehicles'!C27","v":"12:00:00"},{"$f":"'Unserved Vehicles'!D27","v":"12:15:00"},6.1219402047154494,6.1219402047154494,5.4718901946183882,null,7.3440323498700719]
[null,"t=21",{"$f":"'Unserved Vehicles'!C28","v":"12:15:00"},{"$f":"'Unserved Vehicles'!D28","v":"12:30:00"}]
[null,"t=22",{"$f":"'Unserved Vehicles'!C29","v":"12:30:00"},{"$f":"'Unserved Vehicles'!D29","v":"12:45:00"}]
[null,"t=23",{"$f":"'Unserved Vehicles'!C30","v":"12:45:00"},{"$f":"'Unserved Vehicles'!D30","v":"13:00:00"}]
[null,"t=24",{"$f":"'Unserved Vehicles'!C31","v":"13:00:00"},{"$f":"'Unserved Vehicles'!D31","v":"13:15:00"}]
[null,"t=25",{"$f":"'Unserved Vehicles'!C32","v":"13:15:00"},{"$f":"'Unserved Vehicles'!D32","v":"13:30:00"}]
[null,"t=26",{"$f":"'Unserved Vehicles'!C33","v":"13:30:00"},{"$f":"'Unserved Vehicles'!D33","v":"13:45:00"}]
[null,"t=27",{"$f":"'Unserved Vehicles'!C34","v":"13:45:00"},{"$f":"'Unserved Vehicles'!D34","v":"14:00:00"}]
[null,"t=28",{"$f":"'Unserved Vehicles'!C35","v":"14:00:00"},{"$f":"'Unserved Vehicles'!D35","v":"14:15:00"}]
[null,"t=29",{"$f":"'Unserved Vehicles'!C36","v":"14:15:00"},{"$f":"'Unserved Vehicles'!D36","v":"14:30:00"}]
[null,"t=30",{"$f":"'Unserved Vehicles'!C37","v":"14:30:00"},{"$f":"'Unserved Vehicles'!D37","v":"14:45:00"}]
[null,"t=31",{"$f":"'Unserved Vehicles'!C38","v":"14:45:00"},{"$f":"'Unserved Vehicles'!D38","v":"15:00:00"}]
[null,"t=32",{"$f":"'Unserved Vehicles'!C39","v":"15:00:00"},{"$f":"'Unserved Vehicles'!D39","v":"15:15:00"}]
[null,"t=33",{"$f":"'Unserved Vehicles'!C40","v":"15:15:00"},{"$f":"'Unserved Vehicles'!D40","v":"15:30:00"}]
[null,"t=34",{"$f":"'Unserved Vehicles'!C41","v":"15:30:00"},{"$f":"'Unserved Vehicles'!D41","v":"15:45:00"}]
[null,"t=35",{"$f":"'Unserved Vehicles'!C42","v":"15:45:00"},{"$f":"'Unserved Vehicles'!D42","v":"16:00:00"}]
[null,"t=36",{"$f":"'Unserved Vehicles'!C43","v":"16:00:00"},{"$f":"'Unserved Vehicles'!D43","v":"16:15:00"}]
[null,"t=37",{"$f":"'Unserved Vehicles'!C44","v":"16:15:00"},{"$f":"'Unserved Vehicles'!D44","v":"16:30:00"}]
[null,"t=38",{"$f":"'Unserved Vehicles'!C45","v":"16:30:00"},{"$f":"'Unserved Vehicles'!D45","v":"16:45:00"}]
[null,"t=39",{"$f":"'Unserved Vehicles'!C46","v":"16:45:00"},{"$f":"'Unserved Vehicles'!D46","v":"17:00:00"}]
[null,"t=40",{"$f":"'Unserved Vehicles'!C47","v":"17:00:00"},{"$f":"'Unserved Vehicles'!D47","v":"17:15:00"}]
[null,"t=41",{"$f":"'Unserved Vehicles'!C48","v":"17:15:00"},{"$f":"'Unserved Vehicles'!D48","v":"17:30:00"}]
[null,"t=42",{"$f":"'Unserved Vehicles'!C49","v":"17:30:00"},{"$f":"'Unserved Vehicles'!D49","v":"17:45:00"}]
[null,"t=43",{"$f":"'Unserved Vehicles'!C50","v":"17:45:00"},{"$f":"'Unserved Vehicles'!D50","v":"18:00:00"}]
[null,"t=44",{"$f":"'Unserved Vehicles'!C51","v":"18:00:00"},{"$f":"'Unserved Vehicles'!D51","v":"18:15:00"}]
[null,"t=45",{"$f":"'Unserved Vehicles'!C52","v":"18:15:00"},{"$f":"'Unserved Vehicles'!D52","v":"18:30:00"}]
[null,"t=46",{"$f":"'Unserved Vehicles'!C53","v":"18:30:00"},{"$f":"'Unserved Vehicles'!D53","v":"18:45:00"}]
[null,"t=47",{"$f":"'Unserved Vehicles'!C54","v":"18:45:00"},{"$f":"'Unserved Vehicles'!D54","v":"19:00:00"}]
[null,"t=48",{"$f":"'Unserved Vehicles'!C55","v":"19:00:00"},{"$f":"'Unserved Vehicles'!D55","v":"19:15:00"}]
[null,"t=49",{"$f":"'Unserved Vehicles'!C56","v":"19:15:00"},{"$f":"'Unserved Vehicles'!D56","v":"19:30:00"}]
[null,"t=50",{"$f":"'Unserved Vehicles'!C57","v":"19:30:00"},{"$f":"'Unserved Vehicles'!D57","v":"19:45:00"}]
[null,"t=51",{"$f":"'Unserved Vehicles'!C58","v":"19:45:00"},{"$f":"'Unserved Vehicles'!D58","v":"20:00:00"}]
[null,"t=52",{"$f":"'Unserved Vehicles'!C59","v":"20:00:00"},{"$f":"'Unserved Vehicles'!D59","v":"20:15:00"}]
[null,"t=53",{"$f":"'Unserved Vehicles'!C60","v":"20:15:00"},{"$f":"'Unserved Vehicles'!D60","v":"20:30:00"}]
[null,"t=54",{"$f":"'Unserved Vehicles'!C61","v":"20:30:00"},{"$f":"'Unserved Vehicles'!D61","v":"20:45:00"}]
[null,"t=55",{"$f":"'Unserved Vehicles'!C62","v":"20:45:00"},{"$f":"'Unserved Vehicles'!D62","v":"21:00:00"}]
[null,"t=56",{"$f":"'Unserved Vehicles'!C63","v":"21:00:00"},{"$f":"'Unserved Vehicles'!D63","v":"21:15:00"}]
[null,"t=57",{"$f":"'Unserved Vehicles'!C64","v":"21:15:00"},{"$f":"'Unserved Vehicles'!D64","v":"21:30:00"}]
[null,"t=58",{"$f":"'Unserved Vehicles'!C65","v":"21:30:00"},{"$f":"'Unserved Vehicles'!D65","v":"21:45:00"}]
[null,"t=59",{"$f":"'Unserved Vehicles'!C66","v":"21:45:00"},{"$f":"'Unserved Vehicles'!D66","v":"22:00:00"}]
[null,"t=60",{"$f":"'Unserved Vehicles'!C67","v":"22:00:00"},{"$f":"'Unserved Vehicles'!D67","v":"22:15:00"}]
[null,"t=61",{"$f":"'Unserved Vehicles'!C68","v":"22:15:00"},{"$f":"'Unserved Vehicles'!D68","v":"22:30:00"}]
[null,"t=62",{"$f":"'Unserved Vehicles'!C69","v":"22:30:00"},{"$f":"'Unserved Vehicles'!D69","v":"22:45:00"}]
[null,"t=63",{"$f":"'Unserved Vehicles'!C70","v":"22:45:00"},{"$f":"'Unserved Vehicles'!D70","v":"23:00:00"}]
[null,"t=64",{"$f":"'Unserved Vehicles'!C71","v":"23:00:00"},{"$f":"'Unserved Vehicles'!D71","v":"23:15:00"}]
[null,"t=65",{"$f":"'Unserved Vehicles'!C72","v":"23:15:00"},{"$f":"'Unserved Vehicles'!D72","v":"23:30:00"}]
[null,"t=66",{"$f":"'Unserved Vehicles'!C73","v":"23:30:00"},{"$f":"'Unserved Vehicles'!D73","v":"23:45:00"}]
[null,"t=67",{"$f":"'Unserved Vehicles'!C74","v":"23:45:00"},{"$f":"'Unserved Vehicles'!D74","v":0.99999999999999822}]
[null,"t=68",{"$f":"'Unserved Vehicles'!C75","v":0.99999999999999822},{"$f":"'Unserved Vehicles'!D75","v":1.010416666666665}]
[null,"t=69",{"$f":"'Unserved Vehicles'!C76","v":1.010416666666665},{"$f":"'Unserved Vehicles'!D76","v":1.0208333333333317}]
[null,"t=70",{"$f":"'Unserved Vehicles'!C77","v":1.0208333333333317},{"$f":"'Unserved Vehicles'!D77","v":1.0312499999999984}]
[null,"t=71",{"$f":"'Unserved Vehicles'!C78","v":1.0312499999999984},{"$f":"'Unserved Vehicles'!D78","v":1.0416666666666652}]
[null,"t=72",{"$f":"'Unserved Vehicles'!C79","v":1.0416666666666652},{"$f":"'Unserved Vehicles'!D79","v":1.0520833333333319}]
[null,"t=73",{"$f":"'Unserved Vehicles'!C80","v":1.0520833333333319},{"$f":"'Unserved Vehicles'!D80","v":1.0624999999999987}]
[null,"t=74",{"$f":"'Unserved Vehicles'!C81","v":1.0624999999999987},{"$f":"'Unserved Vehicles'!D81","v":1.0729166666666654}]
[null,"t=75",{"$f":"'Unserved Vehicles'!C82","v":1.0729166666666654},{"$f":"'Unserved Vehicles'!D82","v":1.0833333333333321}]
[null,"t=76",{"$f":"'Unserved Vehicles'!C83","v":1.0833333333333321},{"$f":"'Unserved Vehicles'!D83","v":1.0937499999999989}]
[null,"t=77",{"$f":"'Unserved Vehicles'!C84","v":1.0937499999999989},{"$f":"'Unserved Vehicles'!D84","v":1.1041666666666656}]
[null,"t=78",{"$f":"'Unserved Vehicles'!C85","v":1.1041666666666656},{"$f":"'Unserved Vehicles'!D85","v":1.1145833333333324}]
[null,"t=79",{"$f":"'Unserved Vehicles'!C86","v":1.1145833333333324},{"$f":"'Unserved Vehicles'!D86","v":1.1249999999999991}]
[null,"t=80",{"$f":"'Unserved Vehicles'!C87","v":1.1249999999999991},{"$f":"'Unserved Vehicles'!D87","v":1.1354166666666659}]
[null,"t=81",{"$f":"'Unserved Vehicles'!C88","v":1.1354166666666659},{"$f":"'Unserved Vehicles'!D88","v":1.1458333333333326}]
[null,"t=82",{"$f":"'Unserved Vehicles'!C89","v":1.1458333333333326},{"$f":"'Unserved Vehicles'!D89","v":1.1562499999999993}]
[null,"t=83",{"$f":"'Unserved Vehicles'!C90","v":1.1562499999999993},{"$f":"'Unserved Vehicles'!D90","v":1.1666666666666661}]
[null,"t=84",{"$f":"'Unserved Vehicles'!C91","v":1.1666666666666661},{"$f":"'Unserved Vehicles'!D91","v":1.1770833333333328}]
[null,"t=85",{"$f":"'Unserved Vehicles'!C92","v":1.1770833333333328},{"$f":"'Unserved Vehicles'!D92","v":1.1874999999999996}]
[null,"t=86",{"$f":"'Unserved Vehicles'!C93","v":1.1874999999999996},{"$f":"'Unserved Vehicles'!D93","v":1.1979166666666663}]
[null,"t=87",{"$f":"'Unserved Vehicles'!C94","v":1.1979166666666663},{"$f":"'Unserved Vehicles'!D94","v":1.208333333333333}]
[null,"t=88",{"$f":"'Unserved Vehicles'!C95","v":1.208333333333333},{"$f":"'Unserved Vehicles'!D95","v":1.2187499999999998}]
[null,"t=89",{"$f":"'Unserved Vehicles'!C96","v":1.2187499999999998},{"$f":"'Unserved Vehicles'!D96","v":1.2291666666666665}]
[null,"t=90",{"$f":"'Unserved Vehicles'!C97","v":1.2291666666666665},{"$f":"'Unserved Vehicles'!D97","v":1.2395833333333333}]
[null,"t=91",{"$f":"'Unserved Vehicles'!C98","v":1.2395833333333333},{"$f":"'Unserved Vehicles'!D98","v":1.25}]
[null,"t=92",{"$f":"'Unserved Vehicles'!C99","v":1.25},{"$f":"'Unserved Vehicles'!D99","v":1.2604166666666667}]
[null,"t=93",{"$f":"'Unserved Vehicles'!C100","v":1.2604166666666667},{"$f":"'Unserved Vehicles'!D100","v":1.2708333333333335}]
[null,"t=94",{"$f":"'Unserved Vehicles'!C101","v":1.2708333333333335},{"$f":"'Unserved Vehicles'!D101","v":1.2812500000000002}]
[null,"t=95",{"$f":"'Unserved Vehicles'!C102","v":1.2812500000000002},{"$f":"'Unserved Vehicles'!D102","v":1.291666666666667}]
[null,"t=96",{"$f":"'Unserved Vehicles'!C103","v":1.291666666666667},{"$f":"'Unserved Vehicles'!D103","v":1.3020833333333337}]
[]
[]
[null,"Direction 6:"]
[null,"Feature #:",null,null,1,2,3,4,5]
[null,"Feature Name:"]
[null,"Feature Type:",null,null,"Int.","Link","Int.","Link","Int."]
[null,"t=1",{"$f":"C8","v":"07:15:00"},{"$f":"D8","v":"07:30:00"},50.967810397306124,null,147.30487169535397,null,35.768181389202013]
[null,"t=2",{"$f":"C9","v":"07:30:00"},"07:45:00",0.51479568148641852,null,0.715994764182315,null,0.48719674350381909]
[null,"t=3","07:45:00","08:00:00",2.0117759480543969,null,2.524451115902087,null,1.9475971088457462]
[null,"t=4","08:00:00","08:15:00",3.3450817352702749,null,4.0588989418661621,null,3.2605743044096189]
[null,"t=5","08:15:00","08:30:00",7.0304930622736457,null,126.13381597474252,null,6.8932906211288847]
[null,"t=6","08:30:00","08:45:00",6.9947959509430886,null,239.70425696703578,null,6.7852119546984877]
[null,"t=7","08:45:00","09:00:00",9.0383451441463123,null,15.644858995774406,null,8.7889893056229162]
[null,"t=8","09:00:00","09:15:00",8.7402593952685699,null,10.901796894966781,null,8.5456076386211421]
[null,"t=9","09:15:00","09:30:00",7.453965495566063,7.453965495566063,6.8861824117524595,null,5.9260739302815271]
[null,"t=10","09:30:00","09:45:00",11.638900871297015,11.638900871297015,10.908524606425837,null,9.6388697235552563]
[null,"t=11","09:45:00","10:00:00",11.355391449443069,11.355391449443069,10.718226557922945,null,9.5873814116291491]
[null,"t=12","10:00:00","10:15:00",10.388020436970187,10.388020436970187,9.8652668067647316,null,8.9284259255957164]
[null,"t=13","10:15:00","10:30:00",9.7659584500532812,9.7659584500532812,9.2998114360553412,null,8.4572580552786203]
[null,"t=14","10:30:00","10:45:00",9.1895232005682974,9.1895232005682974,8.7739120150086141,null,8.0144628068706627]
[null,"t=15","10:45:00","11:00:00",8.6546712267132193,8.6546712267132193,8.2842334562245483,null,7.6016555934577177]
[null,"t=16","11:00:00","11:15:00",5.2659092856172647,5.2659092856172647,5.0299936339687701,null,4.5951719248803222]
[null,"t=17","11:15:00","11:30:00",5.403263018097288,5.403263018097288,5.1472695076479811,null,4.6791008528207669]
[null,"t=18",{"$f":"C25","v":"11:30:00"},"11:45:00",5.5437076496923137,5.5437076496923137,5.2679282178355917,null,4.7645570179329608]
[null,"t=19","11:45:00","12:00:00",5.6908201922358241,5.6908201922358241,5.3922141351872144,null,4.8516625123325943]
[null,"t=20","12:00:00","12:15:00",5.8416104069316477,5.8416104069316477,5.5187535006389048,null,4.9405379723372738]
[null,"t=21","12:15:00","12:30:00"]
[null,"t=22","12:30:00","12:45:00"]
[null,"t=23","12:45:00","13:00:00"]
[null,"t=24","13:00:00","13:15:00"]
[null,"t=25","13:15:00","13:30:00"]
[null,"t=26","13:30:00","13:45:00"]
[null,"t=27","13:45:00","14:00:00"]
[null,"t=28","14:00:00","14:15:00"]
[null,"t=29","14:15:00","14:30:00"]
[null,"t=30","14:30:00","14:45:00"]
[null,"t=31","14:45:00","15:00:00"]
[null,"t=32","15:00:00","15:15:00"]
[null,"t=33","15:15:00","15:30:00"]
[null,"t=34",{"$f":"C41","v":"15:30:00"},"15:45:00"]
[null,"t=35","15:45:00","16:00:00"]
[null,"t=36","16:00:00","16:15:00"]
[null,"t=37","16:15:00","16:30:00"]
[null,"t=38","16:30:00","16:45:00"]
[null,"t=39","16:45:00","17:00:00"]
[null,"t=40","17:00:00","17:15:00"]
[null,"t=41","17:15:00","17:30:00"]
[null,"t=42","17:30:00","17:45:00"]
[null,"t=43","17:45:00","18:00:00"]
[null,"t=44","18:00:00","18:15:00"]
[null,"t=45","18:15:00","18:30:00"]
[null,"t=46","18:30:00","18:45:00"]
[null,"t=47","18:45:00","19:00:00"]
[null,"t=48","19:00:00","19:15:00"]
[null,"t=49","19:15:00","19:30:00"]
[null,"t=50",{"$f":"C57","v":"19:30:00"},"19:45:00"]
[null,"t=51","19:45:00","20:00:00"]
[null,"t=52","20:00:00","20:15:00"]
[null,"t=53","20:15:00","20:30:00"]
[null,"t=54","20:30:00","20:45:00"]
[null,"t=55","20:45:00","21:00:00"]
[null,"t=56","21:00:00","21:15:00"]
[null,"t=57","21:15:00","21:30:00"]
[null,"t=58","21:30:00","21:45:00"]
[null,"t=59","21:45:00","22:00:00"]
[null,"t=60","22:00:00","22:15:00"]
[null,"t=61","22:15:00","22:30:00"]
[null,"t=62","22:30:00","22:45:00"]
[null,"t=63","22:45:00","23:00:00"]
[null,"t=64","23:00:00","23:15:00"]
[null,"t=65","23:15:00","23:30:00"]
[null,"t=66",{"$f":"C73","v":"23:30:00"},"23:45:00"]
[null,"t=67","23:45:00",0.99999999999999822]
[null,"t=68",0.99999999999999822,1.010416666666665]
[null,"t=69",1.010416666666665,1.0208333333333317]
[null,"t=70",1.0208333333333317,1.0312499999999984]
[null,"t=71",1.0312499999999984,1.0416666666666652]
[null,"t=72",1.0416666666666652,1.0520833333333319]
[null,"t=73",1.0520833333333319,1.0624999999999987]
[null,"t=74",1.0624999999999987,1.0729166666666654]
[null,"t=75",1.0729166666666654,1.0833333333333321]
[null,"t=76",1.0833333333333321,1.0937499999999989]
[null,"t=77",1.0937499999999989,1.1041666666666656]
[null,"t=78",1.1041666666666656,1.1145833333333324]
[null,"t=79",1.1145833333333324,1.1249999999999991]
[null,"t=80",1.1249999999999991,1.1354166666666659]
[null,"t=81",1.1354166666666659,1.1458333333333326]
[null,"t=82",{"$f":"C89","v":1.1458333333333326},1.1562499999999993]
[null,"t=83",1.1562499999999993,1.1666666666666661]
[null,"t=84",1.1666666666666661,1.1770833333333328]
[null,"t=85",1.1770833333333328,1.1874999999999996]
[null,"t=86",1.1874999999999996,1.1979166666666663]
[null,"t=87",1.1979166666666663,1.208333333333333]
[null,"t=88",1.208333333333333,1.2187499999999998]
[null,"t=89",1.2187499999999998,1.2291666666666665]
[null,"t=90",1.2291666666666665,1.2395833333333333]
[null,"t=91",1.2395833333333333,1.25]
[null,"t=92",1.25,1.2604166666666667]
[null,"t=93",1.2604166666666667,1.2708333333333335]
[null,"t=94",1.2708333333333335,1.2812500000000002]
[null,"t=95",1.2812500000000002,1.291666666666667]
[null,"t=96",1.291666666666667,1.3020833333333337]

{"sheet":"LOS Int.","index":13,"n_rows":205,"n_cols":9,"rows_kept":205,"cut":false,"hidden":true,"merged":[[108,1,108,3],[4,1,4,3],[5,1,5,3],[6,1,6,3],[106,1,106,3],[107,1,107,3]]}
[]
[null,"Level of Service (LOS) on the Facility Intersections:"]
[]
[null,"Direction 2:"]
[null,"Feature #:",null,null,1,2,3,4,5]
[null,"Feature Name:"]
[null,"Feature Type:",null,null,"Int.","Link","Int.","Link","Int."]
[null,"t=1",{"$f":"'Unserved Vehicles'!C8","v":"07:15:00"},{"$f":"'Unserved Vehicles'!D8","v":"07:30:00"},"B",null,"B",null,"B"]
[null,"t=2",{"$f":"'Unserved Vehicles'!C9","v":"07:30:00"},{"$f":"'Unserved Vehicles'!D9","v":"07:45:00"},"B",null,"B",null,"B"]
[null,"t=3",{"$f":"'Unserved Vehicles'!C10","v":"07:45:00"},{"$f":"'Unserved Vehicles'!D10","v":"08:00:00"},"B",null,"B",null,"B"]
[null,"t=4",{"$f":"'Unserved Vehicles'!C11","v":"08:00:00"},{"$f":"'Unserved Vehicles'!D11","v":"08:15:00"},"B",null,"C",null,"B"]
[null,"t=5",{"$f":"'Unserved Vehicles'!C12","v":"08:15:00"},{"$f":"'Unserved Vehicles'!D12","v":"08:30:00"},"B",null,"C",null,"C"]
[null,"t=6",{"$f":"'Unserved Vehicles'!C13","v":"08:30:00"},{"$f":"'Unserved Vehicles'!D13","v":"08:45:00"},"B",null,"F",null,"B"]
[null,"t=7",{"$f":"'Unserved Vehicles'!C14","v":"08:45:00"},{"$f":"'Unserved Vehicles'!D14","v":"09:00:00"},"B",null,"B",null,"B"]
[null,"t=8",{"$f":"'Unserved Vehicles'!C15","v":"09:00:00"},{"$f":"'Unserved Vehicles'!D15","v":"09:15:00"},"B",null,"B",null,"B"]
[null,"t=9",{"$f":"'Unserved Vehicles'!C16","v":"09:15:00"},{"$f":"'Unserved Vehicles'!D16","v":"09:30:00"},null,null,null,"E"]
[null,"t=10",{"$f":"'Unserved Vehicles'!C17","v":"09:30:00"},{"$f":"'Unserved Vehicles'!D17","v":"09:45:00"},null,null,null,"E"]
[null,"t=11",{"$f":"'Unserved Vehicles'!C18","v":"09:45:00"},{"$f":"'Unserved Vehicles'!D18","v":"10:00:00"},null,null,null,"E"]
[null,"t=12",{"$f":"'Unserved Vehicles'!C19","v":"10:00:00"},{"$f":"'Unserved Vehicles'!D19","v":"10:15:00"},null,null,null,"E"]
[null,"t=13",{"$f":"'Unserved Vehicles'!C20","v":"10:15:00"},{"$f":"'Unserved Vehicles'!D20","v":"10:30:00"},null,null,null,"E"]
[null,"t=14",{"$f":"'Unserved Vehicles'!C21","v":"10:30:00"},{"$f":"'Unserved Vehicles'!D21","v":"10:45:00"},null,null,null,"E"]
[null,"t=15",{"$f":"'Unserved Vehicles'!C22","v":"10:45:00"},{"$f":"'Unserved Vehicles'!D22","v":"11:00:00"},null,null,null,"E"]
[null,"t=16",{"$f":"'Unserved Vehicles'!C23","v":"11:00:00"},{"$f":"'Unserved Vehicles'!D23","v":"11:15:00"},null,null,null,"E"]
[null,"t=17",{"$f":"'Unserved Vehicles'!C24","v":"11:15:00"},{"$f":"'Unserved Vehicles'!D24","v":"11:30:00"},null,null,null,"E"]
[null,"t=18",{"$f":"'Unserved Vehicles'!C25","v":"11:30:00"},{"$f":"'Unserved Vehicles'!D25","v":"11:45:00"},null,null,null,"E"]
[null,"t=19",{"$f":"'Unserved Vehicles'!C26","v":"11:45:00"},{"$f":"'Unserved Vehicles'!D26","v":"12:00:00"},null,null,null,"E"]
[null,"t=20",{"$f":"'Unserved Vehicles'!C27","v":"12:00:00"},{"$f":"'Unserved Vehicles'!D27","v":"12:15:00"},null,null,null,"E"]
[null,"t=21",{"$f":"'Unserved Vehicles'!C28","v":"12:15:00"},{"$f":"'Unserved Vehicles'!D28","v":"12:30:00"}]
[null,"t=22",{"$f":"'Unserved Vehicles'!C29","v":"12:30:00"},{"$f":"'Unserved Vehicles'!D29","v":"12:45:00"}]
[null,"t=23",{"$f":"'Unserved Vehicles'!C30","v":"12:45:00"},{"$f":"'Unserved Vehicles'!D30","v":"13:00:00"}]
[null,"t=24",{"$f":"'Unserved Vehicles'!C31","v":"13:00:00"},{"$f":"'Unserved Vehicles'!D31","v":"13:15:00"}]
[null,"t=25",{"$f":"'Unserved Vehicles'!C32","v":"13:15:00"},{"$f":"'Unserved Vehicles'!D32","v":"13:30:00"}]
[null,"t=26",{"$f":"'Unserved Vehicles'!C33","v":"13:30:00"},{"$f":"'Unserved Vehicles'!D33","v":"13:45:00"}]
[null,"t=27",{"$f":"'Unserved Vehicles'!C34","v":"13:45:00"},{"$f":"'Unserved Vehicles'!D34","v":"14:00:00"}]
[null,"t=28",{"$f":"'Unserved Vehicles'!C35","v":"14:00:00"},{"$f":"'Unserved Vehicles'!D35","v":"14:15:00"}]
[null,"t=29",{"$f":"'Unserved Vehicles'!C36","v":"14:15:00"},{"$f":"'Unserved Vehicles'!D36","v":"14:30:00"}]
[null,"t=30",{"$f":"'Unserved Vehicles'!C37","v":"14:30:00"},{"$f":"'Unserved Vehicles'!D37","v":"14:45:00"}]
[null,"t=31",{"$f":"'Unserved Vehicles'!C38","v":"14:45:00"},{"$f":"'Unserved Vehicles'!D38","v":"15:00:00"}]
[null,"t=32",{"$f":"'Unserved Vehicles'!C39","v":"15:00:00"},{"$f":"'Unserved Vehicles'!D39","v":"15:15:00"}]
[null,"t=33",{"$f":"'Unserved Vehicles'!C40","v":"15:15:00"},{"$f":"'Unserved Vehicles'!D40","v":"15:30:00"}]
[null,"t=34",{"$f":"'Unserved Vehicles'!C41","v":"15:30:00"},{"$f":"'Unserved Vehicles'!D41","v":"15:45:00"}]
[null,"t=35",{"$f":"'Unserved Vehicles'!C42","v":"15:45:00"},{"$f":"'Unserved Vehicles'!D42","v":"16:00:00"}]
[null,"t=36",{"$f":"'Unserved Vehicles'!C43","v":"16:00:00"},{"$f":"'Unserved Vehicles'!D43","v":"16:15:00"}]
[null,"t=37",{"$f":"'Unserved Vehicles'!C44","v":"16:15:00"},{"$f":"'Unserved Vehicles'!D44","v":"16:30:00"}]
[null,"t=38",{"$f":"'Unserved Vehicles'!C45","v":"16:30:00"},{"$f":"'Unserved Vehicles'!D45","v":"16:45:00"}]
[null,"t=39",{"$f":"'Unserved Vehicles'!C46","v":"16:45:00"},{"$f":"'Unserved Vehicles'!D46","v":"17:00:00"}]
[null,"t=40",{"$f":"'Unserved Vehicles'!C47","v":"17:00:00"},{"$f":"'Unserved Vehicles'!D47","v":"17:15:00"}]
[null,"t=41",{"$f":"'Unserved Vehicles'!C48","v":"17:15:00"},{"$f":"'Unserved Vehicles'!D48","v":"17:30:00"}]
[null,"t=42",{"$f":"'Unserved Vehicles'!C49","v":"17:30:00"},{"$f":"'Unserved Vehicles'!D49","v":"17:45:00"}]
[null,"t=43",{"$f":"'Unserved Vehicles'!C50","v":"17:45:00"},{"$f":"'Unserved Vehicles'!D50","v":"18:00:00"}]
[null,"t=44",{"$f":"'Unserved Vehicles'!C51","v":"18:00:00"},{"$f":"'Unserved Vehicles'!D51","v":"18:15:00"}]
[null,"t=45",{"$f":"'Unserved Vehicles'!C52","v":"18:15:00"},{"$f":"'Unserved Vehicles'!D52","v":"18:30:00"}]
[null,"t=46",{"$f":"'Unserved Vehicles'!C53","v":"18:30:00"},{"$f":"'Unserved Vehicles'!D53","v":"18:45:00"}]
[null,"t=47",{"$f":"'Unserved Vehicles'!C54","v":"18:45:00"},{"$f":"'Unserved Vehicles'!D54","v":"19:00:00"}]
[null,"t=48",{"$f":"'Unserved Vehicles'!C55","v":"19:00:00"},{"$f":"'Unserved Vehicles'!D55","v":"19:15:00"}]
[null,"t=49",{"$f":"'Unserved Vehicles'!C56","v":"19:15:00"},{"$f":"'Unserved Vehicles'!D56","v":"19:30:00"}]
[null,"t=50",{"$f":"'Unserved Vehicles'!C57","v":"19:30:00"},{"$f":"'Unserved Vehicles'!D57","v":"19:45:00"}]
[null,"t=51",{"$f":"'Unserved Vehicles'!C58","v":"19:45:00"},{"$f":"'Unserved Vehicles'!D58","v":"20:00:00"}]
[null,"t=52",{"$f":"'Unserved Vehicles'!C59","v":"20:00:00"},{"$f":"'Unserved Vehicles'!D59","v":"20:15:00"}]
[null,"t=53",{"$f":"'Unserved Vehicles'!C60","v":"20:15:00"},{"$f":"'Unserved Vehicles'!D60","v":"20:30:00"}]
[null,"t=54",{"$f":"'Unserved Vehicles'!C61","v":"20:30:00"},{"$f":"'Unserved Vehicles'!D61","v":"20:45:00"}]
[null,"t=55",{"$f":"'Unserved Vehicles'!C62","v":"20:45:00"},{"$f":"'Unserved Vehicles'!D62","v":"21:00:00"}]
[null,"t=56",{"$f":"'Unserved Vehicles'!C63","v":"21:00:00"},{"$f":"'Unserved Vehicles'!D63","v":"21:15:00"}]
[null,"t=57",{"$f":"'Unserved Vehicles'!C64","v":"21:15:00"},{"$f":"'Unserved Vehicles'!D64","v":"21:30:00"}]
[null,"t=58",{"$f":"'Unserved Vehicles'!C65","v":"21:30:00"},{"$f":"'Unserved Vehicles'!D65","v":"21:45:00"}]
[null,"t=59",{"$f":"'Unserved Vehicles'!C66","v":"21:45:00"},{"$f":"'Unserved Vehicles'!D66","v":"22:00:00"}]
[null,"t=60",{"$f":"'Unserved Vehicles'!C67","v":"22:00:00"},{"$f":"'Unserved Vehicles'!D67","v":"22:15:00"}]
[null,"t=61",{"$f":"'Unserved Vehicles'!C68","v":"22:15:00"},{"$f":"'Unserved Vehicles'!D68","v":"22:30:00"}]
[null,"t=62",{"$f":"'Unserved Vehicles'!C69","v":"22:30:00"},{"$f":"'Unserved Vehicles'!D69","v":"22:45:00"}]
[null,"t=63",{"$f":"'Unserved Vehicles'!C70","v":"22:45:00"},{"$f":"'Unserved Vehicles'!D70","v":"23:00:00"}]
[null,"t=64",{"$f":"'Unserved Vehicles'!C71","v":"23:00:00"},{"$f":"'Unserved Vehicles'!D71","v":"23:15:00"}]
[null,"t=65",{"$f":"'Unserved Vehicles'!C72","v":"23:15:00"},{"$f":"'Unserved Vehicles'!D72","v":"23:30:00"}]
[null,"t=66",{"$f":"'Unserved Vehicles'!C73","v":"23:30:00"},{"$f":"'Unserved Vehicles'!D73","v":"23:45:00"}]
[null,"t=67",{"$f":"'Unserved Vehicles'!C74","v":"23:45:00"},{"$f":"'Unserved Vehicles'!D74","v":0.99999999999999822}]
[null,"t=68",{"$f":"'Unserved Vehicles'!C75","v":0.99999999999999822},{"$f":"'Unserved Vehicles'!D75","v":1.010416666666665}]
[null,"t=69",{"$f":"'Unserved Vehicles'!C76","v":1.010416666666665},{"$f":"'Unserved Vehicles'!D76","v":1.0208333333333317}]
[null,"t=70",{"$f":"'Unserved Vehicles'!C77","v":1.0208333333333317},{"$f":"'Unserved Vehicles'!D77","v":1.0312499999999984}]
[null,"t=71",{"$f":"'Unserved Vehicles'!C78","v":1.0312499999999984},{"$f":"'Unserved Vehicles'!D78","v":1.0416666666666652}]
[null,"t=72",{"$f":"'Unserved Vehicles'!C79","v":1.0416666666666652},{"$f":"'Unserved Vehicles'!D79","v":1.0520833333333319}]
[null,"t=73",{"$f":"'Unserved Vehicles'!C80","v":1.0520833333333319},{"$f":"'Unserved Vehicles'!D80","v":1.0624999999999987}]
[null,"t=74",{"$f":"'Unserved Vehicles'!C81","v":1.0624999999999987},{"$f":"'Unserved Vehicles'!D81","v":1.0729166666666654}]
[null,"t=75",{"$f":"'Unserved Vehicles'!C82","v":1.0729166666666654},{"$f":"'Unserved Vehicles'!D82","v":1.0833333333333321}]
[null,"t=76",{"$f":"'Unserved Vehicles'!C83","v":1.0833333333333321},{"$f":"'Unserved Vehicles'!D83","v":1.0937499999999989}]
[null,"t=77",{"$f":"'Unserved Vehicles'!C84","v":1.0937499999999989},{"$f":"'Unserved Vehicles'!D84","v":1.1041666666666656}]
[null,"t=78",{"$f":"'Unserved Vehicles'!C85","v":1.1041666666666656},{"$f":"'Unserved Vehicles'!D85","v":1.1145833333333324}]
[null,"t=79",{"$f":"'Unserved Vehicles'!C86","v":1.1145833333333324},{"$f":"'Unserved Vehicles'!D86","v":1.1249999999999991}]
[null,"t=80",{"$f":"'Unserved Vehicles'!C87","v":1.1249999999999991},{"$f":"'Unserved Vehicles'!D87","v":1.1354166666666659}]
[null,"t=81",{"$f":"'Unserved Vehicles'!C88","v":1.1354166666666659},{"$f":"'Unserved Vehicles'!D88","v":1.1458333333333326}]
[null,"t=82",{"$f":"'Unserved Vehicles'!C89","v":1.1458333333333326},{"$f":"'Unserved Vehicles'!D89","v":1.1562499999999993}]
[null,"t=83",{"$f":"'Unserved Vehicles'!C90","v":1.1562499999999993},{"$f":"'Unserved Vehicles'!D90","v":1.1666666666666661}]
[null,"t=84",{"$f":"'Unserved Vehicles'!C91","v":1.1666666666666661},{"$f":"'Unserved Vehicles'!D91","v":1.1770833333333328}]
[null,"t=85",{"$f":"'Unserved Vehicles'!C92","v":1.1770833333333328},{"$f":"'Unserved Vehicles'!D92","v":1.1874999999999996}]
[null,"t=86",{"$f":"'Unserved Vehicles'!C93","v":1.1874999999999996},{"$f":"'Unserved Vehicles'!D93","v":1.1979166666666663}]
[null,"t=87",{"$f":"'Unserved Vehicles'!C94","v":1.1979166666666663},{"$f":"'Unserved Vehicles'!D94","v":1.208333333333333}]
[null,"t=88",{"$f":"'Unserved Vehicles'!C95","v":1.208333333333333},{"$f":"'Unserved Vehicles'!D95","v":1.2187499999999998}]
[null,"t=89",{"$f":"'Unserved Vehicles'!C96","v":1.2187499999999998},{"$f":"'Unserved Vehicles'!D96","v":1.2291666666666665}]
[null,"t=90",{"$f":"'Unserved Vehicles'!C97","v":1.2291666666666665},{"$f":"'Unserved Vehicles'!D97","v":1.2395833333333333}]
[null,"t=91",{"$f":"'Unserved Vehicles'!C98","v":1.2395833333333333},{"$f":"'Unserved Vehicles'!D98","v":1.25}]
[null,"t=92",{"$f":"'Unserved Vehicles'!C99","v":1.25},{"$f":"'Unserved Vehicles'!D99","v":1.2604166666666667}]
[null,"t=93",{"$f":"'Unserved Vehicles'!C100","v":1.2604166666666667},{"$f":"'Unserved Vehicles'!D100","v":1.2708333333333335}]
[null,"t=94",{"$f":"'Unserved Vehicles'!C101","v":1.2708333333333335},{"$f":"'Unserved Vehicles'!D101","v":1.2812500000000002}]
[null,"t=95",{"$f":"'Unserved Vehicles'!C102","v":1.2812500000000002},{"$f":"'Unserved Vehicles'!D102","v":1.291666666666667}]
[null,"t=96",{"$f":"'Unserved Vehicles'!C103","v":1.291666666666667},{"$f":"'Unserved Vehicles'!D103","v":1.3020833333333337}]
[]
[]
[null,"Direction 6:"]
[null,"Feature #:",null,null,1,2,3,4,5]
[null,"Feature Name:"]
[null,"Feature Type:",null,null,"Int.","Link","Int.","Link","Int."]
[null,"t=1",{"$f":"C8","v":"07:15:00"},{"$f":"D8","v":"07:30:00"},"F",null,"F",null,"F"]
[null,"t=2",{"$f":"C9","v":"07:30:00"},"07:45:00","A",null,"A",null,"A"]
[null,"t=3","07:45:00","08:00:00","A",null,"A",null,"A"]
[null,"t=4","08:00:00","08:15:00","A",null,"A",null,"A"]
[null,"t=5","08:15:00","08:30:00","A",null,"F",null,"A"]
[null,"t=6","08:30:00","08:45:00","A",null,"F",null,"A"]
[null,"t=7","08:45:00","09:00:00","A",null,"F",null,"A"]
[null,"t=8","09:00:00","09:15:00","A",null,"B",null,"A"]
[null,"t=9","09:15:00","09:30:00",null,null,null,"E"]
[null,"t=10","09:30:00","09:45:00",null,null,null,"E"]
[null,"t=11","09:45:00","10:00:00",null,null,null,"E"]
[null,"t=12","10:00:00","10:15:00",null,null,null,"E"]
[null,"t=13","10:15:00","10:30:00",null,null,null,"E"]
[null,"t=14","10:30:00","10:45:00",null,null,null,"E"]
[null,"t=15","10:45:00","11:00:00",null,null,null,"E"]
[null,"t=16","11:00:00","11:15:00",null,null,null,"E"]
[null,"t=17","11:15:00","11:30:00",null,null,null,"E"]
[null,"t=18",{"$f":"C25","v":"11:30:00"},"11:45:00",null,null,null,"E"]
[null,"t=19","11:45:00","12:00:00",null,null,null,"E"]
[null,"t=20","12:00:00","12:15:00",null,null,null,"E"]
[null,"t=21","12:15:00","12:30:00"]
[null,"t=22","12:30:00","12:45:00"]
[null,"t=23","12:45:00","13:00:00"]
[null,"t=24","13:00:00","13:15:00"]
[null,"t=25","13:15:00","13:30:00"]
[null,"t=26","13:30:00","13:45:00"]
[null,"t=27","13:45:00","14:00:00"]
[null,"t=28","14:00:00","14:15:00"]
[null,"t=29","14:15:00","14:30:00"]
[null,"t=30","14:30:00","14:45:00"]
[null,"t=31","14:45:00","15:00:00"]
[null,"t=32","15:00:00","15:15:00"]
[null,"t=33","15:15:00","15:30:00"]
[null,"t=34",{"$f":"C41","v":"15:30:00"},"15:45:00"]
[null,"t=35","15:45:00","16:00:00"]
[null,"t=36","16:00:00","16:15:00"]
[null,"t=37","16:15:00","16:30:00"]
[null,"t=38","16:30:00","16:45:00"]
[null,"t=39","16:45:00","17:00:00"]
[null,"t=40","17:00:00","17:15:00"]
[null,"t=41","17:15:00","17:30:00"]
[null,"t=42","17:30:00","17:45:00"]
[null,"t=43","17:45:00","18:00:00"]
[null,"t=44","18:00:00","18:15:00"]
[null,"t=45","18:15:00","18:30:00"]
[null,"t=46","18:30:00","18:45:00"]
[null,"t=47","18:45:00","19:00:00"]
[null,"t=48","19:00:00","19:15:00"]
[null,"t=49","19:15:00","19:30:00"]
[null,"t=50",{"$f":"C57","v":"19:30:00"},"19:45:00"]
[null,"t=51","19:45:00","20:00:00"]
[null,"t=52","20:00:00","20:15:00"]
[null,"t=53","20:15:00","20:30:00"]
[null,"t=54","20:30:00","20:45:00"]
[null,"t=55","20:45:00","21:00:00"]
[null,"t=56","21:00:00","21:15:00"]
[null,"t=57","21:15:00","21:30:00"]
[null,"t=58","21:30:00","21:45:00"]
[null,"t=59","21:45:00","22:00:00"]
[null,"t=60","22:00:00","22:15:00"]
[null,"t=61","22:15:00","22:30:00"]
[null,"t=62","22:30:00","22:45:00"]
[null,"t=63","22:45:00","23:00:00"]
[null,"t=64","23:00:00","23:15:00"]
[null,"t=65","23:15:00","23:30:00"]
[null,"t=66",{"$f":"C73","v":"23:30:00"},"23:45:00"]
[null,"t=67","23:45:00",0.99999999999999822]
[null,"t=68",0.99999999999999822,1.010416666666665]
[null,"t=69",1.010416666666665,1.0208333333333317]
[null,"t=70",1.0208333333333317,1.0312499999999984]
[null,"t=71",1.0312499999999984,1.0416666666666652]
[null,"t=72",1.0416666666666652,1.0520833333333319]
[null,"t=73",1.0520833333333319,1.0624999999999987]
[null,"t=74",1.0624999999999987,1.0729166666666654]
[null,"t=75",1.0729166666666654,1.0833333333333321]
[null,"t=76",1.0833333333333321,1.0937499999999989]
[null,"t=77",1.0937499999999989,1.1041666666666656]
[null,"t=78",1.1041666666666656,1.1145833333333324]
[null,"t=79",1.1145833333333324,1.1249999999999991]
[null,"t=80",1.1249999999999991,1.1354166666666659]
[null,"t=81",1.1354166666666659,1.1458333333333326]
[null,"t=82",{"$f":"C89","v":1.1458333333333326},1.1562499999999993]
[null,"t=83",1.1562499999999993,1.1666666666666661]
[null,"t=84",1.1666666666666661,1.1770833333333328]
[null,"t=85",1.1770833333333328,1.1874999999999996]
[null,"t=86",1.1874999999999996,1.1979166666666663]
[null,"t=87",1.1979166666666663,1.208333333333333]
[null,"t=88",1.208333333333333,1.2187499999999998]
[null,"t=89",1.2187499999999998,1.2291666666666665]
[null,"t=90",1.2291666666666665,1.2395833333333333]
[null,"t=91",1.2395833333333333,1.25]
[null,"t=92",1.25,1.2604166666666667]
[null,"t=93",1.2604166666666667,1.2708333333333335]
[null,"t=94",1.2708333333333335,1.2812500000000002]
[null,"t=95",1.2812500000000002,1.291666666666667]
[null,"t=96",1.291666666666667,1.3020833333333337]

{"sheet":"LOS HCM Segment","index":14,"n_rows":205,"n_cols":9,"rows_kept":205,"cut":false,"hidden":true,"merged":[[108,1,108,3],[4,1,4,3],[5,1,5,3],[6,1,6,3],[106,1,106,3],[107,1,107,3]]}
[]
[null,"Level of Service (LOS) on the Facility Segments:"]
[]
[null,"Direction 2:"]
[null,"Feature #:",null,null,1,2,3,4,5]
[null,"Feature Name:"]
[null,"Feature Type:",null,null,"Int.","Link","Int.","Link","Int."]
[null,"t=1",{"$f":"'Unserved Vehicles'!C8","v":"07:15:00"},{"$f":"'Unserved Vehicles'!D8","v":"07:30:00"},null,"E",null,"E"]
[null,"t=2",{"$f":"'Unserved Vehicles'!C9","v":"07:30:00"},{"$f":"'Unserved Vehicles'!D9","v":"07:45:00"},null,"E",null,"E"]
[null,"t=3",{"$f":"'Unserved Vehicles'!C10","v":"07:45:00"},{"$f":"'Unserved Vehicles'!D10","v":"08:00:00"},null,"E",null,"E"]
[null,"t=4",{"$f":"'Unserved Vehicles'!C11","v":"08:00:00"},{"$f":"'Unserved Vehicles'!D11","v":"08:15:00"},null,"E",null,"E"]
[null,"t=5",{"$f":"'Unserved Vehicles'!C12","v":"08:15:00"},{"$f":"'Unserved Vehicles'!D12","v":"08:30:00"},null,"E",null,"F"]
[null,"t=6",{"$f":"'Unserved Vehicles'!C13","v":"08:30:00"},{"$f":"'Unserved Vehicles'!D13","v":"08:45:00"},null,"F",null,"E"]
[null,"t=7",{"$f":"'Unserved Vehicles'!C14","v":"08:45:00"},{"$f":"'Unserved Vehicles'!D14","v":"09:00:00"},null,"E",null,"E"]
[null,"t=8",{"$f":"'Unserved Vehicles'!C15","v":"09:00:00"},{"$f":"'Unserved Vehicles'!D15","v":"09:15:00"},null,"E",null,"F"]
[null,"t=9",{"$f":"'Unserved Vehicles'!C16","v":"09:15:00"},{"$f":"'Unserved Vehicles'!D16","v":"09:30:00"},null,null,"E","E"]
[null,"t=10",{"$f":"'Unserved Vehicles'!C17","v":"09:30:00"},{"$f":"'Unserved Vehicles'!D17","v":"09:45:00"},null,null,"E","E"]
[null,"t=11",{"$f":"'Unserved Vehicles'!C18","v":"09:45:00"},{"$f":"'Unserved Vehicles'!D18","v":"10:00:00"},null,null,"E","E"]
[null,"t=12",{"$f":"'Unserved Vehicles'!C19","v":"10:00:00"},{"$f":"'Unserved Vehicles'!D19","v":"10:15:00"},null,null,"E","E"]
[null,"t=13",{"$f":"'Unserved Vehicles'!C20","v":"10:15:00"},{"$f":"'Unserved Vehicles'!D20","v":"10:30:00"},null,null,"E","E"]
[null,"t=14",{"$f":"'Unserved Vehicles'!C21","v":"10:30:00"},{"$f":"'Unserved Vehicles'!D21","v":"10:45:00"},null,null,"E","E"]
[null,"t=15",{"$f":"'Unserved Vehicles'!C22","v":"10:45:00"},{"$f":"'Unserved Vehicles'!D22","v":"11:00:00"},null,null,"E","E"]
[null,"t=16",{"$f":"'Unserved Vehicles'!C23","v":"11:00:00"},{"$f":"'Unserved Vehicles'!D23","v":"11:15:00"},null,null,"E","E"]
[null,"t=17",{"$f":"'Unserved Vehicles'!C24","v":"11:15:00"},{"$f":"'Unserved Vehicles'!D24","v":"11:30:00"},null,null,"E","E"]
[null,"t=18",{"$f":"'Unserved Vehicles'!C25","v":"11:30:00"},{"$f":"'Unserved Vehicles'!D25","v":"11:45:00"},null,null,"E","E"]
[null,"t=19",{"$f":"'Unserved Vehicles'!C26","v":"11:45:00"},{"$f":"'Unserved Vehicles'!D26","v":"12:00:00"},null,null,"E","E"]
[null,"t=20",{"$f":"'Unserved Vehicles'!C27","v":"12:00:00"},{"$f":"'Unserved Vehicles'!D27","v":"12:15:00"},null,null,"E","E"]
[null,"t=21",{"$f":"'Unserved Vehicles'!C28","v":"12:15:00"},{"$f":"'Unserved Vehicles'!D28","v":"12:30:00"}]
[null,"t=22",{"$f":"'Unserved Vehicles'!C29","v":"12:30:00"},{"$f":"'Unserved Vehicles'!D29","v":"12:45:00"}]
[null,"t=23",{"$f":"'Unserved Vehicles'!C30","v":"12:45:00"},{"$f":"'Unserved Vehicles'!D30","v":"13:00:00"}]
[null,"t=24",{"$f":"'Unserved Vehicles'!C31","v":"13:00:00"},{"$f":"'Unserved Vehicles'!D31","v":"13:15:00"}]
[null,"t=25",{"$f":"'Unserved Vehicles'!C32","v":"13:15:00"},{"$f":"'Unserved Vehicles'!D32","v":"13:30:00"}]
[null,"t=26",{"$f":"'Unserved Vehicles'!C33","v":"13:30:00"},{"$f":"'Unserved Vehicles'!D33","v":"13:45:00"}]
[null,"t=27",{"$f":"'Unserved Vehicles'!C34","v":"13:45:00"},{"$f":"'Unserved Vehicles'!D34","v":"14:00:00"}]
[null,"t=28",{"$f":"'Unserved Vehicles'!C35","v":"14:00:00"},{"$f":"'Unserved Vehicles'!D35","v":"14:15:00"}]
[null,"t=29",{"$f":"'Unserved Vehicles'!C36","v":"14:15:00"},{"$f":"'Unserved Vehicles'!D36","v":"14:30:00"}]
[null,"t=30",{"$f":"'Unserved Vehicles'!C37","v":"14:30:00"},{"$f":"'Unserved Vehicles'!D37","v":"14:45:00"}]
[null,"t=31",{"$f":"'Unserved Vehicles'!C38","v":"14:45:00"},{"$f":"'Unserved Vehicles'!D38","v":"15:00:00"}]
[null,"t=32",{"$f":"'Unserved Vehicles'!C39","v":"15:00:00"},{"$f":"'Unserved Vehicles'!D39","v":"15:15:00"}]
[null,"t=33",{"$f":"'Unserved Vehicles'!C40","v":"15:15:00"},{"$f":"'Unserved Vehicles'!D40","v":"15:30:00"}]
[null,"t=34",{"$f":"'Unserved Vehicles'!C41","v":"15:30:00"},{"$f":"'Unserved Vehicles'!D41","v":"15:45:00"}]
[null,"t=35",{"$f":"'Unserved Vehicles'!C42","v":"15:45:00"},{"$f":"'Unserved Vehicles'!D42","v":"16:00:00"}]
[null,"t=36",{"$f":"'Unserved Vehicles'!C43","v":"16:00:00"},{"$f":"'Unserved Vehicles'!D43","v":"16:15:00"}]
[null,"t=37",{"$f":"'Unserved Vehicles'!C44","v":"16:15:00"},{"$f":"'Unserved Vehicles'!D44","v":"16:30:00"}]
[null,"t=38",{"$f":"'Unserved Vehicles'!C45","v":"16:30:00"},{"$f":"'Unserved Vehicles'!D45","v":"16:45:00"}]
[null,"t=39",{"$f":"'Unserved Vehicles'!C46","v":"16:45:00"},{"$f":"'Unserved Vehicles'!D46","v":"17:00:00"}]
[null,"t=40",{"$f":"'Unserved Vehicles'!C47","v":"17:00:00"},{"$f":"'Unserved Vehicles'!D47","v":"17:15:00"}]
[null,"t=41",{"$f":"'Unserved Vehicles'!C48","v":"17:15:00"},{"$f":"'Unserved Vehicles'!D48","v":"17:30:00"}]
[null,"t=42",{"$f":"'Unserved Vehicles'!C49","v":"17:30:00"},{"$f":"'Unserved Vehicles'!D49","v":"17:45:00"}]
[null,"t=43",{"$f":"'Unserved Vehicles'!C50","v":"17:45:00"},{"$f":"'Unserved Vehicles'!D50","v":"18:00:00"}]
[null,"t=44",{"$f":"'Unserved Vehicles'!C51","v":"18:00:00"},{"$f":"'Unserved Vehicles'!D51","v":"18:15:00"}]
[null,"t=45",{"$f":"'Unserved Vehicles'!C52","v":"18:15:00"},{"$f":"'Unserved Vehicles'!D52","v":"18:30:00"}]
[null,"t=46",{"$f":"'Unserved Vehicles'!C53","v":"18:30:00"},{"$f":"'Unserved Vehicles'!D53","v":"18:45:00"}]
[null,"t=47",{"$f":"'Unserved Vehicles'!C54","v":"18:45:00"},{"$f":"'Unserved Vehicles'!D54","v":"19:00:00"}]
[null,"t=48",{"$f":"'Unserved Vehicles'!C55","v":"19:00:00"},{"$f":"'Unserved Vehicles'!D55","v":"19:15:00"}]
[null,"t=49",{"$f":"'Unserved Vehicles'!C56","v":"19:15:00"},{"$f":"'Unserved Vehicles'!D56","v":"19:30:00"}]
[null,"t=50",{"$f":"'Unserved Vehicles'!C57","v":"19:30:00"},{"$f":"'Unserved Vehicles'!D57","v":"19:45:00"}]
[null,"t=51",{"$f":"'Unserved Vehicles'!C58","v":"19:45:00"},{"$f":"'Unserved Vehicles'!D58","v":"20:00:00"}]
[null,"t=52",{"$f":"'Unserved Vehicles'!C59","v":"20:00:00"},{"$f":"'Unserved Vehicles'!D59","v":"20:15:00"}]
[null,"t=53",{"$f":"'Unserved Vehicles'!C60","v":"20:15:00"},{"$f":"'Unserved Vehicles'!D60","v":"20:30:00"}]
[null,"t=54",{"$f":"'Unserved Vehicles'!C61","v":"20:30:00"},{"$f":"'Unserved Vehicles'!D61","v":"20:45:00"}]
[null,"t=55",{"$f":"'Unserved Vehicles'!C62","v":"20:45:00"},{"$f":"'Unserved Vehicles'!D62","v":"21:00:00"}]
[null,"t=56",{"$f":"'Unserved Vehicles'!C63","v":"21:00:00"},{"$f":"'Unserved Vehicles'!D63","v":"21:15:00"}]
[null,"t=57",{"$f":"'Unserved Vehicles'!C64","v":"21:15:00"},{"$f":"'Unserved Vehicles'!D64","v":"21:30:00"}]
[null,"t=58",{"$f":"'Unserved Vehicles'!C65","v":"21:30:00"},{"$f":"'Unserved Vehicles'!D65","v":"21:45:00"}]
[null,"t=59",{"$f":"'Unserved Vehicles'!C66","v":"21:45:00"},{"$f":"'Unserved Vehicles'!D66","v":"22:00:00"}]
[null,"t=60",{"$f":"'Unserved Vehicles'!C67","v":"22:00:00"},{"$f":"'Unserved Vehicles'!D67","v":"22:15:00"}]
[null,"t=61",{"$f":"'Unserved Vehicles'!C68","v":"22:15:00"},{"$f":"'Unserved Vehicles'!D68","v":"22:30:00"}]
[null,"t=62",{"$f":"'Unserved Vehicles'!C69","v":"22:30:00"},{"$f":"'Unserved Vehicles'!D69","v":"22:45:00"}]
[null,"t=63",{"$f":"'Unserved Vehicles'!C70","v":"22:45:00"},{"$f":"'Unserved Vehicles'!D70","v":"23:00:00"}]
[null,"t=64",{"$f":"'Unserved Vehicles'!C71","v":"23:00:00"},{"$f":"'Unserved Vehicles'!D71","v":"23:15:00"}]
[null,"t=65",{"$f":"'Unserved Vehicles'!C72","v":"23:15:00"},{"$f":"'Unserved Vehicles'!D72","v":"23:30:00"}]
[null,"t=66",{"$f":"'Unserved Vehicles'!C73","v":"23:30:00"},{"$f":"'Unserved Vehicles'!D73","v":"23:45:00"}]
[null,"t=67",{"$f":"'Unserved Vehicles'!C74","v":"23:45:00"},{"$f":"'Unserved Vehicles'!D74","v":0.99999999999999822}]
[null,"t=68",{"$f":"'Unserved Vehicles'!C75","v":0.99999999999999822},{"$f":"'Unserved Vehicles'!D75","v":1.010416666666665}]
[null,"t=69",{"$f":"'Unserved Vehicles'!C76","v":1.010416666666665},{"$f":"'Unserved Vehicles'!D76","v":1.0208333333333317}]
[null,"t=70",{"$f":"'Unserved Vehicles'!C77","v":1.0208333333333317},{"$f":"'Unserved Vehicles'!D77","v":1.0312499999999984}]
[null,"t=71",{"$f":"'Unserved Vehicles'!C78","v":1.0312499999999984},{"$f":"'Unserved Vehicles'!D78","v":1.0416666666666652}]
[null,"t=72",{"$f":"'Unserved Vehicles'!C79","v":1.0416666666666652},{"$f":"'Unserved Vehicles'!D79","v":1.0520833333333319}]
[null,"t=73",{"$f":"'Unserved Vehicles'!C80","v":1.0520833333333319},{"$f":"'Unserved Vehicles'!D80","v":1.0624999999999987}]
[null,"t=74",{"$f":"'Unserved Vehicles'!C81","v":1.0624999999999987},{"$f":"'Unserved Vehicles'!D81","v":1.0729166666666654}]
[null,"t=75",{"$f":"'Unserved Vehicles'!C82","v":1.0729166666666654},{"$f":"'Unserved Vehicles'!D82","v":1.0833333333333321}]
[null,"t=76",{"$f":"'Unserved Vehicles'!C83","v":1.0833333333333321},{"$f":"'Unserved Vehicles'!D83","v":1.0937499999999989}]
[null,"t=77",{"$f":"'Unserved Vehicles'!C84","v":1.0937499999999989},{"$f":"'Unserved Vehicles'!D84","v":1.1041666666666656}]
[null,"t=78",{"$f":"'Unserved Vehicles'!C85","v":1.1041666666666656},{"$f":"'Unserved Vehicles'!D85","v":1.1145833333333324}]
[null,"t=79",{"$f":"'Unserved Vehicles'!C86","v":1.1145833333333324},{"$f":"'Unserved Vehicles'!D86","v":1.1249999999999991}]
[null,"t=80",{"$f":"'Unserved Vehicles'!C87","v":1.1249999999999991},{"$f":"'Unserved Vehicles'!D87","v":1.1354166666666659}]
[null,"t=81",{"$f":"'Unserved Vehicles'!C88","v":1.1354166666666659},{"$f":"'Unserved Vehicles'!D88","v":1.1458333333333326}]
[null,"t=82",{"$f":"'Unserved Vehicles'!C89","v":1.1458333333333326},{"$f":"'Unserved Vehicles'!D89","v":1.1562499999999993}]
[null,"t=83",{"$f":"'Unserved Vehicles'!C90","v":1.1562499999999993},{"$f":"'Unserved Vehicles'!D90","v":1.1666666666666661}]
[null,"t=84",{"$f":"'Unserved Vehicles'!C91","v":1.1666666666666661},{"$f":"'Unserved Vehicles'!D91","v":1.1770833333333328}]
[null,"t=85",{"$f":"'Unserved Vehicles'!C92","v":1.1770833333333328},{"$f":"'Unserved Vehicles'!D92","v":1.1874999999999996}]
[null,"t=86",{"$f":"'Unserved Vehicles'!C93","v":1.1874999999999996},{"$f":"'Unserved Vehicles'!D93","v":1.1979166666666663}]
[null,"t=87",{"$f":"'Unserved Vehicles'!C94","v":1.1979166666666663},{"$f":"'Unserved Vehicles'!D94","v":1.208333333333333}]
[null,"t=88",{"$f":"'Unserved Vehicles'!C95","v":1.208333333333333},{"$f":"'Unserved Vehicles'!D95","v":1.2187499999999998}]
[null,"t=89",{"$f":"'Unserved Vehicles'!C96","v":1.2187499999999998},{"$f":"'Unserved Vehicles'!D96","v":1.2291666666666665}]
[null,"t=90",{"$f":"'Unserved Vehicles'!C97","v":1.2291666666666665},{"$f":"'Unserved Vehicles'!D97","v":1.2395833333333333}]
[null,"t=91",{"$f":"'Unserved Vehicles'!C98","v":1.2395833333333333},{"$f":"'Unserved Vehicles'!D98","v":1.25}]
[null,"t=92",{"$f":"'Unserved Vehicles'!C99","v":1.25},{"$f":"'Unserved Vehicles'!D99","v":1.2604166666666667}]
[null,"t=93",{"$f":"'Unserved Vehicles'!C100","v":1.2604166666666667},{"$f":"'Unserved Vehicles'!D100","v":1.2708333333333335}]
[null,"t=94",{"$f":"'Unserved Vehicles'!C101","v":1.2708333333333335},{"$f":"'Unserved Vehicles'!D101","v":1.2812500000000002}]
[null,"t=95",{"$f":"'Unserved Vehicles'!C102","v":1.2812500000000002},{"$f":"'Unserved Vehicles'!D102","v":1.291666666666667}]
[null,"t=96",{"$f":"'Unserved Vehicles'!C103","v":1.291666666666667},{"$f":"'Unserved Vehicles'!D103","v":1.3020833333333337}]
[]
[]
[null,"Direction 6:"]
[null,"Feature #:",null,null,1,2,3,4,5]
[null,"Feature Name:"]
[null,"Feature Type:",null,null,"Int.","Link","Int.","Link","Int."]
[null,"t=1",{"$f":"C8","v":"07:15:00"},{"$f":"D8","v":"07:30:00"},null,"F",null,"F"]
[null,"t=2",{"$f":"C9","v":"07:30:00"},"07:45:00",null,"E",null,"E"]
[null,"t=3","07:45:00","08:00:00",null,"E",null,"E"]
[null,"t=4","08:00:00","08:15:00",null,"E",null,"E"]
[null,"t=5","08:15:00","08:30:00",null,"E",null,"F"]
[null,"t=6","08:30:00","08:45:00",null,"E",null,"F"]
[null,"t=7","08:45:00","09:00:00",null,"E",null,"F"]
[null,"t=8","09:00:00","09:15:00",null,"E",null,"E"]
[null,"t=9","09:15:00","09:30:00",null,null,"E","E"]
[null,"t=10","09:30:00","09:45:00",null,null,"E","E"]
[null,"t=11","09:45:00","10:00:00",null,null,"E","E"]
[null,"t=12","10:00:00","10:15:00",null,null,"E","E"]
[null,"t=13","10:15:00","10:30:00",null,null,"E","E"]
[null,"t=14","10:30:00","10:45:00",null,null,"E","E"]
[null,"t=15","10:45:00","11:00:00",null,null,"E","E"]
[null,"t=16","11:00:00","11:15:00",null,null,"E","E"]
[null,"t=17","11:15:00","11:30:00",null,null,"E","E"]
[null,"t=18","11:30:00","11:45:00",null,null,"E","E"]
[null,"t=19","11:45:00","12:00:00",null,null,"E","E"]
[null,"t=20","12:00:00","12:15:00",null,null,"E","E"]
[null,"t=21","12:15:00","12:30:00"]
[null,"t=22","12:30:00","12:45:00"]
[null,"t=23","12:45:00","13:00:00"]
[null,"t=24","13:00:00","13:15:00"]
[null,"t=25","13:15:00","13:30:00"]
[null,"t=26","13:30:00","13:45:00"]
[null,"t=27","13:45:00","14:00:00"]
[null,"t=28","14:00:00","14:15:00"]
[null,"t=29","14:15:00","14:30:00"]
[null,"t=30","14:30:00","14:45:00"]
[null,"t=31","14:45:00","15:00:00"]
[null,"t=32","15:00:00","15:15:00"]
[null,"t=33","15:15:00","15:30:00"]
[null,"t=34","15:30:00","15:45:00"]
[null,"t=35","15:45:00","16:00:00"]
[null,"t=36","16:00:00","16:15:00"]
[null,"t=37","16:15:00","16:30:00"]
[null,"t=38","16:30:00","16:45:00"]
[null,"t=39","16:45:00","17:00:00"]
[null,"t=40","17:00:00","17:15:00"]
[null,"t=41","17:15:00","17:30:00"]
[null,"t=42","17:30:00","17:45:00"]
[null,"t=43","17:45:00","18:00:00"]
[null,"t=44","18:00:00","18:15:00"]
[null,"t=45","18:15:00","18:30:00"]
[null,"t=46","18:30:00","18:45:00"]
[null,"t=47","18:45:00","19:00:00"]
[null,"t=48","19:00:00","19:15:00"]
[null,"t=49","19:15:00","19:30:00"]
[null,"t=50","19:30:00","19:45:00"]
[null,"t=51","19:45:00","20:00:00"]
[null,"t=52","20:00:00","20:15:00"]
[null,"t=53","20:15:00","20:30:00"]
[null,"t=54","20:30:00","20:45:00"]
[null,"t=55","20:45:00","21:00:00"]
[null,"t=56","21:00:00","21:15:00"]
[null,"t=57","21:15:00","21:30:00"]
[null,"t=58","21:30:00","21:45:00"]
[null,"t=59","21:45:00","22:00:00"]
[null,"t=60","22:00:00","22:15:00"]
[null,"t=61","22:15:00","22:30:00"]
[null,"t=62","22:30:00","22:45:00"]
[null,"t=63","22:45:00","23:00:00"]
[null,"t=64","23:00:00","23:15:00"]
[null,"t=65","23:15:00","23:30:00"]
[null,"t=66",{"$f":"C73","v":"23:30:00"},"23:45:00"]
[null,"t=67","23:45:00",0.99999999999999822]
[null,"t=68",0.99999999999999822,1.010416666666665]
[null,"t=69",1.010416666666665,1.0208333333333317]
[null,"t=70",1.0208333333333317,1.0312499999999984]
[null,"t=71",1.0312499999999984,1.0416666666666652]
[null,"t=72",1.0416666666666652,1.0520833333333319]
[null,"t=73",1.0520833333333319,1.0624999999999987]
[null,"t=74",1.0624999999999987,1.0729166666666654]
[null,"t=75",1.0729166666666654,1.0833333333333321]
[null,"t=76",1.0833333333333321,1.0937499999999989]
[null,"t=77",1.0937499999999989,1.1041666666666656]
[null,"t=78",1.1041666666666656,1.1145833333333324]
[null,"t=79",1.1145833333333324,1.1249999999999991]
[null,"t=80",1.1249999999999991,1.1354166666666659]
[null,"t=81",1.1354166666666659,1.1458333333333326]
[null,"t=82",{"$f":"C89","v":1.1458333333333326},1.1562499999999993]
[null,"t=83",1.1562499999999993,1.1666666666666661]
[null,"t=84",1.1666666666666661,1.1770833333333328]
[null,"t=85",1.1770833333333328,1.1874999999999996]
[null,"t=86",1.1874999999999996,1.1979166666666663]
[null,"t=87",1.1979166666666663,1.208333333333333]
[null,"t=88",1.208333333333333,1.2187499999999998]
[null,"t=89",1.2187499999999998,1.2291666666666665]
[null,"t=90",1.2291666666666665,1.2395833333333333]
[null,"t=91",1.2395833333333333,1.25]
[null,"t=92",1.25,1.2604166666666667]
[null,"t=93",1.2604166666666667,1.2708333333333335]
[null,"t=94",1.2708333333333335,1.2812500000000002]
[null,"t=95",1.2812500000000002,1.291666666666667]
[null,"t=96",1.291666666666667,1.3020833333333337]